


BEGIN:VCALENDAR
VERSION:2.0
PRODID:-//Lime Rock Park - ECPv6.15.20//NONSGML v1.0//EN
CALSCALE:GREGORIAN
METHOD:PUBLISH
X-ORIGINAL-URL:https://limerock.com
X-WR-CALDESC:Events for Lime Rock Park
REFRESH-INTERVAL;VALUE=DURATION:PT1H
X-Robots-Tag:noindex
X-PUBLISHED-TTL:PT1H
BEGIN:VTIMEZONE
TZID:America/New_York
BEGIN:DAYLIGHT
TZOFFSETFROM:-0500
TZOFFSETTO:-0400
TZNAME:EDT
DTSTART:20210314T070000
END:DAYLIGHT
BEGIN:STANDARD
TZOFFSETFROM:-0400
TZOFFSETTO:-0500
TZNAME:EST
DTSTART:20211107T060000
END:STANDARD
BEGIN:DAYLIGHT
TZOFFSETFROM:-0500
TZOFFSETTO:-0400
TZNAME:EDT
DTSTART:20220313T070000
END:DAYLIGHT
BEGIN:STANDARD
TZOFFSETFROM:-0400
TZOFFSETTO:-0500
TZNAME:EST
DTSTART:20221106T060000
END:STANDARD
BEGIN:DAYLIGHT
TZOFFSETFROM:-0500
TZOFFSETTO:-0400
TZNAME:EDT
DTSTART:20230312T070000
END:DAYLIGHT
BEGIN:STANDARD
TZOFFSETFROM:-0400
TZOFFSETTO:-0500
TZNAME:EST
DTSTART:20231105T060000
END:STANDARD
END:VTIMEZONE
BEGIN:VEVENT
DTSTART;TZID=America/New_York:20220422T090000
DTEND;TZID=America/New_York:20220422T180000
DTSTAMP:20260424T083157
CREATED:20220210T020045Z
LAST-MODIFIED:20220210T022612Z
UID:884-1650618000-1650650400@limerock.com
SUMMARY:PCA Connecticut Valley Region Races
DESCRIPTION:Day one of Porsche Club of America Connecticut Valley Region club races. For more information\, please visit https://cvrpca.com/
URL:https://limerock.com/event/pca-connecticut-valley-region-races/
LOCATION:Lime Rock Park
END:VEVENT
BEGIN:VEVENT
DTSTART;TZID=America/New_York:20220422T090000
DTEND;TZID=America/New_York:20220422T180000
DTSTAMP:20260424T083157
CREATED:20220210T020457Z
LAST-MODIFIED:20220210T022639Z
UID:885-1650618000-1650650400@limerock.com
SUMMARY:Velocity Driving AX
DESCRIPTION:Velocity Driving – the #1 rated exotic car experience on the east coast – is back for another autocross day on the FCP Euro Proving Grounds. For more information & registration\, visit https://velocitydriving.com/
URL:https://limerock.com/event/velocity-driving-ax/
LOCATION:FCP Euro Proving Grounds
END:VEVENT
END:VCALENDAR