


BEGIN:VCALENDAR
VERSION:2.0
PRODID:-//Lime Rock Park - ECPv6.15.20//NONSGML v1.0//EN
CALSCALE:GREGORIAN
METHOD:PUBLISH
X-ORIGINAL-URL:https://limerock.com
X-WR-CALDESC:Events for Lime Rock Park
REFRESH-INTERVAL;VALUE=DURATION:PT1H
X-Robots-Tag:noindex
X-PUBLISHED-TTL:PT1H
BEGIN:VTIMEZONE
TZID:America/New_York
BEGIN:DAYLIGHT
TZOFFSETFROM:-0500
TZOFFSETTO:-0400
TZNAME:EDT
DTSTART:20210314T070000
END:DAYLIGHT
BEGIN:STANDARD
TZOFFSETFROM:-0400
TZOFFSETTO:-0500
TZNAME:EST
DTSTART:20211107T060000
END:STANDARD
BEGIN:DAYLIGHT
TZOFFSETFROM:-0500
TZOFFSETTO:-0400
TZNAME:EDT
DTSTART:20220313T070000
END:DAYLIGHT
BEGIN:STANDARD
TZOFFSETFROM:-0400
TZOFFSETTO:-0500
TZNAME:EST
DTSTART:20221106T060000
END:STANDARD
BEGIN:DAYLIGHT
TZOFFSETFROM:-0500
TZOFFSETTO:-0400
TZNAME:EDT
DTSTART:20230312T070000
END:DAYLIGHT
BEGIN:STANDARD
TZOFFSETFROM:-0400
TZOFFSETTO:-0500
TZNAME:EST
DTSTART:20231105T060000
END:STANDARD
END:VTIMEZONE
BEGIN:VEVENT
DTSTART;TZID=America/New_York:20220423T090000
DTEND;TZID=America/New_York:20220423T180000
DTSTAMP:20260422T052821
CREATED:20220214T175848Z
LAST-MODIFIED:20220214T175848Z
UID:951-1650704400-1650736800@limerock.com
SUMMARY:PCA Connecticut Valley Region Races
DESCRIPTION:Day two of Porsche Club of America Connecticut Valley Region club races. For more information\, please visit https://cvrpca.com/
URL:https://limerock.com/event/pca-connecticut-valley-region-races-0423/
LOCATION:Lime Rock Park
END:VEVENT
BEGIN:VEVENT
DTSTART;TZID=America/New_York:20220423T090000
DTEND;TZID=America/New_York:20220423T180000
DTSTAMP:20260422T052821
CREATED:20220214T175958Z
LAST-MODIFIED:20220214T180222Z
UID:952-1650704400-1650736800@limerock.com
SUMMARY:Velocity Driving AX
DESCRIPTION:Velocity Driving – the #1 rated exotic car experience on the east coast – is back for another autocross day on the FCP Euro Proving Grounds. For more information & registration\, visit https://velocitydriving.com/
URL:https://limerock.com/event/velocity0423/
LOCATION:FCP Euro Proving Grounds
END:VEVENT
END:VCALENDAR