


BEGIN:VCALENDAR
VERSION:2.0
PRODID:-//Lime Rock Park - ECPv6.15.20//NONSGML v1.0//EN
CALSCALE:GREGORIAN
METHOD:PUBLISH
X-ORIGINAL-URL:https://limerock.com
X-WR-CALDESC:Events for Lime Rock Park
REFRESH-INTERVAL;VALUE=DURATION:PT1H
X-Robots-Tag:noindex
X-PUBLISHED-TTL:PT1H
BEGIN:VTIMEZONE
TZID:America/New_York
BEGIN:DAYLIGHT
TZOFFSETFROM:-0500
TZOFFSETTO:-0400
TZNAME:EDT
DTSTART:20210314T070000
END:DAYLIGHT
BEGIN:STANDARD
TZOFFSETFROM:-0400
TZOFFSETTO:-0500
TZNAME:EST
DTSTART:20211107T060000
END:STANDARD
BEGIN:DAYLIGHT
TZOFFSETFROM:-0500
TZOFFSETTO:-0400
TZNAME:EDT
DTSTART:20220313T070000
END:DAYLIGHT
BEGIN:STANDARD
TZOFFSETFROM:-0400
TZOFFSETTO:-0500
TZNAME:EST
DTSTART:20221106T060000
END:STANDARD
BEGIN:DAYLIGHT
TZOFFSETFROM:-0500
TZOFFSETTO:-0400
TZNAME:EDT
DTSTART:20230312T070000
END:DAYLIGHT
BEGIN:STANDARD
TZOFFSETFROM:-0400
TZOFFSETTO:-0500
TZNAME:EST
DTSTART:20231105T060000
END:STANDARD
END:VTIMEZONE
BEGIN:VEVENT
DTSTART;TZID=America/New_York:20220901T090000
DTEND;TZID=America/New_York:20220905T170000
DTSTAMP:20260422T115322
CREATED:20220217T201737Z
LAST-MODIFIED:20220217T201926Z
UID:1095-1662022800-1662397200@limerock.com
SUMMARY:Historic Festival 40
DESCRIPTION:Celebrating its 40th year\, the Lime Rock Historic Festival launches into action over Labor Day weekend with a 17-mile tour through the area with Thursday’s Vintage Race Car and Sports Car Parade. Friday\, Saturday and Monday feature non-stop on-track competition a diverse set of historic racing classes. \nOn Sunday\, the Lime Rock Concours and Gathering of the Marques display nearly 1\,000 classic cars and motorcycles arranged around the Lime Rock circuit. \nThe 40th edition of the Lime Rock Historic Festival once again brings together an exciting and diverse field of historic racing machines for a Labor Day Weekend celebration of speed\, sound and beauty with classes that range from pre-war open-wheel cars to the sports and formula cars of the postwar era. \nMore than racing\, there’s also a swap meet\, automobilia concessions\, book signings featured speakers and more to enjoy over the long weekend. \nClick here for more information!
URL:https://limerock.com/event/hf40/
LOCATION:Lime Rock Park
CATEGORIES:Unmuffled
END:VEVENT
END:VCALENDAR