


BEGIN:VCALENDAR
VERSION:2.0
PRODID:-//Lime Rock Park - ECPv6.15.20//NONSGML v1.0//EN
CALSCALE:GREGORIAN
METHOD:PUBLISH
X-WR-CALNAME:Lime Rock Park
X-ORIGINAL-URL:https://limerock.com
X-WR-CALDESC:Events for Lime Rock Park
REFRESH-INTERVAL;VALUE=DURATION:PT1H
X-Robots-Tag:noindex
X-PUBLISHED-TTL:PT1H
BEGIN:VTIMEZONE
TZID:America/New_York
BEGIN:DAYLIGHT
TZOFFSETFROM:-0500
TZOFFSETTO:-0400
TZNAME:EDT
DTSTART:20220313T070000
END:DAYLIGHT
BEGIN:STANDARD
TZOFFSETFROM:-0400
TZOFFSETTO:-0500
TZNAME:EST
DTSTART:20221106T060000
END:STANDARD
BEGIN:DAYLIGHT
TZOFFSETFROM:-0500
TZOFFSETTO:-0400
TZNAME:EDT
DTSTART:20230312T070000
END:DAYLIGHT
BEGIN:STANDARD
TZOFFSETFROM:-0400
TZOFFSETTO:-0500
TZNAME:EST
DTSTART:20231105T060000
END:STANDARD
BEGIN:DAYLIGHT
TZOFFSETFROM:-0500
TZOFFSETTO:-0400
TZNAME:EDT
DTSTART:20240310T070000
END:DAYLIGHT
BEGIN:STANDARD
TZOFFSETFROM:-0400
TZOFFSETTO:-0500
TZNAME:EST
DTSTART:20241103T060000
END:STANDARD
END:VTIMEZONE
BEGIN:VEVENT
DTSTART;TZID=America/New_York:20230429T090000
DTEND;TZID=America/New_York:20230429T130000
DTSTAMP:20260421T135250
CREATED:20230313T185859Z
LAST-MODIFIED:20230313T190046Z
UID:3327-1682758800-1682773200@limerock.com
SUMMARY:Autocross Lapping Day AM
DESCRIPTION:Lime Rock Park’s Autocross Lapping Days on the FCP Euro Proving Grounds are back! An AM (9am-1pm) session will be run on April 29th. \nAn Autocross Lapping Days is four and a half to five hours of fun for individuals or groups looking to drive their own car (most participants use their street car) in a performance setting with minimal investment. \n\n$325 registration fee per driver\, with max enrollment of 25 drivers\nLed by 3 professional Instructors to keep the event running smoothly and provide\ndriving feedback when needed.\n\nThis program is for you if you’re looking for: \n\nAn abundance of driving time in a run-group format that is conducive to drivers of all skill levels\nThe fewest obstacles and smallest time investment to participate in a performance driving event\nAffordable\, entry-level price point that is a bargain for the driving time provided. You’ll go home tired\, but with a smile on your face!\n\nPlease click here for registration.
URL:https://limerock.com/event/autocross-lapping-day-am-3/
LOCATION:FCP Euro Proving Grounds
END:VEVENT
BEGIN:VEVENT
DTSTART;TZID=America/New_York:20230429T090000
DTEND;TZID=America/New_York:20230429T170000
DTSTAMP:20260421T135250
CREATED:20230313T185736Z
LAST-MODIFIED:20230313T185736Z
UID:3326-1682758800-1682787600@limerock.com
SUMMARY:BMW CCA Patroon HPDE
DESCRIPTION:BMW Car Club of America – Patroon Chapter will be holding an HPDE. For more information & registration\, please click here.
URL:https://limerock.com/event/bmw-cca-patroon-hpde/
LOCATION:Lime Rock Park
END:VEVENT
BEGIN:VEVENT
DTSTART;TZID=America/New_York:20230429T130000
DTEND;TZID=America/New_York:20230429T170000
DTSTAMP:20260421T135250
CREATED:20230313T190157Z
LAST-MODIFIED:20230313T190157Z
UID:3328-1682773200-1682787600@limerock.com
SUMMARY:Autocross Lapping Day PM
DESCRIPTION:Lime Rock Park’s Autocross Lapping Days on the FCP Euro Proving Grounds are back! An AM (1-5pm) session will be run on April 29th. \nAn Autocross Lapping Days is four and a half to five hours of fun for individuals or groups looking to drive their own car (most participants use their street car) in a performance setting with minimal investment. \n\n$325 registration fee per driver\, with max enrollment of 25 drivers\nLed by 3 professional Instructors to keep the event running smoothly and provide\ndriving feedback when needed.\n\nThis program is for you if you’re looking for: \n\nAn abundance of driving time in a run-group format that is conducive to drivers of all skill levels\nThe fewest obstacles and smallest time investment to participate in a performance driving event\nAffordable\, entry-level price point that is a bargain for the driving time provided. You’ll go home tired\, but with a smile on your face!\n\nPlease click here for registration.
URL:https://limerock.com/event/autocross-lapping-day-pm-3/
LOCATION:FCP Euro Proving Grounds
END:VEVENT
END:VCALENDAR