


BEGIN:VCALENDAR
VERSION:2.0
PRODID:-//Lime Rock Park - ECPv6.15.20//NONSGML v1.0//EN
CALSCALE:GREGORIAN
METHOD:PUBLISH
X-ORIGINAL-URL:https://limerock.com
X-WR-CALDESC:Events for Lime Rock Park
REFRESH-INTERVAL;VALUE=DURATION:PT1H
X-Robots-Tag:noindex
X-PUBLISHED-TTL:PT1H
BEGIN:VTIMEZONE
TZID:America/New_York
BEGIN:DAYLIGHT
TZOFFSETFROM:-0500
TZOFFSETTO:-0400
TZNAME:EDT
DTSTART:20220313T070000
END:DAYLIGHT
BEGIN:STANDARD
TZOFFSETFROM:-0400
TZOFFSETTO:-0500
TZNAME:EST
DTSTART:20221106T060000
END:STANDARD
BEGIN:DAYLIGHT
TZOFFSETFROM:-0500
TZOFFSETTO:-0400
TZNAME:EDT
DTSTART:20230312T070000
END:DAYLIGHT
BEGIN:STANDARD
TZOFFSETFROM:-0400
TZOFFSETTO:-0500
TZNAME:EST
DTSTART:20231105T060000
END:STANDARD
BEGIN:DAYLIGHT
TZOFFSETFROM:-0500
TZOFFSETTO:-0400
TZNAME:EDT
DTSTART:20240310T070000
END:DAYLIGHT
BEGIN:STANDARD
TZOFFSETFROM:-0400
TZOFFSETTO:-0500
TZNAME:EST
DTSTART:20241103T060000
END:STANDARD
END:VTIMEZONE
BEGIN:VEVENT
DTSTART;TZID=America/New_York:20230610T090000
DTEND;TZID=America/New_York:20230610T130000
DTSTAMP:20260421T145256
CREATED:20230605T152151Z
LAST-MODIFIED:20230605T153813Z
UID:3883-1686387600-1686402000@limerock.com
SUMMARY:Hooked on Driving (Unmuffled)
DESCRIPTION:Hooked on Driving is back for 2023 for one of their HPDE days! For more information & registration\, please click here.
URL:https://limerock.com/event/hooked-on-driving-unmuffled-2/
LOCATION:Lime Rock Park
END:VEVENT
BEGIN:VEVENT
DTSTART;TZID=America/New_York:20230610T090000
DTEND;TZID=America/New_York:20230610T170000
DTSTAMP:20260421T145256
CREATED:20230601T174725Z
LAST-MODIFIED:20230605T160035Z
UID:3711-1686387600-1686416400@limerock.com
SUMMARY:BMW CCA - Boston Chapter - AX
DESCRIPTION:AC3 – FCP EURO: Advanced Car Control Clinic \nThis clinic is being organized by BMW CCA – Boston Chapter. For more information please click the link below.
URL:https://limerock.com/event/ac3-fcp-euro-advanced-car-control-clinic/
LOCATION:FCP Euro Proving Grounds
END:VEVENT
BEGIN:VEVENT
DTSTART;TZID=America/New_York:20230610T090000
DTEND;TZID=America/New_York:20230610T170000
DTSTAMP:20260421T145256
CREATED:20230605T160309Z
LAST-MODIFIED:20230605T160309Z
UID:3888-1686387600-1686416400@limerock.com
SUMMARY:BMW CCA Street Survival
DESCRIPTION:The primary emphasis of the Tire Rack Street Survival® program is a “hands-on” driving experience in real-world situations! We use your own car to teach you about its handling limits and how you can control them. The students will become more observant of the traffic situation they find themselves in. They will learn to look far enough ahead to anticipate unwise actions of other drivers. As the students master the application of physics to drive their cars\, they will make fewer unwise driving actions themselves. They will understand why they should always wear their own seatbelts\, and why they should insist that their passengers wear seatbelts\, too. B Paddock
URL:https://limerock.com/event/bmw-cca-street-survival/
LOCATION:Lime Rock Park
END:VEVENT
BEGIN:VEVENT
DTSTART;TZID=America/New_York:20230610T130000
DTEND;TZID=America/New_York:20230610T170000
DTSTAMP:20260421T145256
CREATED:20230601T174410Z
LAST-MODIFIED:20230601T174410Z
UID:3710-1686402000-1686416400@limerock.com
SUMMARY:Lime Rock Drivers Club Lapping Day (Unmuffled)
DESCRIPTION:The Lime Rock Drivers Club is hosting one of their regular\, unmuffled track days. Looking to get out onto Lime Rock Park more frequently? Visit limerockclub.com to learn more about becoming a Drivers Club member.
URL:https://limerock.com/event/lime-rock-drivers-club-lapping-day-unmuffled-3/
LOCATION:Lime Rock Park
CATEGORIES:Lime Rock Drivers Club,Unmuffled
END:VEVENT
END:VCALENDAR