


BEGIN:VCALENDAR
VERSION:2.0
PRODID:-//Lime Rock Park - ECPv6.15.20//NONSGML v1.0//EN
CALSCALE:GREGORIAN
METHOD:PUBLISH
X-WR-CALNAME:Lime Rock Park
X-ORIGINAL-URL:https://limerock.com
X-WR-CALDESC:Events for Lime Rock Park
REFRESH-INTERVAL;VALUE=DURATION:PT1H
X-Robots-Tag:noindex
X-PUBLISHED-TTL:PT1H
BEGIN:VTIMEZONE
TZID:America/New_York
BEGIN:DAYLIGHT
TZOFFSETFROM:-0500
TZOFFSETTO:-0400
TZNAME:EDT
DTSTART:20220313T070000
END:DAYLIGHT
BEGIN:STANDARD
TZOFFSETFROM:-0400
TZOFFSETTO:-0500
TZNAME:EST
DTSTART:20221106T060000
END:STANDARD
BEGIN:DAYLIGHT
TZOFFSETFROM:-0500
TZOFFSETTO:-0400
TZNAME:EDT
DTSTART:20230312T070000
END:DAYLIGHT
BEGIN:STANDARD
TZOFFSETFROM:-0400
TZOFFSETTO:-0500
TZNAME:EST
DTSTART:20231105T060000
END:STANDARD
BEGIN:DAYLIGHT
TZOFFSETFROM:-0500
TZOFFSETTO:-0400
TZNAME:EDT
DTSTART:20240310T070000
END:DAYLIGHT
BEGIN:STANDARD
TZOFFSETFROM:-0400
TZOFFSETTO:-0500
TZNAME:EST
DTSTART:20241103T060000
END:STANDARD
END:VTIMEZONE
BEGIN:VEVENT
DTSTART;TZID=America/New_York:20230918T090000
DTEND;TZID=America/New_York:20230918T170000
DTSTAMP:20260421T083232
CREATED:20230601T200005Z
LAST-MODIFIED:20230601T200005Z
UID:3836-1695027600-1695056400@limerock.com
SUMMARY:Skip Barber Racing School - 1 Day - Mustang GT
DESCRIPTION:From Skip Barber Racing School: \nThe One Day Racing School is the perfect program for the person new to racing. This day long experience allows the driver to experience our race prepared school cars on the race track. This school begins with an in-depth classroom session going over the racing line and vehicle dynamics. The program rapidly picks up the pace as you experience the thrill these high horsepower\, high grip race cars with lead follow laps on the race track! This is the ideal program for helping the motorsport enthusiast. \nFor more information & registration\, please click here.
URL:https://limerock.com/event/skip-barber-racing-school-1-day-mustang-gt-5/
LOCATION:Lime Rock Park
END:VEVENT
BEGIN:VEVENT
DTSTART;TZID=America/New_York:20230918T090000
DTEND;TZID=America/New_York:20230920T170000
DTSTAMP:20260421T083232
CREATED:20230601T200109Z
LAST-MODIFIED:20230601T200109Z
UID:3838-1695027600-1695229200@limerock.com
SUMMARY:Skip Barber 3 Day Racing School
DESCRIPTION:From Skip Barber Racing School: \nThe Three Day Racing School is every driver’s gateway to motorsports and racing. This is Skip Barber Racing School’s signature product – with a curriculum that combines classroom sessions with practical hands on seat time. The Three Day Racing School is a prerequisite for racers interested in obtaining a club\, professional or international racing license. In this unique program\, students master the fundamentals of racing in classroom and driving sessions. The cars used in the program are our race prepared Mustang GT School Cars. The School Car has braking and cornering capabilities that vastly exceed any street or sports car. \nFor more information & registration\, please click here.
URL:https://limerock.com/event/skip-barber-3-day-racing-school/
LOCATION:Lime Rock Park
END:VEVENT
END:VCALENDAR