


BEGIN:VCALENDAR
VERSION:2.0
PRODID:-//Lime Rock Park - ECPv6.15.20//NONSGML v1.0//EN
CALSCALE:GREGORIAN
METHOD:PUBLISH
X-ORIGINAL-URL:https://limerock.com
X-WR-CALDESC:Events for Lime Rock Park
REFRESH-INTERVAL;VALUE=DURATION:PT1H
X-Robots-Tag:noindex
X-PUBLISHED-TTL:PT1H
BEGIN:VTIMEZONE
TZID:America/New_York
BEGIN:DAYLIGHT
TZOFFSETFROM:-0500
TZOFFSETTO:-0400
TZNAME:EDT
DTSTART:20230312T070000
END:DAYLIGHT
BEGIN:STANDARD
TZOFFSETFROM:-0400
TZOFFSETTO:-0500
TZNAME:EST
DTSTART:20231105T060000
END:STANDARD
BEGIN:DAYLIGHT
TZOFFSETFROM:-0500
TZOFFSETTO:-0400
TZNAME:EDT
DTSTART:20240310T070000
END:DAYLIGHT
BEGIN:STANDARD
TZOFFSETFROM:-0400
TZOFFSETTO:-0500
TZNAME:EST
DTSTART:20241103T060000
END:STANDARD
BEGIN:DAYLIGHT
TZOFFSETFROM:-0500
TZOFFSETTO:-0400
TZNAME:EDT
DTSTART:20250309T070000
END:DAYLIGHT
BEGIN:STANDARD
TZOFFSETFROM:-0400
TZOFFSETTO:-0500
TZNAME:EST
DTSTART:20251102T060000
END:STANDARD
END:VTIMEZONE
BEGIN:VEVENT
DTSTART;VALUE=DATE:20240503
DTEND;VALUE=DATE:20240504
DTSTAMP:20260422T061729
CREATED:20240126T190449Z
LAST-MODIFIED:20240126T190523Z
UID:4849-1714694400-1714780799@limerock.com
SUMMARY:LRDC HPDE ALT 10am
DESCRIPTION:LRDC will be on track every other hour starting at 10am.  Opposite VSCCA. \nContact the Club Administrator to schedule your day.
URL:https://limerock.com/event/lrdc-hpde-4-4/
LOCATION:Lime Rock Park
CATEGORIES:Lime Rock Drivers Club
END:VEVENT
BEGIN:VEVENT
DTSTART;TZID=America/New_York:20240503T090000
DTEND;TZID=America/New_York:20240503T130000
DTSTAMP:20260422T061729
CREATED:20240220T213338Z
LAST-MODIFIED:20240220T213338Z
UID:5053-1714726800-1714741200@limerock.com
SUMMARY:Autocross Lapping Day AM
DESCRIPTION:Drive your street car\, racecar or rented vehicle on the FCP Euro Proving Grounds in our Summer Autocross program. \nLime Rock Park’s Autocross Lapping Days are your ticket to go all-out on the FCP Euro Proving Grounds. \n\n.52-mile track (not cones in a parking lot) that can be run in seven different configurations\nSmooth grass surrounds the course so drivers are able to explore the limit\nPrograms for all experience levels starting at $275\, with max enrollment of 25 drivers.\nLed by 3 professional Instructors to keep the event running smoothly and provide\ndriving feedback when needed.\nSet a top time in our LIQUI MOLY Summer Autocross Series to be invited back for the LIQUI MOLY Autocross Invitational Shootout!
URL:https://limerock.com/event/autocross-lapping-day-pm-7-3-2/
LOCATION:FCP Euro Proving Grounds
END:VEVENT
BEGIN:VEVENT
DTSTART;TZID=America/New_York:20240503T090000
DTEND;TZID=America/New_York:20240504T170000
DTSTAMP:20260422T061729
CREATED:20240126T195921Z
LAST-MODIFIED:20240126T195921Z
UID:4893-1714726800-1714842000@limerock.com
SUMMARY:VSCCA Spring Sprints
DESCRIPTION:
URL:https://limerock.com/event/vscca-spring-sprints-2/
LOCATION:Lime Rock Park
END:VEVENT
END:VCALENDAR