


BEGIN:VCALENDAR
VERSION:2.0
PRODID:-//Lime Rock Park - ECPv6.15.20//NONSGML v1.0//EN
CALSCALE:GREGORIAN
METHOD:PUBLISH
X-WR-CALNAME:Lime Rock Park
X-ORIGINAL-URL:https://limerock.com
X-WR-CALDESC:Events for Lime Rock Park
REFRESH-INTERVAL;VALUE=DURATION:PT1H
X-Robots-Tag:noindex
X-PUBLISHED-TTL:PT1H
BEGIN:VTIMEZONE
TZID:America/New_York
BEGIN:DAYLIGHT
TZOFFSETFROM:-0500
TZOFFSETTO:-0400
TZNAME:EDT
DTSTART:20230312T070000
END:DAYLIGHT
BEGIN:STANDARD
TZOFFSETFROM:-0400
TZOFFSETTO:-0500
TZNAME:EST
DTSTART:20231105T060000
END:STANDARD
BEGIN:DAYLIGHT
TZOFFSETFROM:-0500
TZOFFSETTO:-0400
TZNAME:EDT
DTSTART:20240310T070000
END:DAYLIGHT
BEGIN:STANDARD
TZOFFSETFROM:-0400
TZOFFSETTO:-0500
TZNAME:EST
DTSTART:20241103T060000
END:STANDARD
BEGIN:DAYLIGHT
TZOFFSETFROM:-0500
TZOFFSETTO:-0400
TZNAME:EDT
DTSTART:20250309T070000
END:DAYLIGHT
BEGIN:STANDARD
TZOFFSETFROM:-0400
TZOFFSETTO:-0500
TZNAME:EST
DTSTART:20251102T060000
END:STANDARD
END:VTIMEZONE
BEGIN:VEVENT
DTSTART;TZID=America/New_York:20240712T090000
DTEND;TZID=America/New_York:20240713T180000
DTSTAMP:20260421T175651
CREATED:20240423T210656Z
LAST-MODIFIED:20240625T173839Z
UID:5395-1720774800-1720893600@limerock.com
SUMMARY:NASA Northeast UM
DESCRIPTION:NASANE Track Schedule
URL:https://limerock.com/event/nasa-northeast/
LOCATION:Lime Rock Park
CATEGORIES:Unmuffled
END:VEVENT
BEGIN:VEVENT
DTSTART;TZID=America/New_York:20240712T130000
DTEND;TZID=America/New_York:20240712T170000
DTSTAMP:20260421T175651
CREATED:20240221T161542Z
LAST-MODIFIED:20240221T161542Z
UID:5078-1720789200-1720803600@limerock.com
SUMMARY:Autocross Lapping Day PM
DESCRIPTION:Drive your street car\, racecar or rented vehicle on the FCP Euro Proving Grounds in our Summer Autocross program. \nLime Rock Park’s Autocross Lapping Days are your ticket to go all-out on the FCP Euro Proving Grounds. \n\n.52-mile track (not cones in a parking lot) that can be run in seven different configurations\nSmooth grass surrounds the course so drivers are able to explore the limit\nPrograms for all experience levels starting at $275\, with max enrollment of 25 drivers.\nLed by 3 professional Instructors to keep the event running smoothly and provide\ndriving feedback when needed.\nSet a top time in our LIQUI MOLY Summer Autocross Series to be invited back for the LIQUI MOLY Autocross Invitational Shootout!
URL:https://limerock.com/event/autocross-lapping-day-pm-7-4-2-2-2-2-2-2-3/
LOCATION:FCP Euro Proving Grounds
END:VEVENT
END:VCALENDAR