


BEGIN:VCALENDAR
VERSION:2.0
PRODID:-//Lime Rock Park - ECPv6.15.20//NONSGML v1.0//EN
CALSCALE:GREGORIAN
METHOD:PUBLISH
X-WR-CALNAME:Lime Rock Park
X-ORIGINAL-URL:https://limerock.com
X-WR-CALDESC:Events for Lime Rock Park
REFRESH-INTERVAL;VALUE=DURATION:PT1H
X-Robots-Tag:noindex
X-PUBLISHED-TTL:PT1H
BEGIN:VTIMEZONE
TZID:America/New_York
BEGIN:DAYLIGHT
TZOFFSETFROM:-0500
TZOFFSETTO:-0400
TZNAME:EDT
DTSTART:20230312T070000
END:DAYLIGHT
BEGIN:STANDARD
TZOFFSETFROM:-0400
TZOFFSETTO:-0500
TZNAME:EST
DTSTART:20231105T060000
END:STANDARD
BEGIN:DAYLIGHT
TZOFFSETFROM:-0500
TZOFFSETTO:-0400
TZNAME:EDT
DTSTART:20240310T070000
END:DAYLIGHT
BEGIN:STANDARD
TZOFFSETFROM:-0400
TZOFFSETTO:-0500
TZNAME:EST
DTSTART:20241103T060000
END:STANDARD
BEGIN:DAYLIGHT
TZOFFSETFROM:-0500
TZOFFSETTO:-0400
TZNAME:EDT
DTSTART:20250309T070000
END:DAYLIGHT
BEGIN:STANDARD
TZOFFSETFROM:-0400
TZOFFSETTO:-0500
TZNAME:EST
DTSTART:20251102T060000
END:STANDARD
END:VTIMEZONE
BEGIN:VEVENT
DTSTART;TZID=America/New_York:20240823T090000
DTEND;TZID=America/New_York:20240823T160000
DTSTAMP:20260421T044224
CREATED:20240514T171537Z
LAST-MODIFIED:20240514T171537Z
UID:5465-1724403600-1724428800@limerock.com
SUMMARY:LRDC HPDE ALT 9am
DESCRIPTION:LRDC will be on track every other hour starting at 9am.  Opposite PCA MNY \nContact the Club Administrator to schedule your day.
URL:https://limerock.com/event/lrdc-hpde-4-4-2-2-2-2-2/
LOCATION:Lime Rock Park
CATEGORIES:Lime Rock Drivers Club
END:VEVENT
BEGIN:VEVENT
DTSTART;TZID=America/New_York:20240823T090000
DTEND;TZID=America/New_York:20240823T170000
DTSTAMP:20260421T044224
CREATED:20240221T161913Z
LAST-MODIFIED:20240221T163839Z
UID:5082-1724403600-1724432400@limerock.com
SUMMARY:Autocross Lapping Day AM & PM
DESCRIPTION:Drive your street car\, racecar or rented vehicle on the FCP Euro Proving Grounds in our Summer Autocross program. \nLime Rock Park’s Autocross Lapping Days are your ticket to go all-out on the FCP Euro Proving Grounds. \n\n.52-mile track (not cones in a parking lot) that can be run in seven different configurations\nSmooth grass surrounds the course so drivers are able to explore the limit\nPrograms for all experience levels starting at $275\, with max enrollment of 25 drivers.\nLed by 3 professional Instructors to keep the event running smoothly and provide\ndriving feedback when needed.\nSet a top time in our LIQUI MOLY Summer Autocross Series to be invited back for the LIQUI MOLY Autocross Invitational Shootout!\n\nAM –  https://limerockpark.motorsportreg.com/events/autocross-lapping-day-9am-1pm-lime-rock-park-663705 \nPM – https://limerockpark.motorsportreg.com/events/autocross-lapping-day-1pm-5pm-lime-rock-park-735721
URL:https://limerock.com/event/autocross-lapping-day-pm-7-2-4-2-3/
LOCATION:FCP Euro Proving Grounds
END:VEVENT
BEGIN:VEVENT
DTSTART;TZID=America/New_York:20240823T100000
DTEND;TZID=America/New_York:20240823T170000
DTSTAMP:20260421T044224
CREATED:20240423T205940Z
LAST-MODIFIED:20240423T210011Z
UID:5391-1724407200-1724432400@limerock.com
SUMMARY:Private Event - No Public Access
DESCRIPTION:
URL:https://limerock.com/event/private-event-no-public-access-16/
LOCATION:Lime Rock Park
END:VEVENT
END:VCALENDAR