


BEGIN:VCALENDAR
VERSION:2.0
PRODID:-//Lime Rock Park - ECPv6.15.20//NONSGML v1.0//EN
CALSCALE:GREGORIAN
METHOD:PUBLISH
X-WR-CALNAME:Lime Rock Park
X-ORIGINAL-URL:https://limerock.com
X-WR-CALDESC:Events for Lime Rock Park
REFRESH-INTERVAL;VALUE=DURATION:PT1H
X-Robots-Tag:noindex
X-PUBLISHED-TTL:PT1H
BEGIN:VTIMEZONE
TZID:America/New_York
BEGIN:DAYLIGHT
TZOFFSETFROM:-0500
TZOFFSETTO:-0400
TZNAME:EDT
DTSTART:20240310T070000
END:DAYLIGHT
BEGIN:STANDARD
TZOFFSETFROM:-0400
TZOFFSETTO:-0500
TZNAME:EST
DTSTART:20241103T060000
END:STANDARD
BEGIN:DAYLIGHT
TZOFFSETFROM:-0500
TZOFFSETTO:-0400
TZNAME:EDT
DTSTART:20250309T070000
END:DAYLIGHT
BEGIN:STANDARD
TZOFFSETFROM:-0400
TZOFFSETTO:-0500
TZNAME:EST
DTSTART:20251102T060000
END:STANDARD
BEGIN:DAYLIGHT
TZOFFSETFROM:-0500
TZOFFSETTO:-0400
TZNAME:EDT
DTSTART:20260308T070000
END:DAYLIGHT
BEGIN:STANDARD
TZOFFSETFROM:-0400
TZOFFSETTO:-0500
TZNAME:EST
DTSTART:20261101T060000
END:STANDARD
END:VTIMEZONE
BEGIN:VEVENT
DTSTART;TZID=America/New_York:20250508T100000
DTEND;TZID=America/New_York:20250508T120000
DTSTAMP:20260422T064054
CREATED:20250306T144027Z
LAST-MODIFIED:20250306T144027Z
UID:6627-1746698400-1746705600@limerock.com
SUMMARY:Track Tapas Day
DESCRIPTION:
URL:https://limerock.com/event/track-tapas-day-11/
END:VEVENT
BEGIN:VEVENT
DTSTART;TZID=America/New_York:20250508T140000
DTEND;TZID=America/New_York:20250508T180000
DTSTAMP:20260422T064054
CREATED:20250306T144028Z
LAST-MODIFIED:20250403T154313Z
UID:6628-1746712800-1746727200@limerock.com
SUMMARY:SCCA TNiA
DESCRIPTION:
URL:https://limerock.com/event/scca-tnia-2/
LOCATION:Lime Rock Park
END:VEVENT
END:VCALENDAR