


BEGIN:VCALENDAR
VERSION:2.0
PRODID:-//Lime Rock Park - ECPv6.15.20//NONSGML v1.0//EN
CALSCALE:GREGORIAN
METHOD:PUBLISH
X-ORIGINAL-URL:https://limerock.com
X-WR-CALDESC:Events for Lime Rock Park
REFRESH-INTERVAL;VALUE=DURATION:PT1H
X-Robots-Tag:noindex
X-PUBLISHED-TTL:PT1H
BEGIN:VTIMEZONE
TZID:America/New_York
BEGIN:DAYLIGHT
TZOFFSETFROM:-0500
TZOFFSETTO:-0400
TZNAME:EDT
DTSTART:20240310T070000
END:DAYLIGHT
BEGIN:STANDARD
TZOFFSETFROM:-0400
TZOFFSETTO:-0500
TZNAME:EST
DTSTART:20241103T060000
END:STANDARD
BEGIN:DAYLIGHT
TZOFFSETFROM:-0500
TZOFFSETTO:-0400
TZNAME:EDT
DTSTART:20250309T070000
END:DAYLIGHT
BEGIN:STANDARD
TZOFFSETFROM:-0400
TZOFFSETTO:-0500
TZNAME:EST
DTSTART:20251102T060000
END:STANDARD
BEGIN:DAYLIGHT
TZOFFSETFROM:-0500
TZOFFSETTO:-0400
TZNAME:EDT
DTSTART:20260308T070000
END:DAYLIGHT
BEGIN:STANDARD
TZOFFSETFROM:-0400
TZOFFSETTO:-0500
TZNAME:EST
DTSTART:20261101T060000
END:STANDARD
END:VTIMEZONE
BEGIN:VEVENT
DTSTART;TZID=America/New_York:20250920T090000
DTEND;TZID=America/New_York:20250920T130000
DTSTAMP:20260423T175233
CREATED:20250306T162124Z
LAST-MODIFIED:20250306T162124Z
UID:6807-1758358800-1758373200@limerock.com
SUMMARY:Autocross Lapping Day
DESCRIPTION:
URL:https://limerock.com/event/autocross-lapping-day-65/
LOCATION:FCP Euro Proving Grounds
END:VEVENT
BEGIN:VEVENT
DTSTART;TZID=America/New_York:20250920T090000
DTEND;TZID=America/New_York:20250920T160000
DTSTAMP:20260423T175233
CREATED:20250909T193310Z
LAST-MODIFIED:20250909T193310Z
UID:7651-1758358800-1758384000@limerock.com
SUMMARY:Burnout Motorsport (A9)
DESCRIPTION:Burnout HPDE at Lime Rock Park\nhttps://www.motorsportreg.com/events/burnout-hpde-at-lime-rock-park-motorsport-106679 \nHigh Performance Driving Event (HPDE) @ Lime Rock Park\, Muffled 88DB Strictly Enforced (unfortunately) \n If you don’t have a car\, we have track-prepped vehicles available for rent. Inquire at info@burnoutmotorsport.com. 
URL:https://limerock.com/event/burnout-motorsport-a9-2/
LOCATION:Lime Rock Park
END:VEVENT
BEGIN:VEVENT
DTSTART;TZID=America/New_York:20250920T090000
DTEND;TZID=America/New_York:20250920T170000
DTSTAMP:20260423T175233
CREATED:20250306T162126Z
LAST-MODIFIED:20250306T162126Z
UID:6809-1758358800-1758387600@limerock.com
SUMMARY:FCSCC
DESCRIPTION:
URL:https://limerock.com/event/fcscc-8/
END:VEVENT
BEGIN:VEVENT
DTSTART;TZID=America/New_York:20250920T100000
DTEND;TZID=America/New_York:20250920T170000
DTSTAMP:20260423T175233
CREATED:20250306T162123Z
LAST-MODIFIED:20250909T192628Z
UID:6806-1758362400-1758387600@limerock.com
SUMMARY:LRDC (A10)
DESCRIPTION:Check back for confirmed on-track times. Contact the Club Administrator to schedule your day.
URL:https://limerock.com/event/lrdc-22/
LOCATION:Lime Rock Park
END:VEVENT
BEGIN:VEVENT
DTSTART;TZID=America/New_York:20250920T130000
DTEND;TZID=America/New_York:20250920T170000
DTSTAMP:20260423T175233
CREATED:20250306T162125Z
LAST-MODIFIED:20250306T162125Z
UID:6808-1758373200-1758387600@limerock.com
SUMMARY:Karting
DESCRIPTION:
URL:https://limerock.com/event/karting-18/
LOCATION:FCP Euro Proving Grounds
END:VEVENT
END:VCALENDAR