


BEGIN:VCALENDAR
VERSION:2.0
PRODID:-//Lime Rock Park - ECPv6.15.20//NONSGML v1.0//EN
CALSCALE:GREGORIAN
METHOD:PUBLISH
X-WR-CALNAME:Lime Rock Park
X-ORIGINAL-URL:https://limerock.com
X-WR-CALDESC:Events for Lime Rock Park
REFRESH-INTERVAL;VALUE=DURATION:PT1H
X-Robots-Tag:noindex
X-PUBLISHED-TTL:PT1H
BEGIN:VTIMEZONE
TZID:America/New_York
BEGIN:DAYLIGHT
TZOFFSETFROM:-0500
TZOFFSETTO:-0400
TZNAME:EDT
DTSTART:20240310T070000
END:DAYLIGHT
BEGIN:STANDARD
TZOFFSETFROM:-0400
TZOFFSETTO:-0500
TZNAME:EST
DTSTART:20241103T060000
END:STANDARD
BEGIN:DAYLIGHT
TZOFFSETFROM:-0500
TZOFFSETTO:-0400
TZNAME:EDT
DTSTART:20250309T070000
END:DAYLIGHT
BEGIN:STANDARD
TZOFFSETFROM:-0400
TZOFFSETTO:-0500
TZNAME:EST
DTSTART:20251102T060000
END:STANDARD
BEGIN:DAYLIGHT
TZOFFSETFROM:-0500
TZOFFSETTO:-0400
TZNAME:EDT
DTSTART:20260308T070000
END:DAYLIGHT
BEGIN:STANDARD
TZOFFSETFROM:-0400
TZOFFSETTO:-0500
TZNAME:EST
DTSTART:20261101T060000
END:STANDARD
END:VTIMEZONE
BEGIN:VEVENT
DTSTART;TZID=America/New_York:20251014T090000
DTEND;TZID=America/New_York:20251014T170000
DTSTAMP:20260420T153128
CREATED:20250306T162644Z
LAST-MODIFIED:20250306T162644Z
UID:6853-1760432400-1760461200@limerock.com
SUMMARY:Private Event - No Public Access
DESCRIPTION:
URL:https://limerock.com/event/private-event-no-public-access-49/
LOCATION:FCP Euro Proving Grounds
END:VEVENT
BEGIN:VEVENT
DTSTART;TZID=America/New_York:20251014T130000
DTEND;TZID=America/New_York:20251014T170000
DTSTAMP:20260420T153128
CREATED:20250306T162546Z
LAST-MODIFIED:20250306T162546Z
UID:6846-1760446800-1760461200@limerock.com
SUMMARY:LRDC UM
DESCRIPTION:Check back for confirmed on-track times. Contact the Club Administrator to schedule your day.
URL:https://limerock.com/event/lrdc-um-6/
LOCATION:Lime Rock Park
END:VEVENT
BEGIN:VEVENT
DTSTART;TZID=America/New_York:20251014T130000
DTEND;TZID=America/New_York:20251014T170000
DTSTAMP:20260420T153128
CREATED:20250306T162617Z
LAST-MODIFIED:20250306T162617Z
UID:6847-1760446800-1760461200@limerock.com
SUMMARY:Private Event - No Public Access
DESCRIPTION:
URL:https://limerock.com/event/private-event-no-public-access-48/
LOCATION:FCP Euro Proving Grounds
END:VEVENT
END:VCALENDAR