


BEGIN:VCALENDAR
VERSION:2.0
PRODID:-//Lime Rock Park - ECPv6.15.20//NONSGML v1.0//EN
CALSCALE:GREGORIAN
METHOD:PUBLISH
X-WR-CALNAME:Lime Rock Park
X-ORIGINAL-URL:https://limerock.com
X-WR-CALDESC:Events for Lime Rock Park
REFRESH-INTERVAL;VALUE=DURATION:PT1H
X-Robots-Tag:noindex
X-PUBLISHED-TTL:PT1H
BEGIN:VTIMEZONE
TZID:America/New_York
BEGIN:DAYLIGHT
TZOFFSETFROM:-0500
TZOFFSETTO:-0400
TZNAME:EDT
DTSTART:20240310T070000
END:DAYLIGHT
BEGIN:STANDARD
TZOFFSETFROM:-0400
TZOFFSETTO:-0500
TZNAME:EST
DTSTART:20241103T060000
END:STANDARD
BEGIN:DAYLIGHT
TZOFFSETFROM:-0500
TZOFFSETTO:-0400
TZNAME:EDT
DTSTART:20250309T070000
END:DAYLIGHT
BEGIN:STANDARD
TZOFFSETFROM:-0400
TZOFFSETTO:-0500
TZNAME:EST
DTSTART:20251102T060000
END:STANDARD
BEGIN:DAYLIGHT
TZOFFSETFROM:-0500
TZOFFSETTO:-0400
TZNAME:EDT
DTSTART:20260308T070000
END:DAYLIGHT
BEGIN:STANDARD
TZOFFSETFROM:-0400
TZOFFSETTO:-0500
TZNAME:EST
DTSTART:20261101T060000
END:STANDARD
END:VTIMEZONE
BEGIN:VEVENT
DTSTART;TZID=America/New_York:20251024T090000
DTEND;TZID=America/New_York:20251025T170000
DTSTAMP:20260423T185223
CREATED:20250306T162645Z
LAST-MODIFIED:20250306T162645Z
UID:6854-1761296400-1761411600@limerock.com
SUMMARY:MiataCon Race
DESCRIPTION:
URL:https://limerock.com/event/miatacon-race/
LOCATION:Lime Rock Park
END:VEVENT
BEGIN:VEVENT
DTSTART;TZID=America/New_York:20251025T090000
DTEND;TZID=America/New_York:20251025T130000
DTSTAMP:20260423T185223
CREATED:20250306T162734Z
LAST-MODIFIED:20250306T162734Z
UID:6857-1761382800-1761397200@limerock.com
SUMMARY:MiataX AM
DESCRIPTION:
URL:https://limerock.com/event/miatax-am-2/
LOCATION:FCP Euro Proving Grounds
END:VEVENT
BEGIN:VEVENT
DTSTART;TZID=America/New_York:20251025T130000
DTEND;TZID=America/New_York:20251025T170000
DTSTAMP:20260423T185223
CREATED:20250306T162735Z
LAST-MODIFIED:20250306T162735Z
UID:6858-1761397200-1761411600@limerock.com
SUMMARY:MiataX PM
DESCRIPTION:
URL:https://limerock.com/event/miatax-pm-2/
LOCATION:FCP Euro Proving Grounds
END:VEVENT
END:VCALENDAR