


BEGIN:VCALENDAR
VERSION:2.0
PRODID:-//Lime Rock Park - ECPv6.15.20//NONSGML v1.0//EN
CALSCALE:GREGORIAN
METHOD:PUBLISH
X-ORIGINAL-URL:https://limerock.com
X-WR-CALDESC:Events for Lime Rock Park
REFRESH-INTERVAL;VALUE=DURATION:PT1H
X-Robots-Tag:noindex
X-PUBLISHED-TTL:PT1H
BEGIN:VTIMEZONE
TZID:America/New_York
BEGIN:DAYLIGHT
TZOFFSETFROM:-0500
TZOFFSETTO:-0400
TZNAME:EDT
DTSTART:20250309T070000
END:DAYLIGHT
BEGIN:STANDARD
TZOFFSETFROM:-0400
TZOFFSETTO:-0500
TZNAME:EST
DTSTART:20251102T060000
END:STANDARD
BEGIN:DAYLIGHT
TZOFFSETFROM:-0500
TZOFFSETTO:-0400
TZNAME:EDT
DTSTART:20260308T070000
END:DAYLIGHT
BEGIN:STANDARD
TZOFFSETFROM:-0400
TZOFFSETTO:-0500
TZNAME:EST
DTSTART:20261101T060000
END:STANDARD
BEGIN:DAYLIGHT
TZOFFSETFROM:-0500
TZOFFSETTO:-0400
TZNAME:EDT
DTSTART:20270314T070000
END:DAYLIGHT
BEGIN:STANDARD
TZOFFSETFROM:-0400
TZOFFSETTO:-0500
TZNAME:EST
DTSTART:20271107T060000
END:STANDARD
END:VTIMEZONE
BEGIN:VEVENT
DTSTART;TZID=America/New_York:20260430T100000
DTEND;TZID=America/New_York:20260430T120000
DTSTAMP:20260419T092038
CREATED:20260323T133435Z
LAST-MODIFIED:20260323T133435Z
UID:8323-1777543200-1777550400@limerock.com
SUMMARY:Track Tapas
DESCRIPTION:Track Tapas Day is a two-hour educational experience behind the wheel of your own car on both the FCP Euro Proving Grounds and the 1.5-mile road course. Suitable for beginner- or intermediate-level track drivers\, all sessions include expert coaching from our pros.
URL:https://limerock.com/event/track-tapas-13/
END:VEVENT
BEGIN:VEVENT
DTSTART;TZID=America/New_York:20260430T130000
DTEND;TZID=America/New_York:20260430T170000
DTSTAMP:20260419T092038
CREATED:20260323T133437Z
LAST-MODIFIED:20260323T133437Z
UID:8325-1777554000-1777568400@limerock.com
SUMMARY:Autocross Lapping Day
DESCRIPTION:Led by professional instructors on the FCP Euro Proving Grounds\, the Autocross Lapping Days give you the chance to test your skills in performance driving.
URL:https://limerock.com/event/autocross-lapping-day-85/
LOCATION:FCP Euro Proving Grounds
END:VEVENT
BEGIN:VEVENT
DTSTART;TZID=America/New_York:20260430T140000
DTEND;TZID=America/New_York:20260430T170000
DTSTAMP:20260419T092038
CREATED:20260323T133436Z
LAST-MODIFIED:20260323T133436Z
UID:8324-1777557600-1777568400@limerock.com
SUMMARY:VSCCA
DESCRIPTION:Bring your vintage racecar out on the track or enter rallies\, tours\, and hill climbs. The VSCCA has something for everyone.
URL:https://limerock.com/event/vscca-2/
LOCATION:Lime Rock Park
END:VEVENT
END:VCALENDAR