


BEGIN:VCALENDAR
VERSION:2.0
PRODID:-//Lime Rock Park - ECPv6.15.20//NONSGML v1.0//EN
CALSCALE:GREGORIAN
METHOD:PUBLISH
X-WR-CALNAME:Lime Rock Park
X-ORIGINAL-URL:https://limerock.com
X-WR-CALDESC:Events for Lime Rock Park
REFRESH-INTERVAL;VALUE=DURATION:PT1H
X-Robots-Tag:noindex
X-PUBLISHED-TTL:PT1H
BEGIN:VTIMEZONE
TZID:America/New_York
BEGIN:DAYLIGHT
TZOFFSETFROM:-0500
TZOFFSETTO:-0400
TZNAME:EDT
DTSTART:20210314T070000
END:DAYLIGHT
BEGIN:STANDARD
TZOFFSETFROM:-0400
TZOFFSETTO:-0500
TZNAME:EST
DTSTART:20211107T060000
END:STANDARD
BEGIN:DAYLIGHT
TZOFFSETFROM:-0500
TZOFFSETTO:-0400
TZNAME:EDT
DTSTART:20220313T070000
END:DAYLIGHT
BEGIN:STANDARD
TZOFFSETFROM:-0400
TZOFFSETTO:-0500
TZNAME:EST
DTSTART:20221106T060000
END:STANDARD
BEGIN:DAYLIGHT
TZOFFSETFROM:-0500
TZOFFSETTO:-0400
TZNAME:EDT
DTSTART:20230312T070000
END:DAYLIGHT
BEGIN:STANDARD
TZOFFSETFROM:-0400
TZOFFSETTO:-0500
TZNAME:EST
DTSTART:20231105T060000
END:STANDARD
END:VTIMEZONE
BEGIN:VTIMEZONE
TZID:UTC
BEGIN:STANDARD
TZOFFSETFROM:+0000
TZOFFSETTO:+0000
TZNAME:UTC
DTSTART:20210101T000000
END:STANDARD
END:VTIMEZONE
BEGIN:VEVENT
DTSTART;TZID=America/New_York:20220909T130000
DTEND;TZID=America/New_York:20220909T170000
DTSTAMP:20260422T175604
CREATED:20220217T202200Z
LAST-MODIFIED:20220217T202200Z
UID:1096-1662728400-1662742800@limerock.com
SUMMARY:Lime Rock Drivers Club Lapping Day
DESCRIPTION:The Lime Rock Drivers Club is hosting one of their regular track days. Looking to get out onto Lime Rock Park more frequently? Visit https://limerockclub.com to learn more about becoming a Drivers Club member.
URL:https://limerock.com/event/lrdc0909/
LOCATION:Lime Rock Park
CATEGORIES:Lime Rock Drivers Club
END:VEVENT
BEGIN:VEVENT
DTSTART;TZID=America/New_York:20220916T090000
DTEND;TZID=America/New_York:20220916T130000
DTSTAMP:20260422T175604
CREATED:20220221T163333Z
LAST-MODIFIED:20220221T163333Z
UID:1114-1663318800-1663333200@limerock.com
SUMMARY:Lime Rock Drivers Club Lapping Day
DESCRIPTION:The Lime Rock Drivers Club is hosting one of their regular track days. Looking to get out onto Lime Rock Park more frequently? Visit https://limerockclub.com to learn more about becoming a Drivers Club member
URL:https://limerock.com/event/lime-rock-drivers-club-lapping-day-2/
LOCATION:Lime Rock Park
CATEGORIES:Lime Rock Drivers Club
END:VEVENT
BEGIN:VEVENT
DTSTART;TZID=America/New_York:20220917T130000
DTEND;TZID=America/New_York:20220917T180000
DTSTAMP:20260422T175604
CREATED:20220221T164152Z
LAST-MODIFIED:20220221T164400Z
UID:1117-1663419600-1663437600@limerock.com
SUMMARY:Lime Rock Drivers Club Lapping Day
DESCRIPTION:The Lime Rock Drivers Club is hosting one of their regular track days. Looking to get out onto Lime Rock Park more frequently? Visit https://limerockclub.com to learn more about becoming a Drivers Club member.
URL:https://limerock.com/event/lrdc0917/
LOCATION:Lime Rock Park
CATEGORIES:Lime Rock Drivers Club
END:VEVENT
BEGIN:VEVENT
DTSTART;TZID=UTC:20220923T090000
DTEND;TZID=UTC:20220923T130000
DTSTAMP:20260422T175604
CREATED:20220221T162107Z
LAST-MODIFIED:20220221T162107Z
UID:1111-1663923600-1663938000@limerock.com
SUMMARY:Lime Rock Drivers Club Lapping Day
DESCRIPTION:The Lime Rock Drivers Club is hosting one of their regular track days. Looking to get out onto Lime Rock Park more frequently? Visit https://limerockclub.com to learn more about becoming a Drivers Club member.
URL:https://limerock.com/event/lrdc0923/
LOCATION:Lime Rock Park
CATEGORIES:Lime Rock Drivers Club
END:VEVENT
BEGIN:VEVENT
DTSTART;TZID=America/New_York:20220930T100000
DTEND;TZID=America/New_York:20221001T170000
DTSTAMP:20260422T175604
CREATED:20220221T170529Z
LAST-MODIFIED:20220221T170554Z
UID:1123-1664532000-1664643600@limerock.com
SUMMARY:Lime Rock Drivers Club Lapping Day (Alternating)
DESCRIPTION:The Lime Rock Drivers Club is hosting one of their regular track days. Looking to get out onto Lime Rock Park more frequently? Visit https://limerockclub.com to learn more about becoming a Drivers Club member.
URL:https://limerock.com/event/lrdc930/
LOCATION:Lime Rock Park
CATEGORIES:Lime Rock Drivers Club
END:VEVENT
END:VCALENDAR