


BEGIN:VCALENDAR
VERSION:2.0
PRODID:-//Lime Rock Park - ECPv6.15.20//NONSGML v1.0//EN
CALSCALE:GREGORIAN
METHOD:PUBLISH
X-ORIGINAL-URL:https://limerock.com
X-WR-CALDESC:Events for Lime Rock Park
REFRESH-INTERVAL;VALUE=DURATION:PT1H
X-Robots-Tag:noindex
X-PUBLISHED-TTL:PT1H
BEGIN:VTIMEZONE
TZID:America/New_York
BEGIN:DAYLIGHT
TZOFFSETFROM:-0500
TZOFFSETTO:-0400
TZNAME:EDT
DTSTART:20210314T070000
END:DAYLIGHT
BEGIN:STANDARD
TZOFFSETFROM:-0400
TZOFFSETTO:-0500
TZNAME:EST
DTSTART:20211107T060000
END:STANDARD
BEGIN:DAYLIGHT
TZOFFSETFROM:-0500
TZOFFSETTO:-0400
TZNAME:EDT
DTSTART:20220313T070000
END:DAYLIGHT
BEGIN:STANDARD
TZOFFSETFROM:-0400
TZOFFSETTO:-0500
TZNAME:EST
DTSTART:20221106T060000
END:STANDARD
BEGIN:DAYLIGHT
TZOFFSETFROM:-0500
TZOFFSETTO:-0400
TZNAME:EDT
DTSTART:20230312T070000
END:DAYLIGHT
BEGIN:STANDARD
TZOFFSETFROM:-0400
TZOFFSETTO:-0500
TZNAME:EST
DTSTART:20231105T060000
END:STANDARD
END:VTIMEZONE
BEGIN:VEVENT
DTSTART;TZID=America/New_York:20220930T100000
DTEND;TZID=America/New_York:20221001T170000
DTSTAMP:20260422T164428
CREATED:20220221T170529Z
LAST-MODIFIED:20220221T170554Z
UID:1123-1664532000-1664643600@limerock.com
SUMMARY:Lime Rock Drivers Club Lapping Day (Alternating)
DESCRIPTION:The Lime Rock Drivers Club is hosting one of their regular track days. Looking to get out onto Lime Rock Park more frequently? Visit https://limerockclub.com to learn more about becoming a Drivers Club member.
URL:https://limerock.com/event/lrdc930/
LOCATION:Lime Rock Park
CATEGORIES:Lime Rock Drivers Club
END:VEVENT
BEGIN:VEVENT
DTSTART;TZID=America/New_York:20221014T090000
DTEND;TZID=America/New_York:20221014T170000
DTSTAMP:20260422T164428
CREATED:20220221T192632Z
LAST-MODIFIED:20220221T192632Z
UID:1133-1665738000-1665766800@limerock.com
SUMMARY:Lime Rock Drivers Club Lapping Day (Alternating)
DESCRIPTION:The Lime Rock Drivers Club is hosting one of their regular track days. Looking to get out onto Lime Rock Park more frequently? Visit https://limerockclub.com to learn more about becoming a Drivers Club member.
URL:https://limerock.com/event/lrdc1014/
LOCATION:Lime Rock Park
CATEGORIES:Lime Rock Drivers Club
END:VEVENT
BEGIN:VEVENT
DTSTART;TZID=America/New_York:20221021T110000
DTEND;TZID=America/New_York:20221021T150000
DTSTAMP:20260422T164428
CREATED:20220221T200936Z
LAST-MODIFIED:20221024T191704Z
UID:1139-1666350000-1666364400@limerock.com
SUMMARY:Lime Rock Drivers Club Lapping Day
DESCRIPTION:The Lime Rock Drivers Club is hosting one of their regular track days. Looking to get out onto Lime Rock Park more frequently? Visit https://limerockclub.com to learn more about becoming a Drivers Club member.
URL:https://limerock.com/event/lrdc1021/
LOCATION:Lime Rock Park
CATEGORIES:Lime Rock Drivers Club
END:VEVENT
BEGIN:VEVENT
DTSTART;TZID=America/New_York:20221022T090000
DTEND;TZID=America/New_York:20221022T130000
DTSTAMP:20260422T164428
CREATED:20220221T204652Z
LAST-MODIFIED:20220221T204806Z
UID:1140-1666429200-1666443600@limerock.com
SUMMARY:Lime Rock Drivers Club Lapping Day
DESCRIPTION:The Lime Rock Drivers Club is hosting one of their regular track days. Looking to get out onto Lime Rock Park more frequently? Visit https://limerockclub.com to learn more about becoming a Drivers Club member.
URL:https://limerock.com/event/lrdc1022/
LOCATION:Lime Rock Park
CATEGORIES:Lime Rock Drivers Club
END:VEVENT
BEGIN:VEVENT
DTSTART;TZID=America/New_York:20221028T100000
DTEND;TZID=America/New_York:20221028T150000
DTSTAMP:20260422T164428
CREATED:20220221T211042Z
LAST-MODIFIED:20221024T191829Z
UID:1146-1666951200-1666969200@limerock.com
SUMMARY:Lime Rock Drivers Club Lapping Day
DESCRIPTION:The Lime Rock Drivers Club is hosting one of their regular track days. Looking to get out onto Lime Rock Park more frequently? Visit https://limerockclub.com to learn more about becoming a Drivers Club member.
URL:https://limerock.com/event/lime-rock-drivers-club-lapping-day-3/
LOCATION:Lime Rock Park
CATEGORIES:Lime Rock Drivers Club
END:VEVENT
BEGIN:VEVENT
DTSTART;TZID=America/New_York:20221029T090000
DTEND;TZID=America/New_York:20221029T140000
DTSTAMP:20260422T164428
CREATED:20220221T211453Z
LAST-MODIFIED:20221024T191942Z
UID:1148-1667034000-1667052000@limerock.com
SUMMARY:Lime Rock Drivers Club Lapping Day
DESCRIPTION:The Lime Rock Drivers Club is hosting one of their regular track days. Looking to get out onto Lime Rock Park more frequently? Visit https://limerockclub.com to learn more about becoming a Drivers Club member.
URL:https://limerock.com/event/lrdc1029/
LOCATION:Lime Rock Park
CATEGORIES:Lime Rock Drivers Club
END:VEVENT
END:VCALENDAR