


BEGIN:VCALENDAR
VERSION:2.0
PRODID:-//Lime Rock Park - ECPv6.15.20//NONSGML v1.0//EN
CALSCALE:GREGORIAN
METHOD:PUBLISH
X-ORIGINAL-URL:https://limerock.com
X-WR-CALDESC:Events for Lime Rock Park
REFRESH-INTERVAL;VALUE=DURATION:PT1H
X-Robots-Tag:noindex
X-PUBLISHED-TTL:PT1H
BEGIN:VTIMEZONE
TZID:America/New_York
BEGIN:DAYLIGHT
TZOFFSETFROM:-0500
TZOFFSETTO:-0400
TZNAME:EDT
DTSTART:20220313T070000
END:DAYLIGHT
BEGIN:STANDARD
TZOFFSETFROM:-0400
TZOFFSETTO:-0500
TZNAME:EST
DTSTART:20221106T060000
END:STANDARD
BEGIN:DAYLIGHT
TZOFFSETFROM:-0500
TZOFFSETTO:-0400
TZNAME:EDT
DTSTART:20230312T070000
END:DAYLIGHT
BEGIN:STANDARD
TZOFFSETFROM:-0400
TZOFFSETTO:-0500
TZNAME:EST
DTSTART:20231105T060000
END:STANDARD
BEGIN:DAYLIGHT
TZOFFSETFROM:-0500
TZOFFSETTO:-0400
TZNAME:EDT
DTSTART:20240310T070000
END:DAYLIGHT
BEGIN:STANDARD
TZOFFSETFROM:-0400
TZOFFSETTO:-0500
TZNAME:EST
DTSTART:20241103T060000
END:STANDARD
END:VTIMEZONE
BEGIN:VEVENT
DTSTART;TZID=America/New_York:20230114T100000
DTEND;TZID=America/New_York:20230114T150000
DTSTAMP:20260423T004154
CREATED:20230112T204916Z
LAST-MODIFIED:20230313T174922Z
UID:2910-1673690400-1673708400@limerock.com
SUMMARY:Lime Rock Drivers Club Winter Autocross
DESCRIPTION:The Lime Rock Driver’s Club will be hosting one of their private winter autocross events on the FCP Euro Proving Grounds. For more information\, please visit https://limerock.com/drive/drivers-club/
URL:https://limerock.com/event/lime-rock-drivers-club-winter-autocross/
LOCATION:FCP Euro Proving Grounds
CATEGORIES:Lime Rock Drivers Club
END:VEVENT
BEGIN:VEVENT
DTSTART;TZID=America/New_York:20230211T110000
DTEND;TZID=America/New_York:20230211T150000
DTSTAMP:20260423T004154
CREATED:20230112T210050Z
LAST-MODIFIED:20230313T175434Z
UID:2912-1676113200-1676127600@limerock.com
SUMMARY:Lime Rock Drivers Club Winter Autocross
DESCRIPTION:The Lime Rock Driver’s Club will be hosting one of their private winter autocross events on the FCP Euro Proving Grounds. For more information\, please visit https://limerock.com/drive/drivers-club/
URL:https://limerock.com/event/lrdcwax-0211/
LOCATION:FCP Euro Proving Grounds
CATEGORIES:Lime Rock Drivers Club
END:VEVENT
BEGIN:VEVENT
DTSTART;TZID=America/New_York:20230324T100000
DTEND;TZID=America/New_York:20230324T150000
DTSTAMP:20260423T004154
CREATED:20230222T171715Z
LAST-MODIFIED:20230313T175904Z
UID:3122-1679652000-1679670000@limerock.com
SUMMARY:Lime Rock Driver's Club Lapping Day
DESCRIPTION:The Lime Rock Drivers Club will be hosting one of their regular track days. Thinking of joining the Drivers Club? Visit https://limerock.com/drive/drivers-club/ to learn more.
URL:https://limerock.com/event/lime-rock-drivers-club-lapping-day/
LOCATION:Lime Rock Park
CATEGORIES:Lime Rock Drivers Club
END:VEVENT
BEGIN:VEVENT
DTSTART;TZID=America/New_York:20230331T100000
DTEND;TZID=America/New_York:20230331T150000
DTSTAMP:20260423T004154
CREATED:20230222T173117Z
LAST-MODIFIED:20230313T180403Z
UID:3126-1680256800-1680274800@limerock.com
SUMMARY:Lime Rock Driver's Club Lapping Day
DESCRIPTION:The Lime Rock Drivers Club will be hosting one of their regular track days. Thinking of joining the Drivers Club? Visit https://limerock.com/drive/drivers-club/ to learn more.
URL:https://limerock.com/event/lime-rock-drivers-club-lapping-day-5/
LOCATION:Lime Rock Park
CATEGORIES:Lime Rock Drivers Club
END:VEVENT
BEGIN:VEVENT
DTSTART;TZID=America/New_York:20230401T090000
DTEND;TZID=America/New_York:20230401T130000
DTSTAMP:20260423T004154
CREATED:20230222T173855Z
LAST-MODIFIED:20230313T183555Z
UID:3127-1680339600-1680354000@limerock.com
SUMMARY:Lime Rock Driver's Club Lapping Day
DESCRIPTION:The Lime Rock Drivers Club will be hosting one of their regular track days. Thinking of joining the Drivers Club? Visit https://limerock.com/drive/drivers-club/ to learn more.
URL:https://limerock.com/event/lime-rock-drivers-club-lapping-day-6/
LOCATION:Lime Rock Park
CATEGORIES:Lime Rock Drivers Club
END:VEVENT
BEGIN:VEVENT
DTSTART;TZID=America/New_York:20230407T130000
DTEND;TZID=America/New_York:20230407T170000
DTSTAMP:20260423T004154
CREATED:20230224T194439Z
LAST-MODIFIED:20230328T145843Z
UID:3148-1680872400-1680886800@limerock.com
SUMMARY:Lime Rock Drivers Club Lapping Day
DESCRIPTION:The Lime Rock Drivers Club will be hosting one of their regular track days. Thinking of joining the Drivers Club? Visit https://limerock.com/drive/drivers-club/ to learn more.
URL:https://limerock.com/event/lime-rock-drivers-club-lapping-day-7/
LOCATION:Lime Rock Park
CATEGORIES:Lime Rock Drivers Club
END:VEVENT
BEGIN:VEVENT
DTSTART;TZID=America/New_York:20230414T130000
DTEND;TZID=America/New_York:20230414T170000
DTSTAMP:20260423T004154
CREATED:20230224T211053Z
LAST-MODIFIED:20230313T183941Z
UID:3170-1681477200-1681491600@limerock.com
SUMMARY:Lime Rock Drivers Club Lapping Day
DESCRIPTION:The Lime Rock Drivers Club will be hosting one of their regular track days. Thinking of joining the Drivers Club? Visit https://limerock.com/drive/drivers-club/ to learn more.
URL:https://limerock.com/event/lime-rock-drivers-club-lapping-day-8/
LOCATION:Lime Rock Park
CATEGORIES:Lime Rock Drivers Club
END:VEVENT
BEGIN:VEVENT
DTSTART;TZID=America/New_York:20230415T090000
DTEND;TZID=America/New_York:20230415T170000
DTSTAMP:20260423T004154
CREATED:20230224T211804Z
LAST-MODIFIED:20230327T151953Z
UID:3173-1681549200-1681578000@limerock.com
SUMMARY:Lime Rock Drivers Club Lapping Day
DESCRIPTION:The Lime Rock Drivers Club will be hosting one of their regular track days. Thinking of joining the Drivers Club? Visit https://limerock.com/drive/drivers-club/ to learn more.
URL:https://limerock.com/event/lime-rock-drivers-club-lapping-day-10/
LOCATION:Lime Rock Park
CATEGORIES:Lime Rock Drivers Club
END:VEVENT
BEGIN:VEVENT
DTSTART;TZID=America/New_York:20230418T090000
DTEND;TZID=America/New_York:20230418T130000
DTSTAMP:20260423T004154
CREATED:20230303T221154Z
LAST-MODIFIED:20230313T184138Z
UID:3276-1681808400-1681822800@limerock.com
SUMMARY:Lime Rock Driver’s Club Lapping Day
DESCRIPTION:The Lime Rock Drivers Club will be hosting one of their regular track days. Thinking of joining the Drivers Club? Visit https://limerock.com/drive/drivers-club/ to learn more.
URL:https://limerock.com/event/lime-rock-drivers-club-lapping-day-14/
LOCATION:Lime Rock Park
CATEGORIES:Lime Rock Drivers Club
END:VEVENT
BEGIN:VEVENT
DTSTART;TZID=America/New_York:20230425T130000
DTEND;TZID=America/New_York:20230425T170000
DTSTAMP:20260423T004154
CREATED:20230313T171046Z
LAST-MODIFIED:20230313T184309Z
UID:3318-1682427600-1682442000@limerock.com
SUMMARY:Lime Rock Drivers Club Lapping Day PM (Unmuffled)
DESCRIPTION:The Lime Rock Drivers Club will be hosting one of their regular track days. Thinking of joining the Drivers Club? Visit https://limerock.com/drive/drivers-club/ to learn more.
URL:https://limerock.com/event/lime-rock-drivers-club-lapping-day-pm-unmuffled/
LOCATION:Lime Rock Park
CATEGORIES:Lime Rock Drivers Club,Unmuffled
END:VEVENT
BEGIN:VEVENT
DTSTART;TZID=America/New_York:20230428T130000
DTEND;TZID=America/New_York:20230428T170000
DTSTAMP:20260423T004154
CREATED:20230313T173731Z
LAST-MODIFIED:20230328T145628Z
UID:3320-1682686800-1682701200@limerock.com
SUMMARY:Lime Rock Drivers Club Lapping Day
DESCRIPTION:The Lime Rock Drivers Club will be hosting one of their regular track days. Thinking of joining the Drivers Club? Visit https://limerock.com/drive/drivers-club/ to learn more.
URL:https://limerock.com/event/lime-rock-drivers-club-autocross-day/
LOCATION:Lime Rock Park
CATEGORIES:Lime Rock Drivers Club
END:VEVENT
BEGIN:VEVENT
DTSTART;TZID=America/New_York:20230505T100000
DTEND;TZID=America/New_York:20230505T170000
DTSTAMP:20260423T004154
CREATED:20230224T211539Z
LAST-MODIFIED:20230313T184753Z
UID:3171-1683280800-1683306000@limerock.com
SUMMARY:Lime Rock Drivers Club Lapping Day (Alternating)
DESCRIPTION:The Lime Rock Drivers Club will be hosting one of their regular track days. Thinking of joining the Drivers Club? Visit https://limerock.com/drive/drivers-club/ to learn more.
URL:https://limerock.com/event/lime-rock-drivers-club-lapping-day-9/
LOCATION:Lime Rock Park
CATEGORIES:Lime Rock Drivers Club
END:VEVENT
BEGIN:VEVENT
DTSTART;TZID=America/New_York:20230506T100000
DTEND;TZID=America/New_York:20230506T170000
DTSTAMP:20260423T004154
CREATED:20230224T211836Z
LAST-MODIFIED:20230313T184906Z
UID:3172-1683367200-1683392400@limerock.com
SUMMARY:Lime Rock Drivers Club Lapping Day (Alternating)
DESCRIPTION:The Lime Rock Drivers Club will be hosting one of their regular track days. Thinking of joining the Drivers Club? Visit https://limerock.com/drive/drivers-club/ to learn more.
URL:https://limerock.com/event/lime-rock-drivers-club-lapping-day-11/
LOCATION:Lime Rock Park
CATEGORIES:Lime Rock Drivers Club
END:VEVENT
BEGIN:VEVENT
DTSTART;TZID=America/New_York:20230519T100000
DTEND;TZID=America/New_York:20230519T170000
DTSTAMP:20260423T004154
CREATED:20230227T202815Z
LAST-MODIFIED:20230313T185011Z
UID:3209-1684490400-1684515600@limerock.com
SUMMARY:Lime Rock Drivers Club Lapping Day
DESCRIPTION:The Lime Rock Drivers Club will be hosting one of their regular track days. Thinking of joining the Drivers Club? Visit https://limerock.com/drive/drivers-club/ to learn more.
URL:https://limerock.com/event/lime-rock-drivers-club-lapping-day-12/
LOCATION:Lime Rock Park
CATEGORIES:Lime Rock Drivers Club
END:VEVENT
BEGIN:VEVENT
DTSTART;TZID=America/New_York:20230520T100000
DTEND;TZID=America/New_York:20230520T170000
DTSTAMP:20260423T004154
CREATED:20230227T202941Z
LAST-MODIFIED:20230313T185114Z
UID:3210-1684576800-1684602000@limerock.com
SUMMARY:Lime Rock Drivers Club Lapping Day
DESCRIPTION:The Lime Rock Drivers Club will be hosting one of their regular track days. Thinking of joining the Drivers Club? Visit https://limerock.com/drive/drivers-club/ to learn more.
URL:https://limerock.com/event/lime-rock-drivers-club-lapping-day-13/
LOCATION:Lime Rock Park
CATEGORIES:Lime Rock Drivers Club
END:VEVENT
BEGIN:VEVENT
DTSTART;TZID=America/New_York:20230601T090000
DTEND;TZID=America/New_York:20230601T130000
DTSTAMP:20260423T004154
CREATED:20230601T181843Z
LAST-MODIFIED:20230601T181843Z
UID:3733-1685610000-1685624400@limerock.com
SUMMARY:Lime Rock Drivers Club
DESCRIPTION:The Lime Rock Drivers Club is hosting one of their regular track days. Looking to get out onto Lime Rock Park more frequently? Visit https://limerockclub.com to learn more about becoming a Drivers Club member.
URL:https://limerock.com/event/lime-rock-drivers-club-2/
LOCATION:Lime Rock Park
CATEGORIES:Lime Rock Drivers Club
END:VEVENT
BEGIN:VEVENT
DTSTART;TZID=America/New_York:20230606T090000
DTEND;TZID=America/New_York:20230606T130000
DTSTAMP:20260423T004154
CREATED:20230601T172628Z
LAST-MODIFIED:20230601T172645Z
UID:3698-1686042000-1686056400@limerock.com
SUMMARY:Lime Rock Drivers Club Lapping Day
DESCRIPTION:The Lime Rock Drivers Club will be hosting one of their regular track days. Thinking of joining the Drivers Club? Visit https://limerock.com/drive/drivers-club/ to learn more.
URL:https://limerock.com/event/lime-rock-drivers-club-lapping-day-15/
LOCATION:Lime Rock Park
CATEGORIES:Lime Rock Drivers Club
END:VEVENT
BEGIN:VEVENT
DTSTART;TZID=America/New_York:20230609T090000
DTEND;TZID=America/New_York:20230609T130000
DTSTAMP:20260423T004154
CREATED:20230601T173835Z
LAST-MODIFIED:20230601T173835Z
UID:3707-1686301200-1686315600@limerock.com
SUMMARY:Lime Rock Drivers Club Lapping Day (Unmuffled)
DESCRIPTION:The Lime Rock Drivers Club is hosting one of their regular\, unmuffled track days. Looking to get out onto Lime Rock Park more frequently? Visit limerockclub.com to learn more about becoming a Drivers Club member.
URL:https://limerock.com/event/lime-rock-drivers-club-lapping-day-unmuffled-2/
LOCATION:Lime Rock Park
CATEGORIES:Lime Rock Drivers Club,Unmuffled
END:VEVENT
BEGIN:VEVENT
DTSTART;TZID=America/New_York:20230610T130000
DTEND;TZID=America/New_York:20230610T170000
DTSTAMP:20260423T004154
CREATED:20230601T174410Z
LAST-MODIFIED:20230601T174410Z
UID:3710-1686402000-1686416400@limerock.com
SUMMARY:Lime Rock Drivers Club Lapping Day (Unmuffled)
DESCRIPTION:The Lime Rock Drivers Club is hosting one of their regular\, unmuffled track days. Looking to get out onto Lime Rock Park more frequently? Visit limerockclub.com to learn more about becoming a Drivers Club member.
URL:https://limerock.com/event/lime-rock-drivers-club-lapping-day-unmuffled-3/
LOCATION:Lime Rock Park
CATEGORIES:Lime Rock Drivers Club,Unmuffled
END:VEVENT
BEGIN:VEVENT
DTSTART;TZID=America/New_York:20230623T090000
DTEND;TZID=America/New_York:20230623T130000
DTSTAMP:20260423T004154
CREATED:20230605T154225Z
LAST-MODIFIED:20230605T154247Z
UID:3884-1687510800-1687525200@limerock.com
SUMMARY:Lime Rock Drver's Club
DESCRIPTION:The Lime Rock Drivers Club will be hosting one of their regular track days. Thinking of joining the Drivers Club? Visit https://limerock.com/drive/drivers-club/ to learn more.
URL:https://limerock.com/event/lime-rock-drvers-club/
LOCATION:Lime Rock Park
CATEGORIES:Lime Rock Drivers Club
END:VEVENT
BEGIN:VEVENT
DTSTART;TZID=America/New_York:20230624T090000
DTEND;TZID=America/New_York:20230624T170000
DTSTAMP:20260423T004154
CREATED:20230601T182127Z
LAST-MODIFIED:20230601T182127Z
UID:3734-1687597200-1687626000@limerock.com
SUMMARY:Lime Rock Drivers Club Lapping Day
DESCRIPTION:The Lime Rock Drivers Club is hosting one of their regular\, unmuffled track days. Looking to get out onto Lime Rock Park more frequently? Visit limerockclub.com to learn more about becoming a Drivers Club member.
URL:https://limerock.com/event/lime-rock-drivers-club-lapping-day-16/
LOCATION:Lime Rock Park
CATEGORIES:Lime Rock Drivers Club
END:VEVENT
BEGIN:VEVENT
DTSTART;TZID=America/New_York:20230715T130000
DTEND;TZID=America/New_York:20230715T170000
DTSTAMP:20260423T004154
CREATED:20230601T182937Z
LAST-MODIFIED:20230601T183038Z
UID:3743-1689426000-1689440400@limerock.com
SUMMARY:Lime Rock Drivers Club
DESCRIPTION:The Lime Rock Drivers Club is hosting one of their regular\, unmuffled track days. Looking to get out onto Lime Rock Park more frequently? Visit limerockclub.com to learn more about becoming a Drivers Club member.
URL:https://limerock.com/event/lime-rock-drivers-club-3/
LOCATION:Lime Rock Park
CATEGORIES:Lime Rock Drivers Club
END:VEVENT
BEGIN:VEVENT
DTSTART;TZID=America/New_York:20230718T090000
DTEND;TZID=America/New_York:20230718T130000
DTSTAMP:20260423T004154
CREATED:20230601T183512Z
LAST-MODIFIED:20230601T183707Z
UID:3748-1689670800-1689685200@limerock.com
SUMMARY:Lime Rock Drivers Club
DESCRIPTION:The Lime Rock Drivers Club is hosting one of their regular\, unmuffled track days. Looking to get out onto Lime Rock Park more frequently? Visit limerockclub.com to learn more about becoming a Drivers Club member.
URL:https://limerock.com/event/scca-track-night-in-america-5/
LOCATION:Lime Rock Park
CATEGORIES:Lime Rock Drivers Club
END:VEVENT
BEGIN:VEVENT
DTSTART;TZID=America/New_York:20230728T090000
DTEND;TZID=America/New_York:20230728T130000
DTSTAMP:20260423T004154
CREATED:20230601T185408Z
LAST-MODIFIED:20230601T185408Z
UID:3775-1690534800-1690549200@limerock.com
SUMMARY:Lime Rock Drivers Club Autocross
DESCRIPTION:The Lime Rock Drivers Club is hosting one of their autocross events. Looking to get out onto Lime Rock Park more frequently? Visit https://limerockclub.com to learn more about becoming a Drivers Club member.
URL:https://limerock.com/event/lime-rock-drivers-club-autocross/
LOCATION:FCP Euro Proving Grounds
CATEGORIES:Lime Rock Drivers Club
END:VEVENT
BEGIN:VEVENT
DTSTART;TZID=America/New_York:20230729T090000
DTEND;TZID=America/New_York:20230729T170000
DTSTAMP:20260423T004154
CREATED:20230601T185250Z
LAST-MODIFIED:20230601T185250Z
UID:3773-1690621200-1690650000@limerock.com
SUMMARY:Lime Rock Drivers Club
DESCRIPTION:The Lime Rock Drivers Club is hosting one of their regular track days. Looking to get out onto Lime Rock Park more frequently? Visit https://limerockclub.com to learn more about becoming a Drivers Club member.
URL:https://limerock.com/event/lime-rock-drivers-club-6/
LOCATION:Lime Rock Park
CATEGORIES:Lime Rock Drivers Club
END:VEVENT
BEGIN:VEVENT
DTSTART;TZID=America/New_York:20230804T130000
DTEND;TZID=America/New_York:20230804T170000
DTSTAMP:20260423T004154
CREATED:20230601T183954Z
LAST-MODIFIED:20230601T183954Z
UID:3754-1691154000-1691168400@limerock.com
SUMMARY:Lime Rock Drivers Club Lapping Day
DESCRIPTION:The Lime Rock Drivers Club is hosting one of their regular track days. Looking to get out onto Lime Rock Park more frequently? Visit https://limerockclub.com to learn more about becoming a Drivers Club member.
URL:https://limerock.com/event/lime-rock-drivers-club-lapping-day-17/
LOCATION:Lime Rock Park
CATEGORIES:Lime Rock Drivers Club
END:VEVENT
BEGIN:VEVENT
DTSTART;TZID=America/New_York:20230811T090000
DTEND;TZID=America/New_York:20230811T130000
DTSTAMP:20260423T004154
CREATED:20230601T184043Z
LAST-MODIFIED:20230601T184043Z
UID:3755-1691744400-1691758800@limerock.com
SUMMARY:Lime Rock Drivers Club
DESCRIPTION:The Lime Rock Drivers Club is hosting one of their regular track days. Looking to get out onto Lime Rock Park more frequently? Visit https://limerockclub.com to learn more about becoming a Drivers Club member.
URL:https://limerock.com/event/lime-rock-drivers-club-4/
LOCATION:Lime Rock Park
CATEGORIES:Lime Rock Drivers Club
END:VEVENT
BEGIN:VEVENT
DTSTART;TZID=America/New_York:20230812T090000
DTEND;TZID=America/New_York:20230812T130000
DTSTAMP:20260423T004154
CREATED:20230601T184314Z
LAST-MODIFIED:20230601T184314Z
UID:3760-1691830800-1691845200@limerock.com
SUMMARY:Lime Rock Drivers Club Lapping Day
DESCRIPTION:The Lime Rock Drivers Club is hosting one of their regular track days. Looking to get out onto Lime Rock Park more frequently? Visit https://limerockclub.com to learn more about becoming a Drivers Club member.
URL:https://limerock.com/event/lime-rock-drivers-club-lapping-day-18/
LOCATION:Lime Rock Park
CATEGORIES:Lime Rock Drivers Club
END:VEVENT
BEGIN:VEVENT
DTSTART;TZID=America/New_York:20230825T090000
DTEND;TZID=America/New_York:20230825T170000
DTSTAMP:20260423T004154
CREATED:20230601T192738Z
LAST-MODIFIED:20230605T205504Z
UID:3806-1692954000-1692982800@limerock.com
SUMMARY:Lime Rock Drivers Club Lapping Day (A9)
DESCRIPTION:The Lime Rock Driver’s Club is hosting one of their regular track days. Looking to get out onto Lime Rock Park more frequently? Visit https://limerockclub.com to learn more about becoming a Driver’s Club member.
URL:https://limerock.com/event/lime-rock-drivers-club-lapping-day-alternating/
LOCATION:Lime Rock Park
CATEGORIES:Lime Rock Drivers Club
END:VEVENT
BEGIN:VEVENT
DTSTART;TZID=America/New_York:20230829T090000
DTEND;TZID=America/New_York:20230829T130000
DTSTAMP:20260423T004154
CREATED:20230601T193255Z
LAST-MODIFIED:20230601T193326Z
UID:3813-1693299600-1693314000@limerock.com
SUMMARY:Lime Rock Drivers Club Lapping Day
DESCRIPTION:The Lime Rock Drivers Club is hosting one of their regular track days. Looking to get out onto Lime Rock Park more frequently? Visit https://limerockclub.com to learn more about becoming a Drivers Club member.
URL:https://limerock.com/event/lime-rock-drivers-club-lapping-day-19/
LOCATION:Lime Rock Park
CATEGORIES:Lime Rock Drivers Club
END:VEVENT
END:VCALENDAR