


BEGIN:VCALENDAR
VERSION:2.0
PRODID:-//Lime Rock Park - ECPv6.15.20//NONSGML v1.0//EN
CALSCALE:GREGORIAN
METHOD:PUBLISH
X-ORIGINAL-URL:https://limerock.com
X-WR-CALDESC:Events for Lime Rock Park
REFRESH-INTERVAL;VALUE=DURATION:PT1H
X-Robots-Tag:noindex
X-PUBLISHED-TTL:PT1H
BEGIN:VTIMEZONE
TZID:America/New_York
BEGIN:DAYLIGHT
TZOFFSETFROM:-0500
TZOFFSETTO:-0400
TZNAME:EDT
DTSTART:20220313T070000
END:DAYLIGHT
BEGIN:STANDARD
TZOFFSETFROM:-0400
TZOFFSETTO:-0500
TZNAME:EST
DTSTART:20221106T060000
END:STANDARD
BEGIN:DAYLIGHT
TZOFFSETFROM:-0500
TZOFFSETTO:-0400
TZNAME:EDT
DTSTART:20230312T070000
END:DAYLIGHT
BEGIN:STANDARD
TZOFFSETFROM:-0400
TZOFFSETTO:-0500
TZNAME:EST
DTSTART:20231105T060000
END:STANDARD
BEGIN:DAYLIGHT
TZOFFSETFROM:-0500
TZOFFSETTO:-0400
TZNAME:EDT
DTSTART:20240310T070000
END:DAYLIGHT
BEGIN:STANDARD
TZOFFSETFROM:-0400
TZOFFSETTO:-0500
TZNAME:EST
DTSTART:20241103T060000
END:STANDARD
BEGIN:DAYLIGHT
TZOFFSETFROM:-0500
TZOFFSETTO:-0400
TZNAME:EDT
DTSTART:20250309T070000
END:DAYLIGHT
BEGIN:STANDARD
TZOFFSETFROM:-0400
TZOFFSETTO:-0500
TZNAME:EST
DTSTART:20251102T060000
END:STANDARD
END:VTIMEZONE
BEGIN:VEVENT
DTSTART;TZID=America/New_York:20230718T090000
DTEND;TZID=America/New_York:20230718T130000
DTSTAMP:20260421T032413
CREATED:20230601T183512Z
LAST-MODIFIED:20230601T183707Z
UID:3748-1689670800-1689685200@limerock.com
SUMMARY:Lime Rock Drivers Club
DESCRIPTION:The Lime Rock Drivers Club is hosting one of their regular\, unmuffled track days. Looking to get out onto Lime Rock Park more frequently? Visit limerockclub.com to learn more about becoming a Drivers Club member.
URL:https://limerock.com/event/scca-track-night-in-america-5/
LOCATION:Lime Rock Park
CATEGORIES:Lime Rock Drivers Club
END:VEVENT
BEGIN:VEVENT
DTSTART;TZID=America/New_York:20230728T090000
DTEND;TZID=America/New_York:20230728T130000
DTSTAMP:20260421T032413
CREATED:20230601T185408Z
LAST-MODIFIED:20230601T185408Z
UID:3775-1690534800-1690549200@limerock.com
SUMMARY:Lime Rock Drivers Club Autocross
DESCRIPTION:The Lime Rock Drivers Club is hosting one of their autocross events. Looking to get out onto Lime Rock Park more frequently? Visit https://limerockclub.com to learn more about becoming a Drivers Club member.
URL:https://limerock.com/event/lime-rock-drivers-club-autocross/
LOCATION:FCP Euro Proving Grounds
CATEGORIES:Lime Rock Drivers Club
END:VEVENT
BEGIN:VEVENT
DTSTART;TZID=America/New_York:20230729T090000
DTEND;TZID=America/New_York:20230729T170000
DTSTAMP:20260421T032413
CREATED:20230601T185250Z
LAST-MODIFIED:20230601T185250Z
UID:3773-1690621200-1690650000@limerock.com
SUMMARY:Lime Rock Drivers Club
DESCRIPTION:The Lime Rock Drivers Club is hosting one of their regular track days. Looking to get out onto Lime Rock Park more frequently? Visit https://limerockclub.com to learn more about becoming a Drivers Club member.
URL:https://limerock.com/event/lime-rock-drivers-club-6/
LOCATION:Lime Rock Park
CATEGORIES:Lime Rock Drivers Club
END:VEVENT
BEGIN:VEVENT
DTSTART;TZID=America/New_York:20230804T130000
DTEND;TZID=America/New_York:20230804T170000
DTSTAMP:20260421T032413
CREATED:20230601T183954Z
LAST-MODIFIED:20230601T183954Z
UID:3754-1691154000-1691168400@limerock.com
SUMMARY:Lime Rock Drivers Club Lapping Day
DESCRIPTION:The Lime Rock Drivers Club is hosting one of their regular track days. Looking to get out onto Lime Rock Park more frequently? Visit https://limerockclub.com to learn more about becoming a Drivers Club member.
URL:https://limerock.com/event/lime-rock-drivers-club-lapping-day-17/
LOCATION:Lime Rock Park
CATEGORIES:Lime Rock Drivers Club
END:VEVENT
BEGIN:VEVENT
DTSTART;TZID=America/New_York:20230811T090000
DTEND;TZID=America/New_York:20230811T130000
DTSTAMP:20260421T032413
CREATED:20230601T184043Z
LAST-MODIFIED:20230601T184043Z
UID:3755-1691744400-1691758800@limerock.com
SUMMARY:Lime Rock Drivers Club
DESCRIPTION:The Lime Rock Drivers Club is hosting one of their regular track days. Looking to get out onto Lime Rock Park more frequently? Visit https://limerockclub.com to learn more about becoming a Drivers Club member.
URL:https://limerock.com/event/lime-rock-drivers-club-4/
LOCATION:Lime Rock Park
CATEGORIES:Lime Rock Drivers Club
END:VEVENT
BEGIN:VEVENT
DTSTART;TZID=America/New_York:20230812T090000
DTEND;TZID=America/New_York:20230812T130000
DTSTAMP:20260421T032413
CREATED:20230601T184314Z
LAST-MODIFIED:20230601T184314Z
UID:3760-1691830800-1691845200@limerock.com
SUMMARY:Lime Rock Drivers Club Lapping Day
DESCRIPTION:The Lime Rock Drivers Club is hosting one of their regular track days. Looking to get out onto Lime Rock Park more frequently? Visit https://limerockclub.com to learn more about becoming a Drivers Club member.
URL:https://limerock.com/event/lime-rock-drivers-club-lapping-day-18/
LOCATION:Lime Rock Park
CATEGORIES:Lime Rock Drivers Club
END:VEVENT
BEGIN:VEVENT
DTSTART;TZID=America/New_York:20230825T090000
DTEND;TZID=America/New_York:20230825T170000
DTSTAMP:20260421T032413
CREATED:20230601T192738Z
LAST-MODIFIED:20230605T205504Z
UID:3806-1692954000-1692982800@limerock.com
SUMMARY:Lime Rock Drivers Club Lapping Day (A9)
DESCRIPTION:The Lime Rock Driver’s Club is hosting one of their regular track days. Looking to get out onto Lime Rock Park more frequently? Visit https://limerockclub.com to learn more about becoming a Driver’s Club member.
URL:https://limerock.com/event/lime-rock-drivers-club-lapping-day-alternating/
LOCATION:Lime Rock Park
CATEGORIES:Lime Rock Drivers Club
END:VEVENT
BEGIN:VEVENT
DTSTART;TZID=America/New_York:20230829T090000
DTEND;TZID=America/New_York:20230829T130000
DTSTAMP:20260421T032413
CREATED:20230601T193255Z
LAST-MODIFIED:20230601T193326Z
UID:3813-1693299600-1693314000@limerock.com
SUMMARY:Lime Rock Drivers Club Lapping Day
DESCRIPTION:The Lime Rock Drivers Club is hosting one of their regular track days. Looking to get out onto Lime Rock Park more frequently? Visit https://limerockclub.com to learn more about becoming a Drivers Club member.
URL:https://limerock.com/event/lime-rock-drivers-club-lapping-day-19/
LOCATION:Lime Rock Park
CATEGORIES:Lime Rock Drivers Club
END:VEVENT
BEGIN:VEVENT
DTSTART;TZID=America/New_York:20230915T090000
DTEND;TZID=America/New_York:20230915T130000
DTSTAMP:20260421T032413
CREATED:20230601T194645Z
LAST-MODIFIED:20230601T194645Z
UID:3823-1694768400-1694782800@limerock.com
SUMMARY:Lime Rock Drivers Club Lapping Day
DESCRIPTION:The Lime Rock Drivers Club is hosting one of their regular track days. Looking to get out onto Lime Rock Park more frequently? Visit https://limerockclub.com to learn more about becoming a Drivers Club member.
URL:https://limerock.com/event/lime-rock-drivers-club-lapping-day-20/
LOCATION:Lime Rock Park
CATEGORIES:Lime Rock Drivers Club
END:VEVENT
BEGIN:VEVENT
DTSTART;TZID=America/New_York:20230916T090000
DTEND;TZID=America/New_York:20230916T130000
DTSTAMP:20260421T032413
CREATED:20230601T194737Z
LAST-MODIFIED:20230601T194951Z
UID:3824-1694854800-1694869200@limerock.com
SUMMARY:Lime Rock Drivers Club Lapping Day
DESCRIPTION:The Lime Rock Drivers Club is hosting one of their regular track days. Looking to get out onto Lime Rock Park more frequently? Visit https://limerockclub.com to learn more about becoming a Drivers Club member.
URL:https://limerock.com/event/lime-rock-drivers-club-lapping-day-21/
LOCATION:Lime Rock Park
CATEGORIES:Lime Rock Drivers Club
END:VEVENT
BEGIN:VEVENT
DTSTART;TZID=America/New_York:20230922T090000
DTEND;TZID=America/New_York:20230922T130000
DTSTAMP:20260421T032413
CREATED:20230601T194818Z
LAST-MODIFIED:20230601T194818Z
UID:3825-1695373200-1695387600@limerock.com
SUMMARY:Lime Rock Drivers Club Lapping Day
DESCRIPTION:The Lime Rock Drivers Club is hosting one of their regular track days. Looking to get out onto Lime Rock Park more frequently? Visit https://limerockclub.com to learn more about becoming a Drivers Club member.
URL:https://limerock.com/event/lime-rock-drivers-club-lapping-day-22/
LOCATION:Lime Rock Park
CATEGORIES:Lime Rock Drivers Club
END:VEVENT
BEGIN:VEVENT
DTSTART;TZID=America/New_York:20230923T090000
DTEND;TZID=America/New_York:20230923T130000
DTSTAMP:20260421T032413
CREATED:20230601T194906Z
LAST-MODIFIED:20230601T194906Z
UID:3827-1695459600-1695474000@limerock.com
SUMMARY:Lime Rock Drivers Club Lapping Day
DESCRIPTION:The Lime Rock Drivers Club is hosting one of their regular track days. Looking to get out onto Lime Rock Park more frequently? Visit https://limerockclub.com to learn more about becoming a Drivers Club member.
URL:https://limerock.com/event/lime-rock-drivers-club-lapping-day-23/
LOCATION:Lime Rock Park
CATEGORIES:Lime Rock Drivers Club
END:VEVENT
BEGIN:VEVENT
DTSTART;TZID=America/New_York:20230929T100000
DTEND;TZID=America/New_York:20230929T140000
DTSTAMP:20260421T032413
CREATED:20230601T200941Z
LAST-MODIFIED:20230601T200941Z
UID:3849-1695981600-1695996000@limerock.com
SUMMARY:Lime Rock Drivers Club Autocross
DESCRIPTION:The Lime Rock Drivers Club is hosting one of their autocross events. Looking to get out onto Lime Rock Park more frequently? Visit https://limerockclub.com to learn more about becoming a Drivers Club member.
URL:https://limerock.com/event/lime-rock-drivers-club-autocross-2/
LOCATION:FCP Euro Proving Grounds
CATEGORIES:Lime Rock Drivers Club
END:VEVENT
BEGIN:VEVENT
DTSTART;TZID=America/New_York:20230929T120000
DTEND;TZID=America/New_York:20230930T170000
DTSTAMP:20260421T032413
CREATED:20230601T200814Z
LAST-MODIFIED:20230601T200814Z
UID:3847-1695988800-1696093200@limerock.com
SUMMARY:Lime Rock Drivers Club Lapping Day (Alternating)
DESCRIPTION:The Lime Rock Drivers Club is hosting one of their regular track days. Looking to get out onto Lime Rock Park more frequently? Visit https://limerockclub.com to learn more about becoming a Drivers Club member.
URL:https://limerock.com/event/lime-rock-drivers-club-lapping-day-alternating-2/
LOCATION:Lime Rock Park
CATEGORIES:Lime Rock Drivers Club
END:VEVENT
BEGIN:VEVENT
DTSTART;TZID=America/New_York:20231007T090000
DTEND;TZID=America/New_York:20231007T130000
DTSTAMP:20260421T032413
CREATED:20230601T193259Z
LAST-MODIFIED:20230601T193259Z
UID:3809-1696669200-1696683600@limerock.com
SUMMARY:Lime Rock Drivers Club
DESCRIPTION:The Lime Rock Drivers Club is hosting one of their regular track days. Looking to get out onto Lime Rock Park more frequently? Visit https://limerockclub.com to learn more about becoming a Drivers Club member.
URL:https://limerock.com/event/lime-rock-drivers-club-10/
LOCATION:Lime Rock Park
CATEGORIES:Lime Rock Drivers Club
END:VEVENT
BEGIN:VEVENT
DTSTART;TZID=America/New_York:20231103T090000
DTEND;TZID=America/New_York:20231103T130000
DTSTAMP:20260421T032413
CREATED:20230601T203949Z
LAST-MODIFIED:20230601T203949Z
UID:3865-1699002000-1699016400@limerock.com
SUMMARY:Lime Rock Drivers Club
DESCRIPTION:The Lime Rock Driver’s Club is hosting one of their regular track days. Looking to get out onto Lime Rock Park more frequently? Visit https://limerockclub.com to learn more about becoming a Driver’s Club member.
URL:https://limerock.com/event/lime-rock-drivers-club-13/
LOCATION:Lime Rock Park
CATEGORIES:Lime Rock Drivers Club
END:VEVENT
BEGIN:VEVENT
DTSTART;TZID=America/New_York:20231110T110000
DTEND;TZID=America/New_York:20231110T150000
DTSTAMP:20260421T032413
CREATED:20230601T190205Z
LAST-MODIFIED:20230601T190205Z
UID:3785-1699614000-1699628400@limerock.com
SUMMARY:Lime Rock Drivers Club
DESCRIPTION:The Lime Rock Drivers Club is hosting one of their regular track days. Looking to get out onto Lime Rock Park more frequently? Visit https://limerockclub.com to learn more about becoming a Drivers Club member.
URL:https://limerock.com/event/lime-rock-drivers-club-7/
LOCATION:Lime Rock Park
CATEGORIES:Lime Rock Drivers Club
END:VEVENT
BEGIN:VEVENT
DTSTART;TZID=America/New_York:20231117T110000
DTEND;TZID=America/New_York:20231117T160000
DTSTAMP:20260421T032413
CREATED:20230601T191043Z
LAST-MODIFIED:20230601T191043Z
UID:3791-1700218800-1700236800@limerock.com
SUMMARY:Lime Rock Drivers Club
DESCRIPTION:The Lime Rock Drivers Club is hosting one of their regular track days. Looking to get out onto Lime Rock Park more frequently? Visit https://limerockclub.com to learn more about becoming a Drivers Club member.
URL:https://limerock.com/event/lime-rock-drivers-club-9/
LOCATION:Lime Rock Park
CATEGORIES:Lime Rock Drivers Club
END:VEVENT
BEGIN:VEVENT
DTSTART;TZID=America/New_York:20240113T110000
DTEND;TZID=America/New_York:20240113T150000
DTSTAMP:20260421T032413
CREATED:20240126T182753Z
LAST-MODIFIED:20240126T182753Z
UID:4820-1705143600-1705158000@limerock.com
SUMMARY:LRDC Winter Autocross
DESCRIPTION:LRDC Winter Autocross is for members of the Lime Rock Drivers Club and their guests.  Contact the Club Administrator for more information.
URL:https://limerock.com/event/lrdc-winter-autocross/
LOCATION:FCP Euro Proving Grounds
CATEGORIES:Lime Rock Drivers Club
END:VEVENT
BEGIN:VEVENT
DTSTART;TZID=America/New_York:20240210T110000
DTEND;TZID=America/New_York:20240210T150000
DTSTAMP:20260421T032413
CREATED:20240126T183437Z
LAST-MODIFIED:20240126T183437Z
UID:4824-1707562800-1707577200@limerock.com
SUMMARY:LRDC Winter Autocross
DESCRIPTION:LRDC Winter Autocross is for members of the Lime Rock Drivers Club and their guests.  Contact the Club Administrator for more information.
URL:https://limerock.com/event/lrdc-winter-autocross-2/
LOCATION:FCP Euro Proving Grounds
CATEGORIES:Lime Rock Drivers Club
END:VEVENT
BEGIN:VEVENT
DTSTART;TZID=America/New_York:20240302T110000
DTEND;TZID=America/New_York:20240302T150000
DTSTAMP:20260421T032413
CREATED:20240126T183535Z
LAST-MODIFIED:20240126T183535Z
UID:4825-1709377200-1709391600@limerock.com
SUMMARY:LRDC Winter Autocross
DESCRIPTION:LRDC Winter Autocross is for members of the Lime Rock Drivers Club and their guests.  Contact the Club Administrator for more information.
URL:https://limerock.com/event/lrdc-winter-autocross-3/
LOCATION:FCP Euro Proving Grounds
CATEGORIES:Lime Rock Drivers Club
END:VEVENT
BEGIN:VEVENT
DTSTART;VALUE=DATE:20240322
DTEND;VALUE=DATE:20240323
DTSTAMP:20260421T032413
CREATED:20240126T185715Z
LAST-MODIFIED:20240126T185715Z
UID:4840-1711065600-1711151999@limerock.com
SUMMARY:LRDC HPDE
DESCRIPTION:Check back for confirmed on-track times. Contact the Club Administrator to schedule your day.
URL:https://limerock.com/event/lrdc-hpde/
LOCATION:Lime Rock Park
CATEGORIES:Lime Rock Drivers Club
END:VEVENT
BEGIN:VEVENT
DTSTART;VALUE=DATE:20240329
DTEND;VALUE=DATE:20240330
DTSTAMP:20260421T032413
CREATED:20240126T185908Z
LAST-MODIFIED:20240126T185908Z
UID:4842-1711670400-1711756799@limerock.com
SUMMARY:LRDC HPDE
DESCRIPTION:Check back for confirmed on-track times. Contact the Club Administrator to schedule your day.
URL:https://limerock.com/event/lrdc-hpde-2-2/
LOCATION:Lime Rock Park
CATEGORIES:Lime Rock Drivers Club
END:VEVENT
BEGIN:VEVENT
DTSTART;VALUE=DATE:20240330
DTEND;VALUE=DATE:20240331
DTSTAMP:20260421T032413
CREATED:20240126T185945Z
LAST-MODIFIED:20240126T185945Z
UID:4843-1711756800-1711843199@limerock.com
SUMMARY:LRDC HPDE
DESCRIPTION:Check back for confirmed on-track times. Contact the Club Administrator to schedule your day.
URL:https://limerock.com/event/lrdc-hpde-3/
LOCATION:Lime Rock Park
CATEGORIES:Lime Rock Drivers Club
END:VEVENT
BEGIN:VEVENT
DTSTART;TZID=America/New_York:20240412T100000
DTEND;TZID=America/New_York:20240412T160000
DTSTAMP:20260421T032413
CREATED:20240402T155321Z
LAST-MODIFIED:20240402T155321Z
UID:5289-1712916000-1712937600@limerock.com
SUMMARY:LRDC HPDE
DESCRIPTION:Check back for confirmed on-track times. Contact the Club Administrator to schedule your day.
URL:https://limerock.com/event/lrdc-hpde-4-3-2/
LOCATION:Lime Rock Park
CATEGORIES:Lime Rock Drivers Club
END:VEVENT
BEGIN:VEVENT
DTSTART;TZID=America/New_York:20240413T100000
DTEND;TZID=America/New_York:20240413T160000
DTSTAMP:20260421T032413
CREATED:20240402T155401Z
LAST-MODIFIED:20240402T155401Z
UID:5290-1713002400-1713024000@limerock.com
SUMMARY:LRDC HPDE
DESCRIPTION:Check back for confirmed on-track times. Contact the Club Administrator to schedule your day.
URL:https://limerock.com/event/lrdc-hpde-4-3-2-2/
LOCATION:Lime Rock Park
CATEGORIES:Lime Rock Drivers Club
END:VEVENT
BEGIN:VEVENT
DTSTART;VALUE=DATE:20240416
DTEND;VALUE=DATE:20240417
DTSTAMP:20260421T032413
CREATED:20240126T190234Z
LAST-MODIFIED:20240126T190234Z
UID:4845-1713225600-1713311999@limerock.com
SUMMARY:LRDC HPDE
DESCRIPTION:Check back for confirmed on-track times. Contact the Club Administrator to schedule your day.
URL:https://limerock.com/event/lrdc-hpde-4-2/
LOCATION:Lime Rock Park
CATEGORIES:Lime Rock Drivers Club
END:VEVENT
BEGIN:VEVENT
DTSTART;VALUE=DATE:20240423
DTEND;VALUE=DATE:20240424
DTSTAMP:20260421T032413
CREATED:20240126T190306Z
LAST-MODIFIED:20240126T190306Z
UID:4846-1713830400-1713916799@limerock.com
SUMMARY:LRDC HPDE
DESCRIPTION:Check back for confirmed on-track times. Contact the Club Administrator to schedule your day.
URL:https://limerock.com/event/lrdc-hpde-4-2-2/
LOCATION:Lime Rock Park
CATEGORIES:Lime Rock Drivers Club,Unmuffled
END:VEVENT
BEGIN:VEVENT
DTSTART;VALUE=DATE:20240426
DTEND;VALUE=DATE:20240427
DTSTAMP:20260421T032413
CREATED:20240126T190333Z
LAST-MODIFIED:20240126T190333Z
UID:4847-1714089600-1714175999@limerock.com
SUMMARY:LRDC HPDE
DESCRIPTION:Check back for confirmed on-track times. Contact the Club Administrator to schedule your day.
URL:https://limerock.com/event/lrdc-hpde-4-3/
LOCATION:Lime Rock Park
CATEGORIES:Lime Rock Drivers Club
END:VEVENT
BEGIN:VEVENT
DTSTART;VALUE=DATE:20240430
DTEND;VALUE=DATE:20240501
DTSTAMP:20260421T032413
CREATED:20240126T190415Z
LAST-MODIFIED:20240126T190415Z
UID:4848-1714435200-1714521599@limerock.com
SUMMARY:LRDC HPDE
DESCRIPTION:Check back for confirmed on-track times. Contact the Club Administrator to schedule your day.
URL:https://limerock.com/event/lrdc-hpde-4-2-2-2/
LOCATION:Lime Rock Park
CATEGORIES:Lime Rock Drivers Club,Unmuffled
END:VEVENT
END:VCALENDAR