


BEGIN:VCALENDAR
VERSION:2.0
PRODID:-//Lime Rock Park - ECPv6.15.20//NONSGML v1.0//EN
CALSCALE:GREGORIAN
METHOD:PUBLISH
X-ORIGINAL-URL:https://limerock.com
X-WR-CALDESC:Events for Lime Rock Park
REFRESH-INTERVAL;VALUE=DURATION:PT1H
X-Robots-Tag:noindex
X-PUBLISHED-TTL:PT1H
BEGIN:VTIMEZONE
TZID:America/New_York
BEGIN:DAYLIGHT
TZOFFSETFROM:-0500
TZOFFSETTO:-0400
TZNAME:EDT
DTSTART:20230312T070000
END:DAYLIGHT
BEGIN:STANDARD
TZOFFSETFROM:-0400
TZOFFSETTO:-0500
TZNAME:EST
DTSTART:20231105T060000
END:STANDARD
BEGIN:DAYLIGHT
TZOFFSETFROM:-0500
TZOFFSETTO:-0400
TZNAME:EDT
DTSTART:20240310T070000
END:DAYLIGHT
BEGIN:STANDARD
TZOFFSETFROM:-0400
TZOFFSETTO:-0500
TZNAME:EST
DTSTART:20241103T060000
END:STANDARD
BEGIN:DAYLIGHT
TZOFFSETFROM:-0500
TZOFFSETTO:-0400
TZNAME:EDT
DTSTART:20250309T070000
END:DAYLIGHT
BEGIN:STANDARD
TZOFFSETFROM:-0400
TZOFFSETTO:-0500
TZNAME:EST
DTSTART:20251102T060000
END:STANDARD
END:VTIMEZONE
BEGIN:VEVENT
DTSTART;VALUE=DATE:20240330
DTEND;VALUE=DATE:20240331
DTSTAMP:20260419T134847
CREATED:20240126T185945Z
LAST-MODIFIED:20240126T185945Z
UID:4843-1711756800-1711843199@limerock.com
SUMMARY:LRDC HPDE
DESCRIPTION:Check back for confirmed on-track times. Contact the Club Administrator to schedule your day.
URL:https://limerock.com/event/lrdc-hpde-3/
LOCATION:Lime Rock Park
CATEGORIES:Lime Rock Drivers Club
END:VEVENT
BEGIN:VEVENT
DTSTART;TZID=America/New_York:20240412T100000
DTEND;TZID=America/New_York:20240412T160000
DTSTAMP:20260419T134847
CREATED:20240402T155321Z
LAST-MODIFIED:20240402T155321Z
UID:5289-1712916000-1712937600@limerock.com
SUMMARY:LRDC HPDE
DESCRIPTION:Check back for confirmed on-track times. Contact the Club Administrator to schedule your day.
URL:https://limerock.com/event/lrdc-hpde-4-3-2/
LOCATION:Lime Rock Park
CATEGORIES:Lime Rock Drivers Club
END:VEVENT
BEGIN:VEVENT
DTSTART;TZID=America/New_York:20240413T100000
DTEND;TZID=America/New_York:20240413T160000
DTSTAMP:20260419T134847
CREATED:20240402T155401Z
LAST-MODIFIED:20240402T155401Z
UID:5290-1713002400-1713024000@limerock.com
SUMMARY:LRDC HPDE
DESCRIPTION:Check back for confirmed on-track times. Contact the Club Administrator to schedule your day.
URL:https://limerock.com/event/lrdc-hpde-4-3-2-2/
LOCATION:Lime Rock Park
CATEGORIES:Lime Rock Drivers Club
END:VEVENT
BEGIN:VEVENT
DTSTART;VALUE=DATE:20240416
DTEND;VALUE=DATE:20240417
DTSTAMP:20260419T134847
CREATED:20240126T190234Z
LAST-MODIFIED:20240126T190234Z
UID:4845-1713225600-1713311999@limerock.com
SUMMARY:LRDC HPDE
DESCRIPTION:Check back for confirmed on-track times. Contact the Club Administrator to schedule your day.
URL:https://limerock.com/event/lrdc-hpde-4-2/
LOCATION:Lime Rock Park
CATEGORIES:Lime Rock Drivers Club
END:VEVENT
BEGIN:VEVENT
DTSTART;VALUE=DATE:20240423
DTEND;VALUE=DATE:20240424
DTSTAMP:20260419T134847
CREATED:20240126T190306Z
LAST-MODIFIED:20240126T190306Z
UID:4846-1713830400-1713916799@limerock.com
SUMMARY:LRDC HPDE
DESCRIPTION:Check back for confirmed on-track times. Contact the Club Administrator to schedule your day.
URL:https://limerock.com/event/lrdc-hpde-4-2-2/
LOCATION:Lime Rock Park
CATEGORIES:Lime Rock Drivers Club,Unmuffled
END:VEVENT
BEGIN:VEVENT
DTSTART;VALUE=DATE:20240426
DTEND;VALUE=DATE:20240427
DTSTAMP:20260419T134847
CREATED:20240126T190333Z
LAST-MODIFIED:20240126T190333Z
UID:4847-1714089600-1714175999@limerock.com
SUMMARY:LRDC HPDE
DESCRIPTION:Check back for confirmed on-track times. Contact the Club Administrator to schedule your day.
URL:https://limerock.com/event/lrdc-hpde-4-3/
LOCATION:Lime Rock Park
CATEGORIES:Lime Rock Drivers Club
END:VEVENT
BEGIN:VEVENT
DTSTART;VALUE=DATE:20240430
DTEND;VALUE=DATE:20240501
DTSTAMP:20260419T134847
CREATED:20240126T190415Z
LAST-MODIFIED:20240126T190415Z
UID:4848-1714435200-1714521599@limerock.com
SUMMARY:LRDC HPDE
DESCRIPTION:Check back for confirmed on-track times. Contact the Club Administrator to schedule your day.
URL:https://limerock.com/event/lrdc-hpde-4-2-2-2/
LOCATION:Lime Rock Park
CATEGORIES:Lime Rock Drivers Club,Unmuffled
END:VEVENT
BEGIN:VEVENT
DTSTART;VALUE=DATE:20240503
DTEND;VALUE=DATE:20240504
DTSTAMP:20260419T134847
CREATED:20240126T190449Z
LAST-MODIFIED:20240126T190523Z
UID:4849-1714694400-1714780799@limerock.com
SUMMARY:LRDC HPDE ALT 10am
DESCRIPTION:LRDC will be on track every other hour starting at 10am.  Opposite VSCCA. \nContact the Club Administrator to schedule your day.
URL:https://limerock.com/event/lrdc-hpde-4-4/
LOCATION:Lime Rock Park
CATEGORIES:Lime Rock Drivers Club
END:VEVENT
BEGIN:VEVENT
DTSTART;VALUE=DATE:20240504
DTEND;VALUE=DATE:20240505
DTSTAMP:20260419T134847
CREATED:20240126T190547Z
LAST-MODIFIED:20240126T190547Z
UID:4850-1714780800-1714867199@limerock.com
SUMMARY:LRDC HPDE ALT 10am
DESCRIPTION:LRDC will be on track every other hour starting at 10am.  Opposite VSCCA. \nContact the Club Administrator to schedule your day.
URL:https://limerock.com/event/lrdc-hpde-4-4-2/
LOCATION:Lime Rock Park
CATEGORIES:Lime Rock Drivers Club
END:VEVENT
BEGIN:VEVENT
DTSTART;TZID=America/New_York:20240517T100000
DTEND;TZID=America/New_York:20240517T170000
DTSTAMP:20260419T134847
CREATED:20240126T190631Z
LAST-MODIFIED:20240513T160308Z
UID:4851-1715940000-1715965200@limerock.com
SUMMARY:LRDC HPDE ALT 10am
DESCRIPTION:LRDC will be on track every other hour starting at 10am.  Opposite NEQ. \nContact the Club Administrator to schedule your day.
URL:https://limerock.com/event/lrdc-hpde-4-4-2-2/
LOCATION:Lime Rock Park
CATEGORIES:Lime Rock Drivers Club
END:VEVENT
BEGIN:VEVENT
DTSTART;TZID=America/New_York:20240518T100000
DTEND;TZID=America/New_York:20240518T170000
DTSTAMP:20260419T134847
CREATED:20240126T192305Z
LAST-MODIFIED:20240513T160201Z
UID:4869-1716026400-1716051600@limerock.com
SUMMARY:LRDC HPDE ALT 10am
DESCRIPTION:LRDC will be on track every other hour starting at 10am.  Opposite NEQ Audi \nContact the Club Administrator to schedule your day.
URL:https://limerock.com/event/lrdc-hpde-4-4-2-2-2-2/
LOCATION:Lime Rock Park
CATEGORIES:Lime Rock Drivers Club
END:VEVENT
BEGIN:VEVENT
DTSTART;VALUE=DATE:20240521
DTEND;VALUE=DATE:20240522
DTSTAMP:20260419T134847
CREATED:20240126T190719Z
LAST-MODIFIED:20240126T190719Z
UID:4853-1716249600-1716335999@limerock.com
SUMMARY:LRDC HPDE
DESCRIPTION:Check back for confirmed on-track times. Contact the Club Administrator to schedule your day.
URL:https://limerock.com/event/lrdc-hpde-4-2-2-3/
LOCATION:Lime Rock Park
CATEGORIES:Lime Rock Drivers Club,Unmuffled
END:VEVENT
BEGIN:VEVENT
DTSTART;TZID=America/New_York:20240604T090000
DTEND;TZID=America/New_York:20240604T130000
DTSTAMP:20260419T134847
CREATED:20240126T191110Z
LAST-MODIFIED:20240126T191110Z
UID:4856-1717491600-1717506000@limerock.com
SUMMARY:LRDC HPDE
DESCRIPTION:  \nContact the Club Administrator to schedule your day.
URL:https://limerock.com/event/lrdc-hpde-4-4-2-2-3/
LOCATION:Lime Rock Park
CATEGORIES:Lime Rock Drivers Club
END:VEVENT
BEGIN:VEVENT
DTSTART;TZID=America/New_York:20240607T160000
DTEND;TZID=America/New_York:20240607T180000
DTSTAMP:20260419T134847
CREATED:20240126T192522Z
LAST-MODIFIED:20240528T175124Z
UID:4873-1717776000-1717783200@limerock.com
SUMMARY:LRDC HPDE
DESCRIPTION:Check back for confirmed on-track times. Contact the Club Administrator to schedule your day.
URL:https://limerock.com/event/lrdc-hpde-4-2-2-3-3-2/
LOCATION:Lime Rock Park
CATEGORIES:Lime Rock Drivers Club,Unmuffled
END:VEVENT
BEGIN:VEVENT
DTSTART;TZID=America/New_York:20240608T160000
DTEND;TZID=America/New_York:20240608T180000
DTSTAMP:20260419T134847
CREATED:20240528T175354Z
LAST-MODIFIED:20240528T175354Z
UID:5551-1717862400-1717869600@limerock.com
SUMMARY:LRDC HPDE
DESCRIPTION:Check back for confirmed on-track times. Contact the Club Administrator to schedule your day.
URL:https://limerock.com/event/lrdc-hpde-2/
LOCATION:Lime Rock Park
CATEGORIES:Lime Rock Drivers Club,Unmuffled
END:VEVENT
BEGIN:VEVENT
DTSTART;TZID=America/New_York:20240621T090000
DTEND;TZID=America/New_York:20240621T130000
DTSTAMP:20260419T134847
CREATED:20240126T191343Z
LAST-MODIFIED:20240126T191343Z
UID:4857-1718960400-1718974800@limerock.com
SUMMARY:LRDC HPDE
DESCRIPTION:  \nContact the Club Administrator to schedule your day.
URL:https://limerock.com/event/lrdc-hpde-4-4-2-2-3-2/
LOCATION:Lime Rock Park
CATEGORIES:Lime Rock Drivers Club
END:VEVENT
BEGIN:VEVENT
DTSTART;VALUE=DATE:20240622
DTEND;VALUE=DATE:20240623
DTSTAMP:20260419T134847
CREATED:20240126T191443Z
LAST-MODIFIED:20240126T191443Z
UID:4858-1719014400-1719100799@limerock.com
SUMMARY:LRDC HPDE
DESCRIPTION:  \nContact the Club Administrator to schedule your day.
URL:https://limerock.com/event/lrdc-hpde-4-4-2-2-3-2-2/
LOCATION:Lime Rock Park
CATEGORIES:Lime Rock Drivers Club
END:VEVENT
BEGIN:VEVENT
DTSTART;VALUE=DATE:20240705
DTEND;VALUE=DATE:20240706
DTSTAMP:20260419T134847
CREATED:20240126T191540Z
LAST-MODIFIED:20240126T191540Z
UID:4859-1720137600-1720223999@limerock.com
SUMMARY:LRDC HPDE
DESCRIPTION:  \nContact the Club Administrator to schedule your day.
URL:https://limerock.com/event/lrdc-hpde-4-4-2-2-3-2-2-2/
LOCATION:Lime Rock Park
CATEGORIES:Lime Rock Drivers Club
END:VEVENT
BEGIN:VEVENT
DTSTART;VALUE=DATE:20240706
DTEND;VALUE=DATE:20240707
DTSTAMP:20260419T134847
CREATED:20240126T191618Z
LAST-MODIFIED:20240126T191618Z
UID:4860-1720224000-1720310399@limerock.com
SUMMARY:LRDC HPDE
DESCRIPTION:  \nContact the Club Administrator to schedule your day.
URL:https://limerock.com/event/lrdc-hpde-4-4-2-2-3-2-2-2-2/
LOCATION:Lime Rock Park
CATEGORIES:Lime Rock Drivers Club
END:VEVENT
BEGIN:VEVENT
DTSTART;TZID=America/New_York:20240709T090000
DTEND;TZID=America/New_York:20240709T130000
DTSTAMP:20260419T134847
CREATED:20240126T191654Z
LAST-MODIFIED:20240126T191654Z
UID:4861-1720515600-1720530000@limerock.com
SUMMARY:LRDC HPDE
DESCRIPTION:  \nContact the Club Administrator to schedule your day.
URL:https://limerock.com/event/lrdc-hpde-4-4-2-2-3-3/
LOCATION:Lime Rock Park
CATEGORIES:Lime Rock Drivers Club
END:VEVENT
BEGIN:VEVENT
DTSTART;VALUE=DATE:20240726
DTEND;VALUE=DATE:20240727
DTSTAMP:20260419T134847
CREATED:20240126T191824Z
LAST-MODIFIED:20240126T191824Z
UID:4862-1721952000-1722038399@limerock.com
SUMMARY:LRDC HPDE
DESCRIPTION:  \nContact the Club Administrator to schedule your day.
URL:https://limerock.com/event/lrdc-hpde-4-4-2-2-3-2-2-2-3/
LOCATION:Lime Rock Park
CATEGORIES:Lime Rock Drivers Club
END:VEVENT
BEGIN:VEVENT
DTSTART;VALUE=DATE:20240726
DTEND;VALUE=DATE:20240727
DTSTAMP:20260419T134847
CREATED:20240126T192109Z
LAST-MODIFIED:20240126T192109Z
UID:4868-1721952000-1722038399@limerock.com
SUMMARY:LRDC HPDE
DESCRIPTION:  \nContact the Club Administrator to schedule your day.
URL:https://limerock.com/event/lrdc-hpde-4-4-2-2-3-2-2-2-3-3/
LOCATION:Lime Rock Park
CATEGORIES:Lime Rock Drivers Club
END:VEVENT
BEGIN:VEVENT
DTSTART;VALUE=DATE:20240727
DTEND;VALUE=DATE:20240728
DTSTAMP:20260419T134847
CREATED:20240126T191846Z
LAST-MODIFIED:20240126T191846Z
UID:4863-1722038400-1722124799@limerock.com
SUMMARY:LRDC HPDE
DESCRIPTION:  \nContact the Club Administrator to schedule your day.
URL:https://limerock.com/event/lrdc-hpde-4-4-2-2-3-2-2-2-3-2/
LOCATION:Lime Rock Park
CATEGORIES:Lime Rock Drivers Club
END:VEVENT
BEGIN:VEVENT
DTSTART;VALUE=DATE:20240730
DTEND;VALUE=DATE:20240731
DTSTAMP:20260419T134847
CREATED:20240126T191919Z
LAST-MODIFIED:20240126T191919Z
UID:4864-1722297600-1722383999@limerock.com
SUMMARY:LRDC HPDE
DESCRIPTION:Check back for confirmed on-track times. Contact the Club Administrator to schedule your day.
URL:https://limerock.com/event/lrdc-hpde-4-2-2-3-3/
LOCATION:Lime Rock Park
CATEGORIES:Lime Rock Drivers Club,Unmuffled
END:VEVENT
BEGIN:VEVENT
DTSTART;VALUE=DATE:20240802
DTEND;VALUE=DATE:20240803
DTSTAMP:20260419T134847
CREATED:20240126T191942Z
LAST-MODIFIED:20240126T191942Z
UID:4865-1722556800-1722643199@limerock.com
SUMMARY:LRDC HPDE
DESCRIPTION:  \nContact the Club Administrator to schedule your day.
URL:https://limerock.com/event/lrdc-hpde-4-4-2-2-3-2-2-2-3-2-2/
LOCATION:Lime Rock Park
CATEGORIES:Lime Rock Drivers Club
END:VEVENT
BEGIN:VEVENT
DTSTART;VALUE=DATE:20240809
DTEND;VALUE=DATE:20240810
DTSTAMP:20260419T134847
CREATED:20240126T192007Z
LAST-MODIFIED:20240126T192007Z
UID:4866-1723161600-1723247999@limerock.com
SUMMARY:LRDC HPDE
DESCRIPTION:  \nContact the Club Administrator to schedule your day.
URL:https://limerock.com/event/lrdc-hpde-4-4-2-2-3-2-2-2-3-2-2-2/
LOCATION:Lime Rock Park
CATEGORIES:Lime Rock Drivers Club
END:VEVENT
BEGIN:VEVENT
DTSTART;VALUE=DATE:20240810
DTEND;VALUE=DATE:20240811
DTSTAMP:20260419T134847
CREATED:20240126T192029Z
LAST-MODIFIED:20240516T140525Z
UID:4867-1723248000-1723334399@limerock.com
SUMMARY:LRDC HPDE 9am-2pm
DESCRIPTION:  \nContact the Club Administrator to schedule your day.
URL:https://limerock.com/event/lrdc-hpde-4-4-2-2-3-2-2-2-3-2-2-2-2/
LOCATION:Lime Rock Park
CATEGORIES:Lime Rock Drivers Club
END:VEVENT
BEGIN:VEVENT
DTSTART;TZID=America/New_York:20240823T090000
DTEND;TZID=America/New_York:20240823T160000
DTSTAMP:20260419T134847
CREATED:20240514T171537Z
LAST-MODIFIED:20240514T171537Z
UID:5465-1724403600-1724428800@limerock.com
SUMMARY:LRDC HPDE ALT 9am
DESCRIPTION:LRDC will be on track every other hour starting at 9am.  Opposite PCA MNY \nContact the Club Administrator to schedule your day.
URL:https://limerock.com/event/lrdc-hpde-4-4-2-2-2-2-2/
LOCATION:Lime Rock Park
CATEGORIES:Lime Rock Drivers Club
END:VEVENT
BEGIN:VEVENT
DTSTART;TZID=America/New_York:20240827T090000
DTEND;TZID=America/New_York:20240827T130000
DTSTAMP:20260419T134847
CREATED:20240126T192446Z
LAST-MODIFIED:20240126T192446Z
UID:4872-1724749200-1724763600@limerock.com
SUMMARY:LRDC HPDE
DESCRIPTION:  \nContact the Club Administrator to schedule your day.
URL:https://limerock.com/event/lrdc-hpde-4-4-2-2-3-4/
LOCATION:Lime Rock Park
CATEGORIES:Lime Rock Drivers Club
END:VEVENT
BEGIN:VEVENT
DTSTART;VALUE=DATE:20240913
DTEND;VALUE=DATE:20240914
DTSTAMP:20260419T134847
CREATED:20240126T192554Z
LAST-MODIFIED:20240126T192554Z
UID:4874-1726185600-1726271999@limerock.com
SUMMARY:LRDC HPDE
DESCRIPTION:  \nContact the Club Administrator to schedule your day.
URL:https://limerock.com/event/lrdc-hpde-4-4-2-2-3-4-2/
LOCATION:Lime Rock Park
CATEGORIES:Lime Rock Drivers Club
END:VEVENT
END:VCALENDAR