


BEGIN:VCALENDAR
VERSION:2.0
PRODID:-//Lime Rock Park - ECPv6.15.20//NONSGML v1.0//EN
CALSCALE:GREGORIAN
METHOD:PUBLISH
X-WR-CALNAME:Lime Rock Park
X-ORIGINAL-URL:https://limerock.com
X-WR-CALDESC:Events for Lime Rock Park
REFRESH-INTERVAL;VALUE=DURATION:PT1H
X-Robots-Tag:noindex
X-PUBLISHED-TTL:PT1H
BEGIN:VTIMEZONE
TZID:America/New_York
BEGIN:DAYLIGHT
TZOFFSETFROM:-0500
TZOFFSETTO:-0400
TZNAME:EDT
DTSTART:20230312T070000
END:DAYLIGHT
BEGIN:STANDARD
TZOFFSETFROM:-0400
TZOFFSETTO:-0500
TZNAME:EST
DTSTART:20231105T060000
END:STANDARD
BEGIN:DAYLIGHT
TZOFFSETFROM:-0500
TZOFFSETTO:-0400
TZNAME:EDT
DTSTART:20240310T070000
END:DAYLIGHT
BEGIN:STANDARD
TZOFFSETFROM:-0400
TZOFFSETTO:-0500
TZNAME:EST
DTSTART:20241103T060000
END:STANDARD
BEGIN:DAYLIGHT
TZOFFSETFROM:-0500
TZOFFSETTO:-0400
TZNAME:EDT
DTSTART:20250309T070000
END:DAYLIGHT
BEGIN:STANDARD
TZOFFSETFROM:-0400
TZOFFSETTO:-0500
TZNAME:EST
DTSTART:20251102T060000
END:STANDARD
BEGIN:DAYLIGHT
TZOFFSETFROM:-0500
TZOFFSETTO:-0400
TZNAME:EDT
DTSTART:20260308T070000
END:DAYLIGHT
BEGIN:STANDARD
TZOFFSETFROM:-0400
TZOFFSETTO:-0500
TZNAME:EST
DTSTART:20261101T060000
END:STANDARD
END:VTIMEZONE
BEGIN:VEVENT
DTSTART;TZID=America/New_York:20240920T090000
DTEND;TZID=America/New_York:20240920T130000
DTSTAMP:20260420T082733
CREATED:20240126T192727Z
LAST-MODIFIED:20240126T192727Z
UID:4876-1726822800-1726837200@limerock.com
SUMMARY:LRDC HPDE
DESCRIPTION:  \nContact the Club Administrator to schedule your day.
URL:https://limerock.com/event/lrdc-hpde-4-4-2-2-3-2-3/
LOCATION:Lime Rock Park
CATEGORIES:Lime Rock Drivers Club
END:VEVENT
BEGIN:VEVENT
DTSTART;TZID=America/New_York:20240921T090000
DTEND;TZID=America/New_York:20240921T130000
DTSTAMP:20260420T082733
CREATED:20240126T192753Z
LAST-MODIFIED:20240126T192753Z
UID:4877-1726909200-1726923600@limerock.com
SUMMARY:LRDC HPDE
DESCRIPTION:  \nContact the Club Administrator to schedule your day.
URL:https://limerock.com/event/lrdc-hpde-4-4-2-2-3-2-3-2/
LOCATION:Lime Rock Park
CATEGORIES:Lime Rock Drivers Club
END:VEVENT
BEGIN:VEVENT
DTSTART;VALUE=DATE:20240927
DTEND;VALUE=DATE:20240928
DTSTAMP:20260420T082733
CREATED:20240126T192840Z
LAST-MODIFIED:20240126T192840Z
UID:4878-1727395200-1727481599@limerock.com
SUMMARY:LRDC HPDE ALT 10am
DESCRIPTION:LRDC will be on track every other hour starting at 10am.  Opposite VSCCA. \nContact the Club Administrator to schedule your day.
URL:https://limerock.com/event/lrdc-hpde-4-4-2-2-4/
LOCATION:Lime Rock Park
CATEGORIES:Lime Rock Drivers Club
END:VEVENT
BEGIN:VEVENT
DTSTART;VALUE=DATE:20240928
DTEND;VALUE=DATE:20240929
DTSTAMP:20260420T082733
CREATED:20240126T192930Z
LAST-MODIFIED:20240126T192930Z
UID:4879-1727481600-1727567999@limerock.com
SUMMARY:LRDC HPDE ALT 10am
DESCRIPTION:LRDC will be on track every other hour starting at 10am.  Opposite VSCCA. \nContact the Club Administrator to schedule your day.
URL:https://limerock.com/event/lrdc-hpde-4-4-2-2-4-2/
LOCATION:Lime Rock Park
CATEGORIES:Lime Rock Drivers Club
END:VEVENT
BEGIN:VEVENT
DTSTART;TZID=America/New_York:20241004T130000
DTEND;TZID=America/New_York:20241004T170000
DTSTAMP:20260420T082734
CREATED:20240126T193027Z
LAST-MODIFIED:20240126T193027Z
UID:4880-1728046800-1728061200@limerock.com
SUMMARY:LRDC HPDE
DESCRIPTION:  \nContact the Club Administrator to schedule your day.
URL:https://limerock.com/event/lrdc-hpde-4-4-2-2-3-2-3-3/
LOCATION:Lime Rock Park
CATEGORIES:Lime Rock Drivers Club
END:VEVENT
BEGIN:VEVENT
DTSTART;VALUE=DATE:20241011
DTEND;VALUE=DATE:20241012
DTSTAMP:20260420T082734
CREATED:20240126T193141Z
LAST-MODIFIED:20240126T193141Z
UID:4882-1728604800-1728691199@limerock.com
SUMMARY:LRDC HPDE
DESCRIPTION:  \nContact the Club Administrator to schedule your day.
URL:https://limerock.com/event/lrdc-hpde-4-4-2-2-3-2-3-2-2/
LOCATION:Lime Rock Park
CATEGORIES:Lime Rock Drivers Club
END:VEVENT
BEGIN:VEVENT
DTSTART;TZID=America/New_York:20241012T090000
DTEND;TZID=America/New_York:20241012T130000
DTSTAMP:20260420T082734
CREATED:20240126T194138Z
LAST-MODIFIED:20240126T194138Z
UID:4883-1728723600-1728738000@limerock.com
SUMMARY:LRDC HPDE
DESCRIPTION:  \nContact the Club Administrator to schedule your day.
URL:https://limerock.com/event/lrdc-hpde-4-4-2-2-3-2-3-2-2-2/
LOCATION:Lime Rock Park
CATEGORIES:Lime Rock Drivers Club
END:VEVENT
BEGIN:VEVENT
DTSTART;VALUE=DATE:20241015
DTEND;VALUE=DATE:20241016
DTSTAMP:20260420T082734
CREATED:20240126T194207Z
LAST-MODIFIED:20240126T194207Z
UID:4884-1728950400-1729036799@limerock.com
SUMMARY:LRDC HPDE
DESCRIPTION:Check back for confirmed on-track times. Contact the Club Administrator to schedule your day.
URL:https://limerock.com/event/lrdc-hpde-4-2-2-3-3-2-2-2/
LOCATION:Lime Rock Park
CATEGORIES:Lime Rock Drivers Club,Unmuffled
END:VEVENT
BEGIN:VEVENT
DTSTART;VALUE=DATE:20241018
DTEND;VALUE=DATE:20241019
DTSTAMP:20260420T082734
CREATED:20240126T194234Z
LAST-MODIFIED:20240126T194234Z
UID:4885-1729209600-1729295999@limerock.com
SUMMARY:LRDC HPDE
DESCRIPTION:  \nContact the Club Administrator to schedule your day.
URL:https://limerock.com/event/lrdc-hpde-4-4-2-2-3-2-3-2-2-3/
LOCATION:Lime Rock Park
CATEGORIES:Lime Rock Drivers Club
END:VEVENT
BEGIN:VEVENT
DTSTART;VALUE=DATE:20241019
DTEND;VALUE=DATE:20241020
DTSTAMP:20260420T082734
CREATED:20240126T194256Z
LAST-MODIFIED:20240126T194256Z
UID:4886-1729296000-1729382399@limerock.com
SUMMARY:LRDC HPDE
DESCRIPTION:  \nContact the Club Administrator to schedule your day.
URL:https://limerock.com/event/lrdc-hpde-4-4-2-2-3-2-3-2-2-3-2/
LOCATION:Lime Rock Park
CATEGORIES:Lime Rock Drivers Club
END:VEVENT
BEGIN:VEVENT
DTSTART;TZID=America/New_York:20241101T090000
DTEND;TZID=America/New_York:20241101T130000
DTSTAMP:20260420T082734
CREATED:20240126T194346Z
LAST-MODIFIED:20240126T194346Z
UID:4888-1730451600-1730466000@limerock.com
SUMMARY:LRDC HPDE
DESCRIPTION:  \nContact the Club Administrator to schedule your day.
URL:https://limerock.com/event/lrdc-hpde-4-4-2-2-3-2-3-2-2-2-2/
LOCATION:Lime Rock Park
CATEGORIES:Lime Rock Drivers Club
END:VEVENT
BEGIN:VEVENT
DTSTART;TZID=America/New_York:20250527T090000
DTEND;TZID=America/New_York:20250527T170000
DTSTAMP:20260420T082734
CREATED:20250418T134828Z
LAST-MODIFIED:20250418T134943Z
UID:7037-1748336400-1748365200@limerock.com
SUMMARY:LRDC
DESCRIPTION:Check back for confirmed on-track times. Contact the Club Administrator to schedule your day.
URL:https://limerock.com/event/lrdc-32/
LOCATION:Lime Rock Park
CATEGORIES:Lime Rock Drivers Club
END:VEVENT
BEGIN:VEVENT
DTSTART;TZID=America/New_York:20250926T100000
DTEND;TZID=America/New_York:20250926T170000
DTSTAMP:20260420T082734
CREATED:20250306T162155Z
LAST-MODIFIED:20250909T194006Z
UID:6814-1758880800-1758906000@limerock.com
SUMMARY:LRDC A10
DESCRIPTION:Check back for confirmed on-track times. Contact the Club Administrator to schedule your day.
URL:https://limerock.com/event/lrdc-a10-4/
LOCATION:Lime Rock Park
CATEGORIES:Lime Rock Drivers Club
END:VEVENT
BEGIN:VEVENT
DTSTART;TZID=America/New_York:20250927T100000
DTEND;TZID=America/New_York:20250927T170000
DTSTAMP:20260420T082734
CREATED:20250306T162156Z
LAST-MODIFIED:20250909T193939Z
UID:6815-1758967200-1758992400@limerock.com
SUMMARY:LRDC A10 Race
DESCRIPTION:Check back for confirmed on-track times. Contact the Club Administrator to schedule your day.
URL:https://limerock.com/event/lrdc-a10-race/
LOCATION:Lime Rock Park
CATEGORIES:Lime Rock Drivers Club
END:VEVENT
END:VCALENDAR