


BEGIN:VCALENDAR
VERSION:2.0
PRODID:-//Lime Rock Park - ECPv6.15.20//NONSGML v1.0//EN
CALSCALE:GREGORIAN
METHOD:PUBLISH
X-WR-CALNAME:Lime Rock Park
X-ORIGINAL-URL:https://limerock.com
X-WR-CALDESC:Events for Lime Rock Park
REFRESH-INTERVAL;VALUE=DURATION:PT1H
X-Robots-Tag:noindex
X-PUBLISHED-TTL:PT1H
BEGIN:VTIMEZONE
TZID:America/New_York
BEGIN:DAYLIGHT
TZOFFSETFROM:-0500
TZOFFSETTO:-0400
TZNAME:EDT
DTSTART:20250309T070000
END:DAYLIGHT
BEGIN:STANDARD
TZOFFSETFROM:-0400
TZOFFSETTO:-0500
TZNAME:EST
DTSTART:20251102T060000
END:STANDARD
BEGIN:DAYLIGHT
TZOFFSETFROM:-0500
TZOFFSETTO:-0400
TZNAME:EDT
DTSTART:20260308T070000
END:DAYLIGHT
BEGIN:STANDARD
TZOFFSETFROM:-0400
TZOFFSETTO:-0500
TZNAME:EST
DTSTART:20261101T060000
END:STANDARD
BEGIN:DAYLIGHT
TZOFFSETFROM:-0500
TZOFFSETTO:-0400
TZNAME:EDT
DTSTART:20270314T070000
END:DAYLIGHT
BEGIN:STANDARD
TZOFFSETFROM:-0400
TZOFFSETTO:-0500
TZNAME:EST
DTSTART:20271107T060000
END:STANDARD
END:VTIMEZONE
BEGIN:VEVENT
DTSTART;TZID=America/New_York:20260523T090000
DTEND;TZID=America/New_York:20260523T170000
DTSTAMP:20260420T064509
CREATED:20260323T140857Z
LAST-MODIFIED:20260323T140857Z
UID:8359-1779526800-1779555600@limerock.com
SUMMARY:Trans Am Memorial Day Classic
DESCRIPTION:Experience the thunder of 850-horsepower American V8s in the TA and TA2 classes while top production-based GT cars battle it out in XGT\, SGT and GT
URL:https://limerock.com/event/trans-am-memorial-day-classic-4/
LOCATION:Lime Rock Park
END:VEVENT
BEGIN:VEVENT
DTSTART;TZID=America/New_York:20260524T090000
DTEND;TZID=America/New_York:20260524T140000
DTSTAMP:20260420T064509
CREATED:20260323T140858Z
LAST-MODIFIED:20260323T140858Z
UID:8360-1779613200-1779631200@limerock.com
SUMMARY:Royals Car Show
DESCRIPTION:Bring your Sunday Driver to the Royals’ Garage Car Show & see if you can take home bragging rights (& a trophy!)
URL:https://limerock.com/event/royals-car-show/
LOCATION:Lime Rock Park
END:VEVENT
BEGIN:VEVENT
DTSTART;TZID=America/New_York:20260527T100000
DTEND;TZID=America/New_York:20260527T120000
DTSTAMP:20260420T064509
CREATED:20260323T140900Z
LAST-MODIFIED:20260323T140900Z
UID:8361-1779876000-1779883200@limerock.com
SUMMARY:Track Tapas
DESCRIPTION:Track Tapas Day is a two-hour educational experience behind the wheel of your own car on both the FCP Euro Proving Grounds and the 1.5-mile road course. Suitable for beginner- or intermediate-level track drivers\, all sessions include expert coaching from our pros.
URL:https://limerock.com/event/track-tapas-15/
END:VEVENT
BEGIN:VEVENT
DTSTART;TZID=America/New_York:20260527T130000
DTEND;TZID=America/New_York:20260527T170000
DTSTAMP:20260420T064509
CREATED:20260323T140952Z
LAST-MODIFIED:20260323T140952Z
UID:8362-1779886800-1779901200@limerock.com
SUMMARY:Autocross Lapping Day
DESCRIPTION:Led by professional instructors on the FCP Euro Proving Grounds\, the Autocross Lapping Days give you the chance to test your skills in performance driving.
URL:https://limerock.com/event/autocross-lapping-day-92/
LOCATION:FCP Euro Proving Grounds
END:VEVENT
BEGIN:VEVENT
DTSTART;TZID=America/New_York:20260529T100000
DTEND;TZID=America/New_York:20260529T180000
DTSTAMP:20260420T064509
CREATED:20260323T140954Z
LAST-MODIFIED:20260323T140954Z
UID:8363-1780048800-1780077600@limerock.com
SUMMARY:Empire Drivers Inc.
DESCRIPTION:This event has 2 groups of HPDE/Track Day cars split by lap times\, along with 1 race group of HRG and 3 race groups of VSCCA vintage race cars. It is un-muffled\, 2 full days of track time and a party for everyone Friday.
URL:https://limerock.com/event/empire-drivers-inc/
LOCATION:Lime Rock Park
END:VEVENT
BEGIN:VEVENT
DTSTART;TZID=America/New_York:20260529T130000
DTEND;TZID=America/New_York:20260529T170000
DTSTAMP:20260420T064509
CREATED:20260323T140955Z
LAST-MODIFIED:20260323T140955Z
UID:8364-1780059600-1780074000@limerock.com
SUMMARY:Autocross Lapping Day
DESCRIPTION:Led by professional instructors on the FCP Euro Proving Grounds\, the Autocross Lapping Days give you the chance to test your skills in performance driving.
URL:https://limerock.com/event/autocross-lapping-day-93/
LOCATION:FCP Euro Proving Grounds
END:VEVENT
BEGIN:VEVENT
DTSTART;TZID=America/New_York:20260530T090000
DTEND;TZID=America/New_York:20260530T170000
DTSTAMP:20260420T064509
CREATED:20260323T140957Z
LAST-MODIFIED:20260323T140957Z
UID:8366-1780131600-1780160400@limerock.com
SUMMARY:Autocross Lapping Day
DESCRIPTION:Led by professional instructors on the FCP Euro Proving Grounds\, the Autocross Lapping Days give you the chance to test your skills in performance driving.
URL:https://limerock.com/event/autocross-lapping-day-94/
LOCATION:FCP Euro Proving Grounds
END:VEVENT
BEGIN:VEVENT
DTSTART;TZID=America/New_York:20260530T090000
DTEND;TZID=America/New_York:20260530T180000
DTSTAMP:20260420T064509
CREATED:20260323T140957Z
LAST-MODIFIED:20260323T140957Z
UID:8365-1780131600-1780164000@limerock.com
SUMMARY:Empire Drivers Inc.
DESCRIPTION:This event has 2 groups of HPDE/Track Day cars split by lap times\, along with 1 race group of HRG and 3 race groups of VSCCA vintage race cars. It is un-muffled\, 2 full days of track time and a party for everyone Friday.
URL:https://limerock.com/event/empire-drivers-inc-2/
LOCATION:Lime Rock Park
END:VEVENT
BEGIN:VEVENT
DTSTART;TZID=America/New_York:20260530T170000
DTEND;TZID=America/New_York:20260530T190000
DTSTAMP:20260420T064509
CREATED:20260323T141023Z
LAST-MODIFIED:20260323T141023Z
UID:8367-1780160400-1780167600@limerock.com
SUMMARY:Karting
DESCRIPTION:Get in the drivers seat on the FCP Euro Proving Grounds\, a half-mile track complete with tight turns & elevation changes\, set against the picturesque backdrop here at Lime Rock Park.
URL:https://limerock.com/event/karting-24/
LOCATION:FCP Euro Proving Grounds
END:VEVENT
BEGIN:VEVENT
DTSTART;TZID=America/New_York:20260531T090000
DTEND;TZID=America/New_York:20260531T170000
DTSTAMP:20260420T064509
CREATED:20260323T141024Z
LAST-MODIFIED:20260323T141024Z
UID:8368-1780218000-1780246800@limerock.com
SUMMARY:Atwood Cycling
DESCRIPTION:The venue is the famous 1.5 mile auto track road course of Lime Rock Park. The course will offer a good variety of sections of speed\, power\, and precision\, and Lime Rock is a good spectator-friendly environment for everyone to come watch the races.
URL:https://limerock.com/event/atwood-cycling-2/
LOCATION:Lime Rock Park
END:VEVENT
BEGIN:VEVENT
DTSTART;TZID=America/New_York:20260602T090000
DTEND;TZID=America/New_York:20260602T130000
DTSTAMP:20260420T064509
CREATED:20260323T141025Z
LAST-MODIFIED:20260323T141025Z
UID:8369-1780390800-1780405200@limerock.com
SUMMARY:Lime Rock Drivers Club
DESCRIPTION:With 50-plus days of track access (depending on membership level)\, The Drivers Club offers an abundance of access to the premier motorsports facility in the Northeast. Learn more at the link below and schedule your day today.
URL:https://limerock.com/event/lime-rock-drivers-club-22/
LOCATION:Lime Rock Park
END:VEVENT
BEGIN:VEVENT
DTSTART;TZID=America/New_York:20260602T120000
DTEND;TZID=America/New_York:20260602T170000
DTSTAMP:20260420T064509
CREATED:20260323T141028Z
LAST-MODIFIED:20260323T141028Z
UID:8371-1780401600-1780419600@limerock.com
SUMMARY:Advanced Driver Coaching
DESCRIPTION:The Advanced Driver Coaching program is four and half to five hours long for experienced track drivers and enthusiasts looking to get more out of their own abilities in their own vehicle (race car or street car).
URL:https://limerock.com/event/advanced-driver-coaching-6/
LOCATION:FCP Euro Proving Grounds
END:VEVENT
BEGIN:VEVENT
DTSTART;TZID=America/New_York:20260602T130000
DTEND;TZID=America/New_York:20260602T180000
DTSTAMP:20260420T064509
CREATED:20260323T141027Z
LAST-MODIFIED:20260323T141027Z
UID:8370-1780405200-1780423200@limerock.com
SUMMARY:Test & Tune
DESCRIPTION:During test & tune days\, licensed racing drivers with certain classes of racecar can take full advantage of Lime Rock Park’s road circuit.
URL:https://limerock.com/event/test-tune-4/
LOCATION:Lime Rock Park
END:VEVENT
BEGIN:VEVENT
DTSTART;TZID=America/New_York:20260603T100000
DTEND;TZID=America/New_York:20260603T120000
DTSTAMP:20260420T064509
CREATED:20260323T141053Z
LAST-MODIFIED:20260323T141053Z
UID:8372-1780480800-1780488000@limerock.com
SUMMARY:Track Tapas
DESCRIPTION:Track Tapas Day is a two-hour educational experience behind the wheel of your own car on both the FCP Euro Proving Grounds and the 1.5-mile road course. Suitable for beginner- or intermediate-level track drivers\, all sessions include expert coaching from our pros.
URL:https://limerock.com/event/track-tapas-16/
END:VEVENT
BEGIN:VEVENT
DTSTART;TZID=America/New_York:20260603T130000
DTEND;TZID=America/New_York:20260603T170000
DTSTAMP:20260420T064509
CREATED:20260323T141054Z
LAST-MODIFIED:20260323T141054Z
UID:8373-1780491600-1780506000@limerock.com
SUMMARY:Autocross Lapping Day
DESCRIPTION:Led by professional instructors on the FCP Euro Proving Grounds\, the Autocross Lapping Days give you the chance to test your skills in performance driving.
URL:https://limerock.com/event/autocross-lapping-day-95/
LOCATION:FCP Euro Proving Grounds
END:VEVENT
BEGIN:VEVENT
DTSTART;TZID=America/New_York:20260605T090000
DTEND;TZID=America/New_York:20260605T180000
DTSTAMP:20260420T064509
CREATED:20260323T141054Z
LAST-MODIFIED:20260323T141054Z
UID:8374-1780650000-1780682400@limerock.com
SUMMARY:PCA CVR Race Weekend
DESCRIPTION:From over 4\,000 local and national events including driving activities\, social gatherings\, autocross\, track days\, high performance driver education\, club racing\, tech sessions\, car shows\, insider exclusives and premieres: there’s something for everyone at PCA.
URL:https://limerock.com/event/pca-cvr-race-weekend/
LOCATION:Lime Rock Park
END:VEVENT
BEGIN:VEVENT
DTSTART;TZID=America/New_York:20260605T130000
DTEND;TZID=America/New_York:20260605T170000
DTSTAMP:20260420T064509
CREATED:20260323T141055Z
LAST-MODIFIED:20260323T141055Z
UID:8375-1780664400-1780678800@limerock.com
SUMMARY:Autocross Lapping Day
DESCRIPTION:Led by professional instructors on the FCP Euro Proving Grounds\, the Autocross Lapping Days give you the chance to test your skills in performance driving.
URL:https://limerock.com/event/autocross-lapping-day-96/
LOCATION:FCP Euro Proving Grounds
END:VEVENT
BEGIN:VEVENT
DTSTART;TZID=America/New_York:20260605T170000
DTEND;TZID=America/New_York:20260605T190000
DTSTAMP:20260420T064509
CREATED:20260323T141056Z
LAST-MODIFIED:20260323T141056Z
UID:8376-1780678800-1780686000@limerock.com
SUMMARY:Karting
DESCRIPTION:Get in the drivers seat on the FCP Euro Proving Grounds\, a half-mile track complete with tight turns & elevation changes\, set against the picturesque backdrop here at Lime Rock Park.
URL:https://limerock.com/event/karting-25/
LOCATION:FCP Euro Proving Grounds
END:VEVENT
BEGIN:VEVENT
DTSTART;TZID=America/New_York:20260606T090000
DTEND;TZID=America/New_York:20260606T130000
DTSTAMP:20260420T064509
CREATED:20260323T141258Z
LAST-MODIFIED:20260323T141258Z
UID:8378-1780736400-1780750800@limerock.com
SUMMARY:Autocross Lapping Day
DESCRIPTION:Led by professional instructors on the FCP Euro Proving Grounds\, the Autocross Lapping Days give you the chance to test your skills in performance driving.
URL:https://limerock.com/event/autocross-lapping-day-97/
LOCATION:FCP Euro Proving Grounds
END:VEVENT
BEGIN:VEVENT
DTSTART;TZID=America/New_York:20260606T090000
DTEND;TZID=America/New_York:20260606T180000
DTSTAMP:20260420T064509
CREATED:20260323T141254Z
LAST-MODIFIED:20260323T141254Z
UID:8377-1780736400-1780768800@limerock.com
SUMMARY:PCA CVR Race Weekend
DESCRIPTION:From over 4\,000 local and national events including driving activities\, social gatherings\, autocross\, track days\, high performance driver education\, club racing\, tech sessions\, car shows\, insider exclusives and premieres: there’s something for everyone at PCA.
URL:https://limerock.com/event/pca-cvr-race-weekend-2/
LOCATION:Lime Rock Park
END:VEVENT
BEGIN:VEVENT
DTSTART;TZID=America/New_York:20260606T130000
DTEND;TZID=America/New_York:20260606T170000
DTSTAMP:20260420T064509
CREATED:20260323T141259Z
LAST-MODIFIED:20260323T141259Z
UID:8379-1780750800-1780765200@limerock.com
SUMMARY:Karting
DESCRIPTION:Get in the drivers seat on the FCP Euro Proving Grounds\, a half-mile track complete with tight turns & elevation changes\, set against the picturesque backdrop here at Lime Rock Park.
URL:https://limerock.com/event/karting-26/
LOCATION:FCP Euro Proving Grounds
END:VEVENT
BEGIN:VEVENT
DTSTART;TZID=America/New_York:20260607T230000
DTEND;TZID=America/New_York:20260607T230000
DTSTAMP:20260420T064509
CREATED:20260323T141300Z
LAST-MODIFIED:20260323T141300Z
UID:8380-1780873200-1780873200@limerock.com
SUMMARY:The Great Country Mutt Show
DESCRIPTION:Free and open to the public the Great Country Mutt Show is a Westminster-style Dog Show that celebrates all breeds and creeds!
URL:https://limerock.com/event/the-great-country-mutt-show/
LOCATION:FCP Euro Proving Grounds
END:VEVENT
BEGIN:VEVENT
DTSTART;TZID=America/New_York:20260609T130000
DTEND;TZID=America/New_York:20260609T170000
DTSTAMP:20260420T064509
CREATED:20260323T141302Z
LAST-MODIFIED:20260323T141302Z
UID:8381-1781010000-1781024400@limerock.com
SUMMARY:Lime Rock Drivers Club
DESCRIPTION:With 50-plus days of track access (depending on membership level)\, The Drivers Club offers an abundance of access to the premier motorsports facility in the Northeast. Learn more at the link below and schedule your day today.
URL:https://limerock.com/event/lime-rock-drivers-club-23/
LOCATION:Lime Rock Park
END:VEVENT
BEGIN:VEVENT
DTSTART;TZID=America/New_York:20260609T130000
DTEND;TZID=America/New_York:20260609T173000
DTSTAMP:20260420T064509
CREATED:20260323T141459Z
LAST-MODIFIED:20260323T141459Z
UID:8382-1781010000-1781026200@limerock.com
SUMMARY:Talus Motorsports
DESCRIPTION:
URL:https://limerock.com/event/talus-motorsports/
LOCATION:FCP Euro Proving Grounds
END:VEVENT
BEGIN:VEVENT
DTSTART;TZID=America/New_York:20260610T130000
DTEND;TZID=America/New_York:20260610T170000
DTSTAMP:20260420T064509
CREATED:20260323T141502Z
LAST-MODIFIED:20260323T141502Z
UID:8383-1781096400-1781110800@limerock.com
SUMMARY:Autocross Lapping Day
DESCRIPTION:Led by professional instructors on the FCP Euro Proving Grounds\, the Autocross Lapping Days give you the chance to test your skills in performance driving.
URL:https://limerock.com/event/autocross-lapping-day-98/
LOCATION:FCP Euro Proving Grounds
END:VEVENT
BEGIN:VEVENT
DTSTART;TZID=America/New_York:20260611T090000
DTEND;TZID=America/New_York:20260611T170000
DTSTAMP:20260420T064509
CREATED:20260323T141504Z
LAST-MODIFIED:20260323T141504Z
UID:8384-1781168400-1781197200@limerock.com
SUMMARY:SCDA
DESCRIPTION:SCDA is back at Lime Rock Park for an HPDE! Click the link below to learn more
URL:https://limerock.com/event/scda-6/
END:VEVENT
BEGIN:VEVENT
DTSTART;TZID=America/New_York:20260612T100000
DTEND;TZID=America/New_York:20260612T180000
DTSTAMP:20260420T064509
CREATED:20260323T141505Z
LAST-MODIFIED:20260323T141505Z
UID:8385-1781258400-1781287200@limerock.com
SUMMARY:SCCA NER
DESCRIPTION:Through the years NER members have enjoyed an active program of motorsport competition including rally\, solo\, club racing\, and rally-cross. Other activities include the Annual Meeting\, presentation of awards\, and recognition of member’s achievements.
URL:https://limerock.com/event/scca-ner/
LOCATION:Lime Rock Park
END:VEVENT
BEGIN:VEVENT
DTSTART;TZID=America/New_York:20260612T130000
DTEND;TZID=America/New_York:20260612T170000
DTSTAMP:20260420T064509
CREATED:20260323T141506Z
LAST-MODIFIED:20260323T141506Z
UID:8386-1781269200-1781283600@limerock.com
SUMMARY:Autocross Lapping Day
DESCRIPTION:Led by professional instructors on the FCP Euro Proving Grounds\, the Autocross Lapping Days give you the chance to test your skills in performance driving.
URL:https://limerock.com/event/autocross-lapping-day-99/
LOCATION:FCP Euro Proving Grounds
END:VEVENT
BEGIN:VEVENT
DTSTART;TZID=America/New_York:20260613T090000
DTEND;TZID=America/New_York:20260613T170000
DTSTAMP:20260420T064509
CREATED:20260323T141706Z
LAST-MODIFIED:20260323T141706Z
UID:8388-1781341200-1781370000@limerock.com
SUMMARY:GPE AX
DESCRIPTION:We will be running three classes on a fast and fun course layout that includes elevation changes\, a mix of corner profiles\, and other elements you typically don’t see at an autocross.
URL:https://limerock.com/event/gpe-ax-2/
LOCATION:FCP Euro Proving Grounds
END:VEVENT
BEGIN:VEVENT
DTSTART;TZID=America/New_York:20260613T090000
DTEND;TZID=America/New_York:20260613T180000
DTSTAMP:20260420T064509
CREATED:20260323T141704Z
LAST-MODIFIED:20260323T141704Z
UID:8387-1781341200-1781373600@limerock.com
SUMMARY:SCCA NER
DESCRIPTION:Through the years NER members have enjoyed an active program of motorsport competition including rally\, solo\, club racing\, and rally-cross. Other activities include the Annual Meeting\, presentation of awards\, and recognition of member’s achievements.
URL:https://limerock.com/event/scca-ner-2/
LOCATION:Lime Rock Park
END:VEVENT
END:VCALENDAR