


BEGIN:VCALENDAR
VERSION:2.0
PRODID:-//Lime Rock Park - ECPv6.15.20//NONSGML v1.0//EN
CALSCALE:GREGORIAN
METHOD:PUBLISH
X-WR-CALNAME:Lime Rock Park
X-ORIGINAL-URL:https://limerock.com
X-WR-CALDESC:Events for Lime Rock Park
REFRESH-INTERVAL;VALUE=DURATION:PT1H
X-Robots-Tag:noindex
X-PUBLISHED-TTL:PT1H
BEGIN:VTIMEZONE
TZID:America/New_York
BEGIN:DAYLIGHT
TZOFFSETFROM:-0500
TZOFFSETTO:-0400
TZNAME:EDT
DTSTART:20250309T070000
END:DAYLIGHT
BEGIN:STANDARD
TZOFFSETFROM:-0400
TZOFFSETTO:-0500
TZNAME:EST
DTSTART:20251102T060000
END:STANDARD
BEGIN:DAYLIGHT
TZOFFSETFROM:-0500
TZOFFSETTO:-0400
TZNAME:EDT
DTSTART:20260308T070000
END:DAYLIGHT
BEGIN:STANDARD
TZOFFSETFROM:-0400
TZOFFSETTO:-0500
TZNAME:EST
DTSTART:20261101T060000
END:STANDARD
BEGIN:DAYLIGHT
TZOFFSETFROM:-0500
TZOFFSETTO:-0400
TZNAME:EDT
DTSTART:20270314T070000
END:DAYLIGHT
BEGIN:STANDARD
TZOFFSETFROM:-0400
TZOFFSETTO:-0500
TZNAME:EST
DTSTART:20271107T060000
END:STANDARD
END:VTIMEZONE
BEGIN:VEVENT
DTSTART;TZID=America/New_York:20260607T230000
DTEND;TZID=America/New_York:20260607T230000
DTSTAMP:20260421T054855
CREATED:20260323T141300Z
LAST-MODIFIED:20260323T141300Z
UID:8380-1780873200-1780873200@limerock.com
SUMMARY:The Great Country Mutt Show
DESCRIPTION:Free and open to the public the Great Country Mutt Show is a Westminster-style Dog Show that celebrates all breeds and creeds!
URL:https://limerock.com/event/the-great-country-mutt-show/
LOCATION:FCP Euro Proving Grounds
END:VEVENT
BEGIN:VEVENT
DTSTART;TZID=America/New_York:20260609T130000
DTEND;TZID=America/New_York:20260609T170000
DTSTAMP:20260421T054855
CREATED:20260323T141302Z
LAST-MODIFIED:20260323T141302Z
UID:8381-1781010000-1781024400@limerock.com
SUMMARY:Lime Rock Drivers Club
DESCRIPTION:With 50-plus days of track access (depending on membership level)\, The Drivers Club offers an abundance of access to the premier motorsports facility in the Northeast. Learn more at the link below and schedule your day today.
URL:https://limerock.com/event/lime-rock-drivers-club-23/
LOCATION:Lime Rock Park
END:VEVENT
BEGIN:VEVENT
DTSTART;TZID=America/New_York:20260609T130000
DTEND;TZID=America/New_York:20260609T173000
DTSTAMP:20260421T054855
CREATED:20260323T141459Z
LAST-MODIFIED:20260323T141459Z
UID:8382-1781010000-1781026200@limerock.com
SUMMARY:Talus Motorsports
DESCRIPTION:
URL:https://limerock.com/event/talus-motorsports/
LOCATION:FCP Euro Proving Grounds
END:VEVENT
BEGIN:VEVENT
DTSTART;TZID=America/New_York:20260610T130000
DTEND;TZID=America/New_York:20260610T170000
DTSTAMP:20260421T054855
CREATED:20260323T141502Z
LAST-MODIFIED:20260323T141502Z
UID:8383-1781096400-1781110800@limerock.com
SUMMARY:Autocross Lapping Day
DESCRIPTION:Led by professional instructors on the FCP Euro Proving Grounds\, the Autocross Lapping Days give you the chance to test your skills in performance driving.
URL:https://limerock.com/event/autocross-lapping-day-98/
LOCATION:FCP Euro Proving Grounds
END:VEVENT
BEGIN:VEVENT
DTSTART;TZID=America/New_York:20260611T090000
DTEND;TZID=America/New_York:20260611T170000
DTSTAMP:20260421T054855
CREATED:20260323T141504Z
LAST-MODIFIED:20260323T141504Z
UID:8384-1781168400-1781197200@limerock.com
SUMMARY:SCDA
DESCRIPTION:SCDA is back at Lime Rock Park for an HPDE! Click the link below to learn more
URL:https://limerock.com/event/scda-6/
END:VEVENT
BEGIN:VEVENT
DTSTART;TZID=America/New_York:20260612T100000
DTEND;TZID=America/New_York:20260612T180000
DTSTAMP:20260421T054855
CREATED:20260323T141505Z
LAST-MODIFIED:20260323T141505Z
UID:8385-1781258400-1781287200@limerock.com
SUMMARY:SCCA NER
DESCRIPTION:Through the years NER members have enjoyed an active program of motorsport competition including rally\, solo\, club racing\, and rally-cross. Other activities include the Annual Meeting\, presentation of awards\, and recognition of member’s achievements.
URL:https://limerock.com/event/scca-ner/
LOCATION:Lime Rock Park
END:VEVENT
BEGIN:VEVENT
DTSTART;TZID=America/New_York:20260612T130000
DTEND;TZID=America/New_York:20260612T170000
DTSTAMP:20260421T054855
CREATED:20260323T141506Z
LAST-MODIFIED:20260323T141506Z
UID:8386-1781269200-1781283600@limerock.com
SUMMARY:Autocross Lapping Day
DESCRIPTION:Led by professional instructors on the FCP Euro Proving Grounds\, the Autocross Lapping Days give you the chance to test your skills in performance driving.
URL:https://limerock.com/event/autocross-lapping-day-99/
LOCATION:FCP Euro Proving Grounds
END:VEVENT
BEGIN:VEVENT
DTSTART;TZID=America/New_York:20260613T090000
DTEND;TZID=America/New_York:20260613T170000
DTSTAMP:20260421T054855
CREATED:20260323T141706Z
LAST-MODIFIED:20260323T141706Z
UID:8388-1781341200-1781370000@limerock.com
SUMMARY:GPE AX
DESCRIPTION:We will be running three classes on a fast and fun course layout that includes elevation changes\, a mix of corner profiles\, and other elements you typically don’t see at an autocross.
URL:https://limerock.com/event/gpe-ax-2/
LOCATION:FCP Euro Proving Grounds
END:VEVENT
BEGIN:VEVENT
DTSTART;TZID=America/New_York:20260613T090000
DTEND;TZID=America/New_York:20260613T180000
DTSTAMP:20260421T054855
CREATED:20260323T141704Z
LAST-MODIFIED:20260323T141704Z
UID:8387-1781341200-1781373600@limerock.com
SUMMARY:SCCA NER
DESCRIPTION:Through the years NER members have enjoyed an active program of motorsport competition including rally\, solo\, club racing\, and rally-cross. Other activities include the Annual Meeting\, presentation of awards\, and recognition of member’s achievements.
URL:https://limerock.com/event/scca-ner-2/
LOCATION:Lime Rock Park
END:VEVENT
BEGIN:VEVENT
DTSTART;TZID=America/New_York:20260615T100000
DTEND;TZID=America/New_York:20260615T170000
DTSTAMP:20260421T054855
CREATED:20260323T141707Z
LAST-MODIFIED:20260323T141707Z
UID:8389-1781517600-1781542800@limerock.com
SUMMARY:MassTuning
DESCRIPTION:The largest automotive community in the Northeast\, offering the most track days in the region.60+ events over 15 circuits including each and every road course in the area.
URL:https://limerock.com/event/masstuning-8/
LOCATION:Lime Rock Park
END:VEVENT
BEGIN:VEVENT
DTSTART;TZID=America/New_York:20260616T130000
DTEND;TZID=America/New_York:20260616T170000
DTSTAMP:20260421T054855
CREATED:20260323T141708Z
LAST-MODIFIED:20260323T141708Z
UID:8390-1781614800-1781629200@limerock.com
SUMMARY:Autocross Lapping Day
DESCRIPTION:Led by professional instructors on the FCP Euro Proving Grounds\, the Autocross Lapping Days give you the chance to test your skills in performance driving.
URL:https://limerock.com/event/autocross-lapping-day-100/
LOCATION:FCP Euro Proving Grounds
END:VEVENT
BEGIN:VEVENT
DTSTART;TZID=America/New_York:20260617T140000
DTEND;TZID=America/New_York:20260617T180000
DTSTAMP:20260421T054855
CREATED:20260323T141710Z
LAST-MODIFIED:20260323T141710Z
UID:8391-1781704800-1781719200@limerock.com
SUMMARY:SCCA TNiA
DESCRIPTION:Track Nights are laid back\, affordable and an amazing opportunity to experience racetracks in a no-pressure environment. All you need is a mechanically-sound (street!) car and a helmet… making Track Night undeniably the fastest way to get on a racetrack.
URL:https://limerock.com/event/scca-tnia-8/
LOCATION:Lime Rock Park
END:VEVENT
BEGIN:VEVENT
DTSTART;TZID=America/New_York:20260619T090000
DTEND;TZID=America/New_York:20260619T130000
DTSTAMP:20260421T054855
CREATED:20260323T141901Z
LAST-MODIFIED:20260323T141901Z
UID:8393-1781859600-1781874000@limerock.com
SUMMARY:Lime Rock Drivers Club A10
DESCRIPTION:With 50-plus days of track access (depending on membership level)\, The Drivers Club offers an abundance of access to the premier motorsports facility in the Northeast. Learn more at the link below and schedule your day today.
URL:https://limerock.com/event/lime-rock-drivers-club-a10-6/
LOCATION:Lime Rock Park
END:VEVENT
BEGIN:VEVENT
DTSTART;TZID=America/New_York:20260619T090000
DTEND;TZID=America/New_York:20260619T180000
DTSTAMP:20260421T054855
CREATED:20260323T141858Z
LAST-MODIFIED:20260323T141858Z
UID:8392-1781859600-1781892000@limerock.com
SUMMARY:Burnout Motorsport A9
DESCRIPTION:
URL:https://limerock.com/event/burnout-motorsport-a9-4/
LOCATION:Lime Rock Park
END:VEVENT
BEGIN:VEVENT
DTSTART;TZID=America/New_York:20260619T130000
DTEND;TZID=America/New_York:20260619T170000
DTSTAMP:20260421T054855
CREATED:20260323T141902Z
LAST-MODIFIED:20260323T141902Z
UID:8394-1781874000-1781888400@limerock.com
SUMMARY:Autocross Lapping Day
DESCRIPTION:Led by professional instructors on the FCP Euro Proving Grounds\, the Autocross Lapping Days give you the chance to test your skills in performance driving.
URL:https://limerock.com/event/autocross-lapping-day-101/
LOCATION:FCP Euro Proving Grounds
END:VEVENT
BEGIN:VEVENT
DTSTART;TZID=America/New_York:20260619T170000
DTEND;TZID=America/New_York:20260619T190000
DTSTAMP:20260421T054855
CREATED:20260323T141903Z
LAST-MODIFIED:20260323T141903Z
UID:8395-1781888400-1781895600@limerock.com
SUMMARY:Karting
DESCRIPTION:Get in the drivers seat on the FCP Euro Proving Grounds\, a half-mile track complete with tight turns & elevation changes\, set against the picturesque backdrop here at Lime Rock Park.
URL:https://limerock.com/event/karting-27/
LOCATION:FCP Euro Proving Grounds
END:VEVENT
BEGIN:VEVENT
DTSTART;TZID=America/New_York:20260620T090000
DTEND;TZID=America/New_York:20260620T130000
DTSTAMP:20260421T054855
CREATED:20260323T142101Z
LAST-MODIFIED:20260323T142101Z
UID:8397-1781946000-1781960400@limerock.com
SUMMARY:Lime Rock Drivers Club A10
DESCRIPTION:With 50-plus days of track access (depending on membership level)\, The Drivers Club offers an abundance of access to the premier motorsports facility in the Northeast. Learn more at the link below and schedule your day today.
URL:https://limerock.com/event/lime-rock-drivers-club-a10-7/
LOCATION:Lime Rock Park
END:VEVENT
BEGIN:VEVENT
DTSTART;TZID=America/New_York:20260620T090000
DTEND;TZID=America/New_York:20260620T170000
DTSTAMP:20260421T054855
CREATED:20260323T142104Z
LAST-MODIFIED:20260323T142104Z
UID:8398-1781946000-1781974800@limerock.com
SUMMARY:FCSCC B
DESCRIPTION:FCSCC provides an outlet for automobile enthusiasts to train and test their limits behind the wheel in a safe environment through an annual autocross rookie school and a series of autocross events.
URL:https://limerock.com/event/fcscc-b/
LOCATION:Lime Rock Park
END:VEVENT
BEGIN:VEVENT
DTSTART;TZID=America/New_York:20260620T170000
DTEND;TZID=America/New_York:20260620T180000
DTSTAMP:20260421T054855
CREATED:20260323T141906Z
LAST-MODIFIED:20260323T141906Z
UID:8396-1781974800-1781978400@limerock.com
SUMMARY:Burnout Motorsport A9
DESCRIPTION:
URL:https://limerock.com/event/burnout-motorsport-a9-5/
LOCATION:Lime Rock Park
END:VEVENT
BEGIN:VEVENT
DTSTART;TZID=America/New_York:20260624T100000
DTEND;TZID=America/New_York:20260624T120000
DTSTAMP:20260421T054855
CREATED:20260323T142106Z
LAST-MODIFIED:20260323T142106Z
UID:8399-1782295200-1782302400@limerock.com
SUMMARY:Track Tapas
DESCRIPTION:Track Tapas Day is a two-hour educational experience behind the wheel of your own car on both the FCP Euro Proving Grounds and the 1.5-mile road course. Suitable for beginner- or intermediate-level track drivers\, all sessions include expert coaching from our pros.
URL:https://limerock.com/event/track-tapas-17/
LOCATION:Lime Rock Park
END:VEVENT
BEGIN:VEVENT
DTSTART;TZID=America/New_York:20260624T130000
DTEND;TZID=America/New_York:20260624T170000
DTSTAMP:20260421T054855
CREATED:20260323T142107Z
LAST-MODIFIED:20260323T142107Z
UID:8400-1782306000-1782320400@limerock.com
SUMMARY:Autocross Lapping Day
DESCRIPTION:Led by professional instructors on the FCP Euro Proving Grounds\, the Autocross Lapping Days give you the chance to test your skills in performance driving.
URL:https://limerock.com/event/autocross-lapping-day-102/
LOCATION:FCP Euro Proving Grounds
END:VEVENT
BEGIN:VEVENT
DTSTART;TZID=America/New_York:20260625T130000
DTEND;TZID=America/New_York:20260625T170000
DTSTAMP:20260421T054855
CREATED:20260323T142109Z
LAST-MODIFIED:20260323T142109Z
UID:8401-1782392400-1782406800@limerock.com
SUMMARY:Intro to Racing
DESCRIPTION:Designed for first-timers on Lime Rock Park’s 1.5 mile circuit\, the day blends classroom instruction with paced laps\, live on-track coaching\, and controlled open lapping.
URL:https://limerock.com/event/intro-to-racing-3/
LOCATION:Lime Rock Park
END:VEVENT
BEGIN:VEVENT
DTSTART;TZID=America/New_York:20260626T090000
DTEND;TZID=America/New_York:20260626T130000
DTSTAMP:20260421T054855
CREATED:20260324T184138Z
LAST-MODIFIED:20260324T184138Z
UID:8408-1782464400-1782478800@limerock.com
SUMMARY:Lime Rock Drivers Club
DESCRIPTION:With 50-plus days of track access (depending on membership level)\, The Drivers Club offers an abundance of access to the premier motorsports facility in the Northeast. Learn more at the link below and schedule your day today.
URL:https://limerock.com/event/lime-rock-drivers-club-24/
LOCATION:Lime Rock Park
END:VEVENT
BEGIN:VEVENT
DTSTART;TZID=America/New_York:20260626T090000
DTEND;TZID=America/New_York:20260626T170000
DTSTAMP:20260421T054855
CREATED:20260324T184139Z
LAST-MODIFIED:20260324T184139Z
UID:8409-1782464400-1782493200@limerock.com
SUMMARY:Gorman Performance Engineering AX
DESCRIPTION:We will be running three classes on a fast and fun course layout that includes elevation changes\, a mix of corner profiles\, and other elements you typically don’t see at an autocross.
URL:https://limerock.com/event/gorman-performance-engineering-ax/
LOCATION:FCP Euro Proving Grounds
END:VEVENT
BEGIN:VEVENT
DTSTART;TZID=America/New_York:20260627T090000
DTEND;TZID=America/New_York:20260627T130000
DTSTAMP:20260421T054855
CREATED:20260324T184141Z
LAST-MODIFIED:20260324T184141Z
UID:8410-1782550800-1782565200@limerock.com
SUMMARY:Lime Rock Drivers Club
DESCRIPTION:With 50-plus days of track access (depending on membership level)\, The Drivers Club offers an abundance of access to the premier motorsports facility in the Northeast. Learn more at the link below and schedule your day today.
URL:https://limerock.com/event/lime-rock-drivers-club-25/
LOCATION:Lime Rock Park
END:VEVENT
BEGIN:VEVENT
DTSTART;TZID=America/New_York:20260627T090000
DTEND;TZID=America/New_York:20260627T170000
DTSTAMP:20260421T054855
CREATED:20260324T184144Z
LAST-MODIFIED:20260324T184144Z
UID:8412-1782550800-1782579600@limerock.com
SUMMARY:FCSCC - B Paddock
DESCRIPTION:FCSCC provides an outlet for automobile enthusiasts to train and test their limits behind the wheel in a safe environment through an annual autocross rookie school and a series of autocross events.
URL:https://limerock.com/event/fcscc-b-paddock-3/
LOCATION:Lime Rock Park
END:VEVENT
BEGIN:VEVENT
DTSTART;TZID=America/New_York:20260627T090000
DTEND;TZID=America/New_York:20260627T180000
DTSTAMP:20260421T054855
CREATED:20260324T184149Z
LAST-MODIFIED:20260324T184149Z
UID:8413-1782550800-1782583200@limerock.com
SUMMARY:Velocity Driving Events AX
DESCRIPTION:You can experience everything these cars have to offer on our custom-designed autocross agility courses at various locations across the country.
URL:https://limerock.com/event/velocity-driving-events-ax/
LOCATION:FCP Euro Proving Grounds
END:VEVENT
BEGIN:VEVENT
DTSTART;TZID=America/New_York:20260627T130000
DTEND;TZID=America/New_York:20260627T170000
DTSTAMP:20260421T054855
CREATED:20260324T184142Z
LAST-MODIFIED:20260324T184142Z
UID:8411-1782565200-1782579600@limerock.com
SUMMARY:Driven Project
DESCRIPTION:Driven Project events are designed to provide an all-consuming escape from reality for our incredible co-pilots. We help kids recharge their batteries\, spark a sense of wonderment\, and conjure newfound resilience.
URL:https://limerock.com/event/driven-project/
LOCATION:Lime Rock Park
END:VEVENT
BEGIN:VEVENT
DTSTART;TZID=America/New_York:20260703T090000
DTEND;TZID=America/New_York:20260703T130000
DTSTAMP:20260421T054855
CREATED:20260324T184150Z
LAST-MODIFIED:20260324T184150Z
UID:8414-1783069200-1783083600@limerock.com
SUMMARY:Lime Rock Drivers Club
DESCRIPTION:With 50-plus days of track access (depending on membership level)\, The Drivers Club offers an abundance of access to the premier motorsports facility in the Northeast. Learn more at the link below and schedule your day today.
URL:https://limerock.com/event/lime-rock-drivers-club-26/
LOCATION:Lime Rock Park
END:VEVENT
BEGIN:VEVENT
DTSTART;TZID=America/New_York:20260703T090000
DTEND;TZID=America/New_York:20260703T170000
DTSTAMP:20260421T054855
CREATED:20260324T184151Z
LAST-MODIFIED:20260324T184151Z
UID:8415-1783069200-1783098000@limerock.com
SUMMARY:SCDA
DESCRIPTION:SCDA is back at Lime Rock Park for an HPDE! Click the link below to learn more
URL:https://limerock.com/event/scda-7/
END:VEVENT
END:VCALENDAR