


BEGIN:VCALENDAR
VERSION:2.0
PRODID:-//Lime Rock Park - ECPv6.15.20//NONSGML v1.0//EN
CALSCALE:GREGORIAN
METHOD:PUBLISH
X-WR-CALNAME:Lime Rock Park
X-ORIGINAL-URL:https://limerock.com
X-WR-CALDESC:Events for Lime Rock Park
REFRESH-INTERVAL;VALUE=DURATION:PT1H
X-Robots-Tag:noindex
X-PUBLISHED-TTL:PT1H
BEGIN:VTIMEZONE
TZID:America/New_York
BEGIN:DAYLIGHT
TZOFFSETFROM:-0500
TZOFFSETTO:-0400
TZNAME:EDT
DTSTART:20210314T070000
END:DAYLIGHT
BEGIN:STANDARD
TZOFFSETFROM:-0400
TZOFFSETTO:-0500
TZNAME:EST
DTSTART:20211107T060000
END:STANDARD
BEGIN:DAYLIGHT
TZOFFSETFROM:-0500
TZOFFSETTO:-0400
TZNAME:EDT
DTSTART:20220313T070000
END:DAYLIGHT
BEGIN:STANDARD
TZOFFSETFROM:-0400
TZOFFSETTO:-0500
TZNAME:EST
DTSTART:20221106T060000
END:STANDARD
BEGIN:DAYLIGHT
TZOFFSETFROM:-0500
TZOFFSETTO:-0400
TZNAME:EDT
DTSTART:20230312T070000
END:DAYLIGHT
BEGIN:STANDARD
TZOFFSETFROM:-0400
TZOFFSETTO:-0500
TZNAME:EST
DTSTART:20231105T060000
END:STANDARD
END:VTIMEZONE
BEGIN:VEVENT
DTSTART;TZID=America/New_York:20220608T140000
DTEND;TZID=America/New_York:20220608T180000
DTSTAMP:20260420T124639
CREATED:20220215T155538Z
LAST-MODIFIED:20220215T155538Z
UID:1004-1654696800-1654711200@limerock.com
SUMMARY:SCCA Track Night In America
DESCRIPTION:SCCA’s Track Night In America is back at Lime Rock Park for 2022! For more information & registration\, please click here.
URL:https://limerock.com/event/tnia0608/
LOCATION:Lime Rock Park
END:VEVENT
BEGIN:VEVENT
DTSTART;TZID=America/New_York:20220607T120000
DTEND;TZID=America/New_York:20220607T170000
DTSTAMP:20260420T124639
CREATED:20220215T155026Z
LAST-MODIFIED:20220406T152229Z
UID:1003-1654603200-1654621200@limerock.com
SUMMARY:Advanced Driver Coaching
DESCRIPTION:The Advanced Driver Coaching program is four and half to five hours long for experienced track drivers and enthusiasts looking to get more out of their own abilities in their own vehicle (race car or street car). This program is ideal preparation for casual or competitive performance driving events. Take advantage of the FCP Euro Proving Grounds\, including the 300-foot diameter skid pad\, to get maximum training time on the way to improving lap times\, car feel and competitiveness. \n\n$550 registration fee per driver\, with max enrollment of 16 drivers\nLed by five professional track driving and racing coaches\nSkid pad sessions include use of a Lime Rock Park-provided Mazda MX-5 to prevent excessive wear and tear on personal vehicles\nSessions generally take place during unmuffled Tuesdays\, so as not to compete for time with track days or race weekends\n\nThis program is for you if you’re looking for: \n\nA substantial amount of time driving with pro coaches on a course designed to develop driver skills\nCurriculum that allows for repetitive technique development and intensive skill building\nExercises focused on precision car control development on the skid pad\nUn-muffled dates allow for amateur racers to receive feedback specific to their racecar\nA stupendous value when compared to cost of private coaching and skid pad rental\n\nTo register\, please click here. \nFor more information\, please click here!
URL:https://limerock.com/event/adc0607/
LOCATION:FCP Euro Proving Grounds
END:VEVENT
BEGIN:VEVENT
DTSTART;TZID=America/New_York:20220607T090000
DTEND;TZID=America/New_York:20220607T130000
DTSTAMP:20260420T124639
CREATED:20220215T154647Z
LAST-MODIFIED:20220215T154916Z
UID:1002-1654592400-1654606800@limerock.com
SUMMARY:Lime Rock Drivers Club Lapping Day
DESCRIPTION:The Lime Rock Drivers Club is hosting one of their regular track days. Looking to get out onto Lime Rock Park more frequently? Visit https://limerockclub.com to learn more about becoming a Drivers Club member.
URL:https://limerock.com/event/lrdc0607/
LOCATION:Lime Rock Park
CATEGORIES:Lime Rock Drivers Club
END:VEVENT
BEGIN:VEVENT
DTSTART;TZID=America/New_York:20220604T090000
DTEND;TZID=America/New_York:20220604T170000
DTSTAMP:20260420T124639
CREATED:20220214T214035Z
LAST-MODIFIED:20220406T152021Z
UID:985-1654333200-1654362000@limerock.com
SUMMARY:Autocross Lapping Day
DESCRIPTION:Lime Rock Park’s Autocross Lapping Days are your ticket to go all-out on the FCP Euro Proving Grounds. An AM (9am-1pm) and PM (1pm-5pm) session will be run on June 4th. \nAn Autocross Lapping Days is four and a half to five hours of fun for individuals or groups looking to drive their own car (most participants use their street car) in a performance setting with minimal investment. \n\n$325 registration fee per driver\, with max enrollment of 25 drivers\nLed by 3 professional Instructors to keep the event running smoothly and provide\ndriving feedback when needed.\n\nThis program is for you if you’re looking for: \n\nAn abundance of driving time in a run-group format that is conducive to drivers of all skill levels\nThe fewest obstacles and smallest time investment to participate in a performance driving event\nAffordable\, entry-level price point that is a bargain for the driving time provided. You’ll go home tired\, but with a smile on your face!\n\nPlease click here to register for 9am-1pm. \nPlease click here to register for 1pm-5pm. \nTo be updated on all things FCP Euro Proving Grounds & Lime Rock Park\, visit https://limerock.com/fan-club/.
URL:https://limerock.com/event/ald0604/
LOCATION:FCP Euro Proving Grounds
END:VEVENT
BEGIN:VEVENT
DTSTART;TZID=America/New_York:20220603T100000
DTEND;TZID=America/New_York:20220603T150000
DTSTAMP:20260420T124639
CREATED:20220214T213650Z
LAST-MODIFIED:20220531T165828Z
UID:984-1654250400-1654268400@limerock.com
SUMMARY:Lime Rock Drivers Club Autocross Day
DESCRIPTION:The Lime Rock Drivers Club will sharpening their skills on the FCP Euro Proving Grounds. Thinking of joining the Drivers Club? Visit limerockclub.com to learn more.
URL:https://limerock.com/event/lrdcax0603/
LOCATION:FCP Euro Proving Grounds
CATEGORIES:Lime Rock Drivers Club
END:VEVENT
BEGIN:VEVENT
DTSTART;TZID=America/New_York:20220603T090000
DTEND;TZID=America/New_York:20220604T180000
DTSTAMP:20260420T124639
CREATED:20220214T212945Z
LAST-MODIFIED:20220420T183909Z
UID:983-1654246800-1654365600@limerock.com
SUMMARY:Empire Drivers Inc. (Unmuffled)
DESCRIPTION:From Empire Drivers Inc: \nEmpire Drivers Inc. two day event at Lime Rock Park Friday June 3 & Saturday June 4\, 2022. Space is available in the two groups of track day cars HPDE. (Touring rules) $525.00 – two days (at least 7 sessions). Un-muffled\, track from 9am till 6:00pm. Camping Thursday & Friday night (PLEASE CONTACT EMPIRE DRIVERS INC. FOR CAMPING INQUIRIES\, NOT LIME ROCK PARK). This event is open to experienced drivers only. No instruction will be available. Other groups HRG (SCCA vintage race group) and VSCCA. Contact: cbordin123@aol.com for more information and entry form. \nFor more information & registration\, please click here.
URL:https://limerock.com/event/empire0603/
LOCATION:Lime Rock Park
CATEGORIES:Unmuffled
END:VEVENT
BEGIN:VEVENT
DTSTART;TZID=America/New_York:20220602T130000
DTEND;TZID=America/New_York:20220602T170000
DTSTAMP:20260420T124639
CREATED:20220301T183321Z
LAST-MODIFIED:20220406T151307Z
UID:1208-1654174800-1654189200@limerock.com
SUMMARY:Autocross Lapping Day
DESCRIPTION:Lime Rock Park will be hosting Autocross Lapping Days on the FCP Euro Proving Grounds! The June 2 session will run from 1pm-5pm. \nAn Autocross Lapping Day is four and a half to five hours of fun for individuals or groups looking to drive their own car (most participants use their street car) in a performance setting with minimal investment. \n\n$325 registration fee per driver\, with max enrollment of 25 drivers\nLed by 3 professional Instructors to keep the event running smoothly and provide\ndriving feedback when needed.\n\nThis program is for you if you’re looking for: \n\nAn abundance of driving time in a run-group format that is conducive to drivers of all skill levels\nThe fewest obstacles and smallest time investment to participate in a performance driving event\nAffordable\, entry-level price point that is a bargain for the driving time provided. You’ll go home tired\, but with a smile on your face!\n\nPlease click here to register. \nTo be updated on all things FCP Euro Proving Grounds & Lime Rock Park\, visit https://limerock.com/fan-club/.
URL:https://limerock.com/event/ald0602/
LOCATION:FCP Euro Proving Grounds
END:VEVENT
BEGIN:VEVENT
DTSTART;TZID=America/New_York:20220602T100000
DTEND;TZID=America/New_York:20220602T120000
DTSTAMP:20260420T124639
CREATED:20220302T143003Z
LAST-MODIFIED:20220406T151412Z
UID:1216-1654164000-1654171200@limerock.com
SUMMARY:Track Tapas
DESCRIPTION:Track Tapas is the best way to sample the FCP Euro Proving Grounds and the road course in one day. \nTrack Tapas Day is a two-hour educational experience behind the wheel of your own car on both the FCP Euro Proving Grounds and the 1.5-mile road course. Suitable for beginner- or intermediate-level track drivers\, all sessions include expert coaching from our pros. \nProgram Highlights \n\nAny car or truck type accepted\nSmall group sizes (10 per group)\nGroup and one-on-one coaching\nOn-track\, lead-follow sessions get your up to speed quickly and safely\nMust be at least 18 years old with a valid driver’s license\nMorning session:10:00 AM. Afternoon session: 2:00 PM\n\n  \nPlease click here to register. \n 
URL:https://limerock.com/event/tt0602/
LOCATION:Lime Rock Park
CATEGORIES:Track Tapas
END:VEVENT
BEGIN:VEVENT
DTSTART;TZID=America/New_York:20220531T130000
DTEND;TZID=America/New_York:20220531T170000
DTSTAMP:20260420T124639
CREATED:20220214T212213Z
LAST-MODIFIED:20220215T140410Z
UID:982-1654002000-1654016400@limerock.com
SUMMARY:Lime Rock Drivers Club Lapping Day (Unmuffled)
DESCRIPTION:The Lime Rock Drivers Club is hosting one of their regular\, unmuffled track days. Looking to get out onto Lime Rock Park more frequently? Visit limerockclub.com to learn more about becoming a Drivers Club member.
URL:https://limerock.com/event/lrdc0531/
LOCATION:Lime Rock Park
CATEGORIES:Lime Rock Drivers Club,Unmuffled
END:VEVENT
BEGIN:VEVENT
DTSTART;TZID=America/New_York:20220529T090000
DTEND;TZID=America/New_York:20220529T170000
DTSTAMP:20260420T124639
CREATED:20220214T211348Z
LAST-MODIFIED:20220214T211835Z
UID:981-1653814800-1653843600@limerock.com
SUMMARY:Royals' Garage Car Show
DESCRIPTION:The annual Royals’ Garage Car Show is back for 2022! Bring your car out & come see what Royals’ Garage has on display. As always\, proceeds will go to charity. Charity to be announced soon. \nBe sure to check back here or here for updates!
URL:https://limerock.com/event/royals-garage-car-show-2022/
LOCATION:Lime Rock Park
END:VEVENT
BEGIN:VEVENT
DTSTART;TZID=America/New_York:20220527T090000
DTEND;TZID=America/New_York:20220529T170000
DTSTAMP:20260420T124639
CREATED:20220215T194820Z
LAST-MODIFIED:20220215T194820Z
UID:1025-1653642000-1653843600@limerock.com
SUMMARY:Skip Barber 3 Day Racing School – Mustang GT
DESCRIPTION:From Skip Barber Racing School: \nThe Three Day Racing School is every driver’s gateway to motorsports and racing. This is Skip Barber Racing School’s signature product – with a curriculum that combines classroom sessions with practical hands on seat time. The Three Day Racing School is a prerequisite for racers interested in obtaining a club\, professional or international racing license. In this unique program\, students master the fundamentals of racing in classroom and driving sessions. The cars used in the program are our race prepared Mustang GT School Cars. The School Car has braking and cornering capabilities that vastly exceed any street or sports car. \nFor more information & registration\, please click here.
URL:https://limerock.com/event/sbrs0627/
LOCATION:Lime Rock Park
END:VEVENT
BEGIN:VEVENT
DTSTART;TZID=America/New_York:20220527T080000
DTEND;TZID=America/New_York:20220530T170000
DTSTAMP:20260420T124639
CREATED:20220214T210657Z
LAST-MODIFIED:20220214T210723Z
UID:980-1653638400-1653930000@limerock.com
SUMMARY:Memorial Day Classic featuring Trans-Am & SVRA
DESCRIPTION:Experience the thunder of 500-horsepower American V8s in the TA and TA2 classes while top production-based GT cars battle it out in XGT\, SGT and GT. Classic Corvettes\, Jaguars\, MGs\, Mustangs\, Porsches and more feature in SVRA events that are a “rolling history” of motorsport. International GT\, a North American series including The Stuttgart Cup\, Mission Foods GT3 Cup Trophy and The Maranello Cup championships for late model Porsche and Ferrari competitors. \nDon’t miss the Royals’ Car Show on Sunday\, with proceeds going to charity. Charity to be announced. \nFor more information and tickets\, visit https://limerock.com/events/memorial-day-classic/
URL:https://limerock.com/event/memorialdayclassic2022/
LOCATION:Lime Rock Park
END:VEVENT
BEGIN:VEVENT
DTSTART;TZID=America/New_York:20220525T090000
DTEND;TZID=America/New_York:20220525T170000
DTSTAMP:20260420T124639
CREATED:20220214T205123Z
LAST-MODIFIED:20220214T205123Z
UID:979-1653469200-1653498000@limerock.com
SUMMARY:Hagerty Driving Academy - Skip Barber Racing School
DESCRIPTION:From Skip Barber Racing School: \nThe Hagerty Driving Academy teaches the survival skills needed to safely handle today’s challenging road conditions over the course of one full day. Using our race-proven teaching techniques\, everyone in the family can benefit – from the teenage driver to the more experienced racing enthusiast. Each course is a carefully constructed combination of classroom and behind-the-wheel instruction in an exciting variety of passenger vehicles including an array of classic standard shift cars from the 60’s\, 70’s\, and 80’s\, providing a unique and educational experience for all who participate in the program. Participants have the time of their lives – and learn the skills that could save them! \nFor more information\, please click here.
URL:https://limerock.com/event/hagerty-driving-academy-skip-barber-racing-school-2/
LOCATION:Lime Rock Park
END:VEVENT
BEGIN:VEVENT
DTSTART;TZID=America/New_York:20220523T080000
DTEND;TZID=America/New_York:20220525T170000
DTSTAMP:20260420T124639
CREATED:20220214T204507Z
LAST-MODIFIED:20220214T204507Z
UID:978-1653292800-1653498000@limerock.com
SUMMARY:Skip Barber 3 Day Racing School - Mustang GT
DESCRIPTION:From Skip Barber Racing School: \nThe Three Day Racing School is every driver’s gateway to motorsports and racing. This is Skip Barber Racing School’s signature product – with a curriculum that combines classroom sessions with practical hands on seat time. The Three Day Racing School is a prerequisite for racers interested in obtaining a club\, professional or international racing license. In this unique program\, students master the fundamentals of racing in classroom and driving sessions. The cars used in the program are our race prepared Mustang GT School Cars. The School Car has braking and cornering capabilities that vastly exceed any street or sports car. \nFor more information & registration\, please click here.
URL:https://limerock.com/event/sbrs0523/
LOCATION:Lime Rock Park
END:VEVENT
BEGIN:VEVENT
DTSTART;TZID=America/New_York:20220522T080000
DTEND;TZID=America/New_York:20220522T170000
DTSTAMP:20260420T124639
CREATED:20220214T203316Z
LAST-MODIFIED:20220405T125709Z
UID:976-1653206400-1653238800@limerock.com
SUMMARY:Lime Rock Cycling Grand Prix
DESCRIPTION:Atwood Racing Services\, LLC and Iron Bridge Consulting/Tarmac Cycling Team is proud to present the Lime Rock Cycling Grand Prix! \nFor more information & registration\, please click here.
URL:https://limerock.com/event/atwoodcyclinggp/
LOCATION:Lime Rock Park
END:VEVENT
BEGIN:VEVENT
DTSTART;TZID=America/New_York:20220521T100000
DTEND;TZID=America/New_York:20220521T180000
DTSTAMP:20260420T124639
CREATED:20220214T201635Z
LAST-MODIFIED:20220215T140410Z
UID:974-1653127200-1653156000@limerock.com
SUMMARY:Lime Rock Drivers Club Lapping Day
DESCRIPTION:The Lime Rock Drivers Club is hosting one of their regular track days. Looking to get out onto Lime Rock Park more frequently? Visit https://limerockclub.com to learn more about becoming a Drivers Club member.
URL:https://limerock.com/event/lrdc0521/
LOCATION:Lime Rock Park
CATEGORIES:Lime Rock Drivers Club
END:VEVENT
BEGIN:VEVENT
DTSTART;TZID=America/New_York:20220521T090000
DTEND;TZID=America/New_York:20220521T170000
DTSTAMP:20260420T124639
CREATED:20220214T202208Z
LAST-MODIFIED:20220406T150813Z
UID:975-1653123600-1653152400@limerock.com
SUMMARY:Autocross Lapping Day
DESCRIPTION:Lime Rock Park’s Autocross Lapping Days on the FCP Euro Proving Grounds are back! An AM (9am-1:30pm) and PM (1:30pm-6:00pm) session will be run on May 21st. \nAn Autocross Lapping Days is four and a half to five hours of fun for individuals or groups looking to drive their own car (most participants use their street car) in a performance setting with minimal investment. \n\n$325 registration fee per driver\, with max enrollment of 25 drivers\nLed by 3 professional Instructors to keep the event running smoothly and provide\ndriving feedback when needed.\n\nThis program is for you if you’re looking for: \n\nAn abundance of driving time in a run-group format that is conducive to drivers of all skill levels\nThe fewest obstacles and smallest time investment to participate in a performance driving event\nAffordable\, entry-level price point that is a bargain for the driving time provided. You’ll go home tired\, but with a smile on your face!\n\n  \nPlease click here to register for the 9am-1:30pm session. \nPlease click here to register for the 1:30pm-6pm session. \nTo be updated on all things FCP Euro Proving Grounds & Lime Rock Park\, visit https://limerock.com/fan-club/.
URL:https://limerock.com/event/ald0521/
LOCATION:FCP Euro Proving Grounds
END:VEVENT
BEGIN:VEVENT
DTSTART;TZID=America/New_York:20220520T100000
DTEND;TZID=America/New_York:20220520T170000
DTSTAMP:20260420T124639
CREATED:20220214T195418Z
LAST-MODIFIED:20220215T140410Z
UID:970-1653040800-1653066000@limerock.com
SUMMARY:Lime Rock Drivers Club Lapping Day
DESCRIPTION:The Lime Rock Drivers Club is hosting one of their regular track days. Looking to get out onto Lime Rock Park more frequently? Visit https://limerockclub.com to learn more about becoming a Drivers Club member.
URL:https://limerock.com/event/lrdc0520/
LOCATION:Lime Rock Park
CATEGORIES:Lime Rock Drivers Club
END:VEVENT
BEGIN:VEVENT
DTSTART;TZID=America/New_York:20220520T090000
DTEND;TZID=America/New_York:20220520T170000
DTSTAMP:20260420T124639
CREATED:20220214T200701Z
LAST-MODIFIED:20220214T200701Z
UID:971-1653037200-1653066000@limerock.com
SUMMARY:CT Electrathon
DESCRIPTION:CT Electrathon is back for 2022! High school students from around the state will be competing on the FCP Euro Proving Grounds to see who designed the fastest electric car. For more information\, please visit https://ctelectrathon.org/
URL:https://limerock.com/event/ct-electrathon0520/
LOCATION:FCP Euro Proving Grounds
END:VEVENT
BEGIN:VEVENT
DTSTART;TZID=America/New_York:20220519T090000
DTEND;TZID=America/New_York:20220521T170000
DTSTAMP:20260420T124639
CREATED:20220214T195207Z
LAST-MODIFIED:20220214T195207Z
UID:969-1652950800-1653152400@limerock.com
SUMMARY:NEQ Audi Club North America High Performance Driving School
DESCRIPTION:NEQ Audi Club North America – Northeast will be putting on a 3 day high performance driving school. For more information & registration\, please click here.
URL:https://limerock.com/event/neq0519/
LOCATION:Lime Rock Park
END:VEVENT
BEGIN:VEVENT
DTSTART;TZID=America/New_York:20220519T090000
DTEND;TZID=America/New_York:20220519T130000
DTSTAMP:20260420T124639
CREATED:20220214T194431Z
LAST-MODIFIED:20220214T194526Z
UID:968-1652950800-1652965200@limerock.com
SUMMARY:Aston Martin Owners Club Lime Rock Classic
DESCRIPTION:The Aston Martin Owner’s Club will be holding their annual Lime Rock Classic. For more information\, please click here.
URL:https://limerock.com/event/amoc22/
LOCATION:Lime Rock Park
END:VEVENT
BEGIN:VEVENT
DTSTART;TZID=America/New_York:20220516T090000
DTEND;TZID=America/New_York:20220518T170000
DTSTAMP:20260420T124639
CREATED:20220214T193619Z
LAST-MODIFIED:20220214T193619Z
UID:966-1652691600-1652893200@limerock.com
SUMMARY:Skip Barber 3 Day Racing School - Formula Car
DESCRIPTION:From Skip Barber Racing School: \nThe Three Day Racing School is every driver’s gateway to motorsports and racing. With a curriculum that combines classroom sessions with practical hands on seat time this is Skip Barber’s keystone program. The Three Day Racing School is a perfect starting point for racers interested in obtaining a club\, professional or international racing license and the motorsports enthusiast alike! In this unique program\, students master the fundamentals of racing in classroom and driving sessions. The cars used in the program are our Skip Barber Formula Car. \nFor more information\, please click here.
URL:https://limerock.com/event/sbrs0516/
LOCATION:Lime Rock Park
END:VEVENT
BEGIN:VEVENT
DTSTART;TZID=America/New_York:20220516T080000
DTEND;TZID=America/New_York:20220516T170000
DTSTAMP:20260420T124639
CREATED:20220214T193856Z
LAST-MODIFIED:20220214T193856Z
UID:967-1652688000-1652720400@limerock.com
SUMMARY:Skip Barber 1 Day Racing School - Formula Car
DESCRIPTION:From Skip Barber Racing School: \nThe One Day Racing School is the perfect program for the person new to racing. This day long experience allows the driver to experience our race prepared school cars on the race track. This school begins with an in-depth classroom session going over the racing line and vehicle dynamics. You will then build your car control skills in our vehicle dynamics drills. The program rapidly picks up the pace as you experience the thrill these high horsepower\, high grip race cars with lead follow laps on the race track! The cars used in the program are our Skip Barber Formula Car. \nFor more information & registration\, please click here.
URL:https://limerock.com/event/sbrs05162/
LOCATION:Lime Rock Park
END:VEVENT
BEGIN:VEVENT
DTSTART;TZID=America/New_York:20220515T090000
DTEND;TZID=America/New_York:20220515T130000
DTSTAMP:20260420T124639
CREATED:20220322T205126Z
LAST-MODIFIED:20220324T203509Z
UID:1399-1652605200-1652619600@limerock.com
SUMMARY:FCP Euro Sunday Motoring Meet - Porsche
DESCRIPTION:From FCP Euro: \n\n\n\nAn all-are-welcome casual gathering of automotive enthusiasts hosted by FCP Euro at beautiful Lime Rock Park.\n\n\n\n\n\nAbout this event\n\n\nIntroducing: The FCP Euro Sunday Motoring Meet series at Lime Rock Park! This 7-event series takes our original cars and coffee concept and dials it up for 2022. Over the years\, our Cars & Coffee events evolved from a small meet with only about 25 cars\, into must-attend events that saw over 700 vehicles packed into our small lot. Thanks to our partnership with Lime Rock Park we now have access to a world-class facility with nearly unlimited space. But these are about more than just cars and coffee – it’s about enjoying the drive to hang out at one of America’s most beautiful and historic racetracks. \nThe format of the Sunday Motoring Meets is as follows: \nFirst\, just like our Cars and Coffee events\, they are free of charge for everyone – no gate fee\, no nothing. \nSecond\, they’re also for all automotive enthusiasts – any make\, any model\, it doesn’t have to be European. This is about bringing together automotive enthusiasts of all kinds\, not just Euro car owners. \nThird\, each edition of the Sunday Motoring Meets will have a ‘featured marque’ that gets to line up on the famous Sam Posey Straight. All other brands will be just across the pit lane in the main paddock. Lime Rock concessions will be open\, or you can BYOC. \nFourth\, this is a family-friendly\, casual event. We need to be good neighbors and community members driving in and around Lime Rock Park. Absolutely no speeding\, revving\, 2-step/launch control\, intentional crackle tunes/general hooning will be accepted. If you do this you will be asked to not return to any future Sunday Motoring Meets. \nPorsche is the third featured marque of 2022. \nWe highly encourage all attendees to pre-register\, especially if you are in the featured marque! Please note\, only drivers need to be registered for car entry\, passengers do not need to be registered. The featured cars will be arranged by model/generation as best we are able based on pre-registration\, space\, and arrival time. \nCheck out FCP Euro’s full 2022 event schedule at events.fcpeuro.com! \nGroup Registration is available\, please contact us at events@fcpeuro.com to inquire/set up.
URL:https://limerock.com/event/fcp-euro-porsche/
LOCATION:Lime Rock Park
END:VEVENT
BEGIN:VEVENT
DTSTART;TZID=America/New_York:20220514T090000
DTEND;TZID=America/New_York:20220514T090000
DTSTAMP:20260420T124639
CREATED:20220214T192906Z
LAST-MODIFIED:20220214T192906Z
UID:965-1652518800-1652518800@limerock.com
SUMMARY:Trade Secrets Rare Plant & Garden Antiques Sale
DESCRIPTION:Trade Secrets\, one of (if not) the largest plant & garden sales in Connecticut\, will be coming to Lime Rock Park for 2022! This wonderful event supports the valuable work of Women’s Support Services in Sharon\, CT. \nStay tuned for more details. For more information\, please visit https://www.tradesecretsct.com/
URL:https://limerock.com/event/tradesecrets2022/
LOCATION:Lime Rock Park
END:VEVENT
BEGIN:VEVENT
DTSTART;TZID=America/New_York:20220513T090000
DTEND;TZID=America/New_York:20220513T170000
DTSTAMP:20260420T124639
CREATED:20220214T191752Z
LAST-MODIFIED:20220214T192233Z
UID:964-1652432400-1652461200@limerock.com
SUMMARY:SCDA Track Day
DESCRIPTION:The Sports Car Driving Association (SCDA) will be hosting one of their HPDE events! For more information & registration\, please click here.
URL:https://limerock.com/event/scda0513/
LOCATION:Lime Rock Park
END:VEVENT
BEGIN:VEVENT
DTSTART;TZID=America/New_York:20220511T100000
DTEND;TZID=America/New_York:20220511T120000
DTSTAMP:20260420T124639
CREATED:20220302T142749Z
LAST-MODIFIED:20220421T184559Z
UID:1215-1652263200-1652270400@limerock.com
SUMMARY:Track Tapas
DESCRIPTION:Track Tapas is the best way to sample the FCP Euro Proving Grounds and the road course in one day. \nTrack Tapas Day is a two-hour educational experience behind the wheel of your own car on both the FCP Euro Proving Grounds and the 1.5-mile road course. Suitable for beginner- or intermediate-level track drivers\, all sessions include expert coaching from our pros. \nProgram Highlights \n\nAny car or truck type accepted\nSmall group sizes (10 per group)\nGroup and one-on-one coaching\nOn-track\, lead-follow sessions get your up to speed quickly and safely\nMust be at least 18 years old with a valid driver’s license\n\nFor more information & registration\, please click here.
URL:https://limerock.com/event/tt0511/
LOCATION:Lime Rock Park
CATEGORIES:Track Tapas
END:VEVENT
BEGIN:VEVENT
DTSTART;TZID=America/New_York:20220511T090000
DTEND;TZID=America/New_York:20220511T110000
DTSTAMP:20260420T124639
CREATED:20220421T184543Z
LAST-MODIFIED:20220421T184543Z
UID:1600-1652259600-1652266800@limerock.com
SUMMARY:Track Tapas
DESCRIPTION:Track Tapas is the best way to sample the FCP Euro Proving Grounds and the road course in one day. \nTrack Tapas Day is a two-hour educational experience behind the wheel of your own car on both the FCP Euro Proving Grounds and the 1.5-mile road course. Suitable for beginner- or intermediate-level track drivers\, all sessions include expert coaching from our pros. \nProgram Highlights \n\nAny car or truck type accepted\nSmall group sizes (10 per group)\nGroup and one-on-one coaching\nOn-track\, lead-follow sessions get your up to speed quickly and safely\nMust be at least 18 years old with a valid driver’s license\n\nFor more information & registration\, please click here.
URL:https://limerock.com/event/track-tapas/
LOCATION:Lime Rock Park
END:VEVENT
BEGIN:VEVENT
DTSTART;TZID=America/New_York:20220510T130000
DTEND;TZID=America/New_York:20220510T170000
DTSTAMP:20260420T124639
CREATED:20220422T200020Z
LAST-MODIFIED:20220422T200020Z
UID:1602-1652187600-1652202000@limerock.com
SUMMARY:Lime Rock Drivers Club Lapping Day (Unmuffled)
DESCRIPTION:The Lime Rock Drivers Club will be on track for another one of their regularly scheduled driving days. \nWant more info on joining the Drivers Club? Visit https://limerockclub.com to learn more.
URL:https://limerock.com/event/lime-rock-drivers-club-lapping-day-unmuffled/
LOCATION:Lime Rock Park
CATEGORIES:Lime Rock Drivers Club,Unmuffled
END:VEVENT
BEGIN:VEVENT
DTSTART;TZID=America/New_York:20220509T090000
DTEND;TZID=America/New_York:20220509T170000
DTSTAMP:20260420T124639
CREATED:20220214T191219Z
LAST-MODIFIED:20220214T191219Z
UID:961-1652086800-1652115600@limerock.com
SUMMARY:PCA Connecticut Valley Region DE
DESCRIPTION:Porsche Club of America Connecticut Valley Region will be hosting a Driver Education day. For more information & registration\, please click here.
URL:https://limerock.com/event/pcacvr0509/
LOCATION:Lime Rock Park
END:VEVENT
END:VCALENDAR