


BEGIN:VCALENDAR
VERSION:2.0
PRODID:-//Lime Rock Park - ECPv6.15.20//NONSGML v1.0//EN
CALSCALE:GREGORIAN
METHOD:PUBLISH
X-WR-CALNAME:Lime Rock Park
X-ORIGINAL-URL:https://limerock.com
X-WR-CALDESC:Events for Lime Rock Park
REFRESH-INTERVAL;VALUE=DURATION:PT1H
X-Robots-Tag:noindex
X-PUBLISHED-TTL:PT1H
BEGIN:VTIMEZONE
TZID:America/New_York
BEGIN:DAYLIGHT
TZOFFSETFROM:-0500
TZOFFSETTO:-0400
TZNAME:EDT
DTSTART:20240310T070000
END:DAYLIGHT
BEGIN:STANDARD
TZOFFSETFROM:-0400
TZOFFSETTO:-0500
TZNAME:EST
DTSTART:20241103T060000
END:STANDARD
BEGIN:DAYLIGHT
TZOFFSETFROM:-0500
TZOFFSETTO:-0400
TZNAME:EDT
DTSTART:20250309T070000
END:DAYLIGHT
BEGIN:STANDARD
TZOFFSETFROM:-0400
TZOFFSETTO:-0500
TZNAME:EST
DTSTART:20251102T060000
END:STANDARD
BEGIN:DAYLIGHT
TZOFFSETFROM:-0500
TZOFFSETTO:-0400
TZNAME:EDT
DTSTART:20260308T070000
END:DAYLIGHT
BEGIN:STANDARD
TZOFFSETFROM:-0400
TZOFFSETTO:-0500
TZNAME:EST
DTSTART:20261101T060000
END:STANDARD
END:VTIMEZONE
BEGIN:VEVENT
DTSTART;TZID=America/New_York:20250604T100000
DTEND;TZID=America/New_York:20250604T120000
DTSTAMP:20260420T063928
CREATED:20250306T145553Z
LAST-MODIFIED:20250306T145553Z
UID:6666-1749031200-1749038400@limerock.com
SUMMARY:Track Tapas Day
DESCRIPTION:
URL:https://limerock.com/event/track-tapas-day-15/
END:VEVENT
BEGIN:VEVENT
DTSTART;TZID=America/New_York:20250604T130000
DTEND;TZID=America/New_York:20250604T170000
DTSTAMP:20260420T063928
CREATED:20250306T145558Z
LAST-MODIFIED:20250306T145558Z
UID:6667-1749042000-1749056400@limerock.com
SUMMARY:Autocross Lapping Day
DESCRIPTION:
URL:https://limerock.com/event/autocross-lapping-day-41/
LOCATION:FCP Euro Proving Grounds
END:VEVENT
BEGIN:VEVENT
DTSTART;TZID=America/New_York:20250605T090000
DTEND;TZID=America/New_York:20250605T170000
DTSTAMP:20260420T063928
CREATED:20250306T145601Z
LAST-MODIFIED:20250306T145601Z
UID:6669-1749114000-1749142800@limerock.com
SUMMARY:Endurance Karting
DESCRIPTION:
URL:https://limerock.com/event/endurance-karting-4/
LOCATION:FCP Euro Proving Grounds
END:VEVENT
BEGIN:VEVENT
DTSTART;TZID=America/New_York:20250605T140000
DTEND;TZID=America/New_York:20250605T180000
DTSTAMP:20260420T063928
CREATED:20250306T145600Z
LAST-MODIFIED:20250403T154348Z
UID:6668-1749132000-1749146400@limerock.com
SUMMARY:SCCA TNiA
DESCRIPTION:
URL:https://limerock.com/event/scca-tnia-3/
LOCATION:Lime Rock Park
END:VEVENT
BEGIN:VEVENT
DTSTART;TZID=America/New_York:20250606T090000
DTEND;TZID=America/New_York:20250606T130000
DTSTAMP:20260420T063928
CREATED:20250306T145605Z
LAST-MODIFIED:20250306T145605Z
UID:6671-1749200400-1749214800@limerock.com
SUMMARY:LRDC
DESCRIPTION:Check back for confirmed on-track times. Contact the Club Administrator to schedule your day.
URL:https://limerock.com/event/lrdc-10/
LOCATION:Lime Rock Park
END:VEVENT
BEGIN:VEVENT
DTSTART;TZID=America/New_York:20250606T090000
DTEND;TZID=America/New_York:20250606T170000
DTSTAMP:20260420T063928
CREATED:20250306T145604Z
LAST-MODIFIED:20250306T145604Z
UID:6670-1749200400-1749229200@limerock.com
SUMMARY:Endurance Karting
DESCRIPTION:
URL:https://limerock.com/event/endurance-karting-5/
LOCATION:FCP Euro Proving Grounds
END:VEVENT
BEGIN:VEVENT
DTSTART;TZID=America/New_York:20250607T090000
DTEND;TZID=America/New_York:20250607T130000
DTSTAMP:20260420T063928
CREATED:20250306T145630Z
LAST-MODIFIED:20250306T145630Z
UID:6673-1749286800-1749301200@limerock.com
SUMMARY:LRDC
DESCRIPTION:Check back for confirmed on-track times. Contact the Club Administrator to schedule your day.
URL:https://limerock.com/event/lrdc-11/
LOCATION:Lime Rock Park
END:VEVENT
BEGIN:VEVENT
DTSTART;TZID=America/New_York:20250607T090000
DTEND;TZID=America/New_York:20250607T180000
DTSTAMP:20260420T063928
CREATED:20250306T145628Z
LAST-MODIFIED:20250306T145628Z
UID:6672-1749286800-1749319200@limerock.com
SUMMARY:Endurance Karting
DESCRIPTION:
URL:https://limerock.com/event/endurance-karting-6/
LOCATION:FCP Euro Proving Grounds
END:VEVENT
BEGIN:VEVENT
DTSTART;TZID=America/New_York:20250607T130000
DTEND;TZID=America/New_York:20250607T180000
DTSTAMP:20260420T063928
CREATED:20250306T145631Z
LAST-MODIFIED:20250306T145631Z
UID:6674-1749301200-1749319200@limerock.com
SUMMARY:EMRA
DESCRIPTION:
URL:https://limerock.com/event/emra-2/
LOCATION:Lime Rock Park
END:VEVENT
BEGIN:VEVENT
DTSTART;TZID=America/New_York:20250608T110000
DTEND;TZID=America/New_York:20250608T150000
DTSTAMP:20260420T063928
CREATED:20250306T145633Z
LAST-MODIFIED:20250306T145633Z
UID:6675-1749380400-1749394800@limerock.com
SUMMARY:Great Country Mutt Show
DESCRIPTION:
URL:https://limerock.com/event/great-country-mutt-show/
LOCATION:FCP Euro Proving Grounds
END:VEVENT
BEGIN:VEVENT
DTSTART;TZID=America/New_York:20250609T090000
DTEND;TZID=America/New_York:20250609T170000
DTSTAMP:20260420T063928
CREATED:20250306T145634Z
LAST-MODIFIED:20250306T154941Z
UID:6676-1749459600-1749488400@limerock.com
SUMMARY:MassTuning HPDE
DESCRIPTION:
URL:https://limerock.com/event/masstuning-hpde-3/
LOCATION:Lime Rock Park
END:VEVENT
BEGIN:VEVENT
DTSTART;TZID=America/New_York:20250610T120000
DTEND;TZID=America/New_York:20250610T180000
DTSTAMP:20260420T063928
CREATED:20250306T145701Z
LAST-MODIFIED:20250306T145701Z
UID:6677-1749556800-1749578400@limerock.com
SUMMARY:MassTuning HPDE UM
DESCRIPTION:
URL:https://limerock.com/event/masstuning-hpde-um-2/
LOCATION:Lime Rock Park
END:VEVENT
BEGIN:VEVENT
DTSTART;TZID=America/New_York:20250611T130000
DTEND;TZID=America/New_York:20250611T170000
DTSTAMP:20260420T063928
CREATED:20250306T145703Z
LAST-MODIFIED:20250306T145703Z
UID:6678-1749646800-1749661200@limerock.com
SUMMARY:Autocross Lapping Day
DESCRIPTION:
URL:https://limerock.com/event/autocross-lapping-day-42/
LOCATION:FCP Euro Proving Grounds
END:VEVENT
BEGIN:VEVENT
DTSTART;TZID=America/New_York:20250612T090000
DTEND;TZID=America/New_York:20250612T130000
DTSTAMP:20260420T063928
CREATED:20250306T145706Z
LAST-MODIFIED:20250306T145706Z
UID:6680-1749718800-1749733200@limerock.com
SUMMARY:SCDA Car Control
DESCRIPTION:
URL:https://limerock.com/event/scda-car-control-4/
LOCATION:FCP Euro Proving Grounds
END:VEVENT
BEGIN:VEVENT
DTSTART;TZID=America/New_York:20250612T090000
DTEND;TZID=America/New_York:20250612T170000
DTSTAMP:20260420T063928
CREATED:20250306T145705Z
LAST-MODIFIED:20250306T145705Z
UID:6679-1749718800-1749747600@limerock.com
SUMMARY:SCDA HPDE
DESCRIPTION:
URL:https://limerock.com/event/scda-hpde-4/
LOCATION:Lime Rock Park
END:VEVENT
BEGIN:VEVENT
DTSTART;TZID=America/New_York:20250613T090000
DTEND;TZID=America/New_York:20250613T130000
DTSTAMP:20260420T063928
CREATED:20250306T145748Z
LAST-MODIFIED:20250306T145748Z
UID:6682-1749805200-1749819600@limerock.com
SUMMARY:Autocross Lapping Day
DESCRIPTION:
URL:https://limerock.com/event/autocross-lapping-day-43/
LOCATION:FCP Euro Proving Grounds
END:VEVENT
BEGIN:VEVENT
DTSTART;TZID=America/New_York:20250613T090000
DTEND;TZID=America/New_York:20250614T180000
DTSTAMP:20260420T063928
CREATED:20250306T145708Z
LAST-MODIFIED:20250306T145708Z
UID:6681-1749805200-1749924000@limerock.com
SUMMARY:SCCA NER Race UM
DESCRIPTION:
URL:https://limerock.com/event/scca-ner-race-um/
LOCATION:Lime Rock Park
END:VEVENT
BEGIN:VEVENT
DTSTART;TZID=America/New_York:20250614T090000
DTEND;TZID=America/New_York:20250614T170000
DTSTAMP:20260420T063928
CREATED:20250306T145749Z
LAST-MODIFIED:20250306T145749Z
UID:6683-1749891600-1749920400@limerock.com
SUMMARY:ProTouring
DESCRIPTION:
URL:https://limerock.com/event/protouring-2/
LOCATION:FCP Euro Proving Grounds
END:VEVENT
BEGIN:VEVENT
DTSTART;TZID=America/New_York:20250617T130000
DTEND;TZID=America/New_York:20250617T170000
DTSTAMP:20260420T063928
CREATED:20250306T145750Z
LAST-MODIFIED:20250306T145750Z
UID:6684-1750165200-1750179600@limerock.com
SUMMARY:LRDC UM
DESCRIPTION:Check back for confirmed on-track times. Contact the Club Administrator to schedule your day.
URL:https://limerock.com/event/lrdc-um-3/
LOCATION:Lime Rock Park
END:VEVENT
BEGIN:VEVENT
DTSTART;TZID=America/New_York:20250618T100000
DTEND;TZID=America/New_York:20250618T150000
DTSTAMP:20260420T063928
CREATED:20250306T145752Z
LAST-MODIFIED:20250306T145752Z
UID:6685-1750240800-1750258800@limerock.com
SUMMARY:Private Event - No Public Access
DESCRIPTION:
URL:https://limerock.com/event/private-event-no-public-access-32/
LOCATION:Lime Rock Park
END:VEVENT
BEGIN:VEVENT
DTSTART;TZID=America/New_York:20250620T090000
DTEND;TZID=America/New_York:20250620T130000
DTSTAMP:20260420T063928
CREATED:20250306T145753Z
LAST-MODIFIED:20250306T145753Z
UID:6686-1750410000-1750424400@limerock.com
SUMMARY:LRDC
DESCRIPTION:Check back for confirmed on-track times. Contact the Club Administrator to schedule your day.
URL:https://limerock.com/event/lrdc-12/
LOCATION:Lime Rock Park
END:VEVENT
BEGIN:VEVENT
DTSTART;TZID=America/New_York:20250620T130000
DTEND;TZID=America/New_York:20250620T170000
DTSTAMP:20260420T063928
CREATED:20250306T145829Z
LAST-MODIFIED:20250306T145829Z
UID:6687-1750424400-1750438800@limerock.com
SUMMARY:BMW CCA Patroon Chapter
DESCRIPTION:
URL:https://limerock.com/event/bmw-cca-patroon-chapter/
LOCATION:Lime Rock Park
END:VEVENT
BEGIN:VEVENT
DTSTART;TZID=America/New_York:20250620T130000
DTEND;TZID=America/New_York:20250620T170000
DTSTAMP:20260420T063928
CREATED:20250306T145831Z
LAST-MODIFIED:20250306T145831Z
UID:6688-1750424400-1750438800@limerock.com
SUMMARY:Autocross Lapping Day
DESCRIPTION:
URL:https://limerock.com/event/autocross-lapping-day-44/
LOCATION:FCP Euro Proving Grounds
END:VEVENT
BEGIN:VEVENT
DTSTART;TZID=America/New_York:20250621T090000
DTEND;TZID=America/New_York:20250621T160000
DTSTAMP:20260420T063928
CREATED:20250306T145832Z
LAST-MODIFIED:20250306T145832Z
UID:6689-1750496400-1750521600@limerock.com
SUMMARY:LRDC A9 Race
DESCRIPTION:Check back for confirmed on-track times. Contact the Club Administrator to schedule your day.
URL:https://limerock.com/event/lrdc-a9-race-2/
LOCATION:Lime Rock Park
END:VEVENT
BEGIN:VEVENT
DTSTART;TZID=America/New_York:20250621T090000
DTEND;TZID=America/New_York:20250621T170000
DTSTAMP:20260420T063928
CREATED:20250306T145835Z
LAST-MODIFIED:20250306T145835Z
UID:6691-1750496400-1750525200@limerock.com
SUMMARY:FCSCC
DESCRIPTION:
URL:https://limerock.com/event/fcscc-3/
END:VEVENT
BEGIN:VEVENT
DTSTART;TZID=America/New_York:20250621T090000
DTEND;TZID=America/New_York:20250621T170000
DTSTAMP:20260420T063928
CREATED:20250306T150033Z
LAST-MODIFIED:20250306T150033Z
UID:6692-1750496400-1750525200@limerock.com
SUMMARY:Modified Machines
DESCRIPTION:
URL:https://limerock.com/event/modified-machines-5/
LOCATION:FCP Euro Proving Grounds
END:VEVENT
BEGIN:VEVENT
DTSTART;TZID=America/New_York:20250621T100000
DTEND;TZID=America/New_York:20250621T170000
DTSTAMP:20260420T063928
CREATED:20250306T145834Z
LAST-MODIFIED:20250306T145834Z
UID:6690-1750500000-1750525200@limerock.com
SUMMARY:BMW CCA Patroon Chapter A10
DESCRIPTION:
URL:https://limerock.com/event/bmw-cca-patroon-chapter-a10/
LOCATION:Lime Rock Park
END:VEVENT
BEGIN:VEVENT
DTSTART;TZID=America/New_York:20250623T090000
DTEND;TZID=America/New_York:20250624T170000
DTSTAMP:20260420T063928
CREATED:20250306T150034Z
LAST-MODIFIED:20250306T150034Z
UID:6693-1750669200-1750784400@limerock.com
SUMMARY:Private Event - No Public Access
DESCRIPTION:
URL:https://limerock.com/event/private-event-no-public-access-33/
LOCATION:Lime Rock Park
END:VEVENT
BEGIN:VEVENT
DTSTART;TZID=America/New_York:20250625T090000
DTEND;TZID=America/New_York:20250625T110000
DTSTAMP:20260420T063928
CREATED:20250306T150035Z
LAST-MODIFIED:20250306T150035Z
UID:6694-1750842000-1750849200@limerock.com
SUMMARY:Track Tapas Day
DESCRIPTION:
URL:https://limerock.com/event/track-tapas-day-16/
END:VEVENT
BEGIN:VEVENT
DTSTART;TZID=America/New_York:20250625T130000
DTEND;TZID=America/New_York:20250625T170000
DTSTAMP:20260420T063928
CREATED:20250306T150036Z
LAST-MODIFIED:20250306T150036Z
UID:6695-1750856400-1750870800@limerock.com
SUMMARY:Autocross Lapping Day
DESCRIPTION:
URL:https://limerock.com/event/autocross-lapping-day-45/
LOCATION:FCP Euro Proving Grounds
END:VEVENT
END:VCALENDAR