


BEGIN:VCALENDAR
VERSION:2.0
PRODID:-//Lime Rock Park - ECPv6.15.20//NONSGML v1.0//EN
CALSCALE:GREGORIAN
METHOD:PUBLISH
X-ORIGINAL-URL:https://limerock.com
X-WR-CALDESC:Events for Lime Rock Park
REFRESH-INTERVAL;VALUE=DURATION:PT1H
X-Robots-Tag:noindex
X-PUBLISHED-TTL:PT1H
BEGIN:VTIMEZONE
TZID:America/New_York
BEGIN:DAYLIGHT
TZOFFSETFROM:-0500
TZOFFSETTO:-0400
TZNAME:EDT
DTSTART:20250309T070000
END:DAYLIGHT
BEGIN:STANDARD
TZOFFSETFROM:-0400
TZOFFSETTO:-0500
TZNAME:EST
DTSTART:20251102T060000
END:STANDARD
BEGIN:DAYLIGHT
TZOFFSETFROM:-0500
TZOFFSETTO:-0400
TZNAME:EDT
DTSTART:20260308T070000
END:DAYLIGHT
BEGIN:STANDARD
TZOFFSETFROM:-0400
TZOFFSETTO:-0500
TZNAME:EST
DTSTART:20261101T060000
END:STANDARD
BEGIN:DAYLIGHT
TZOFFSETFROM:-0500
TZOFFSETTO:-0400
TZNAME:EDT
DTSTART:20270314T070000
END:DAYLIGHT
BEGIN:STANDARD
TZOFFSETFROM:-0400
TZOFFSETTO:-0500
TZNAME:EST
DTSTART:20271107T060000
END:STANDARD
END:VTIMEZONE
BEGIN:VEVENT
DTSTART;TZID=America/New_York:20260624T130000
DTEND;TZID=America/New_York:20260624T170000
DTSTAMP:20260419T105543
CREATED:20260323T142107Z
LAST-MODIFIED:20260323T142107Z
UID:8400-1782306000-1782320400@limerock.com
SUMMARY:Autocross Lapping Day
DESCRIPTION:Led by professional instructors on the FCP Euro Proving Grounds\, the Autocross Lapping Days give you the chance to test your skills in performance driving.
URL:https://limerock.com/event/autocross-lapping-day-102/
LOCATION:FCP Euro Proving Grounds
END:VEVENT
BEGIN:VEVENT
DTSTART;TZID=America/New_York:20260626T090000
DTEND;TZID=America/New_York:20260626T170000
DTSTAMP:20260419T105543
CREATED:20260324T184139Z
LAST-MODIFIED:20260324T184139Z
UID:8409-1782464400-1782493200@limerock.com
SUMMARY:Gorman Performance Engineering AX
DESCRIPTION:We will be running three classes on a fast and fun course layout that includes elevation changes\, a mix of corner profiles\, and other elements you typically don’t see at an autocross.
URL:https://limerock.com/event/gorman-performance-engineering-ax/
LOCATION:FCP Euro Proving Grounds
END:VEVENT
BEGIN:VEVENT
DTSTART;TZID=America/New_York:20260627T090000
DTEND;TZID=America/New_York:20260627T180000
DTSTAMP:20260419T105543
CREATED:20260324T184149Z
LAST-MODIFIED:20260324T184149Z
UID:8413-1782550800-1782583200@limerock.com
SUMMARY:Velocity Driving Events AX
DESCRIPTION:You can experience everything these cars have to offer on our custom-designed autocross agility courses at various locations across the country.
URL:https://limerock.com/event/velocity-driving-events-ax/
LOCATION:FCP Euro Proving Grounds
END:VEVENT
BEGIN:VEVENT
DTSTART;TZID=America/New_York:20260703T130000
DTEND;TZID=America/New_York:20260703T170000
DTSTAMP:20260419T105543
CREATED:20260324T184153Z
LAST-MODIFIED:20260324T184153Z
UID:8416-1783083600-1783098000@limerock.com
SUMMARY:Karting
DESCRIPTION:Get in the drivers seat on the FCP Euro Proving Grounds\, a half-mile track complete with tight turns & elevation changes\, set against the picturesque backdrop here at Lime Rock Park.
URL:https://limerock.com/event/karting-28/
LOCATION:FCP Euro Proving Grounds
END:VEVENT
BEGIN:VEVENT
DTSTART;TZID=America/New_York:20260714T130000
DTEND;TZID=America/New_York:20260714T170000
DTSTAMP:20260419T105543
CREATED:20260324T184222Z
LAST-MODIFIED:20260324T184222Z
UID:8421-1784034000-1784048400@limerock.com
SUMMARY:Autocross Lapping Day
DESCRIPTION:Led by professional instructors on the FCP Euro Proving Grounds\, the Autocross Lapping Days give you the chance to test your skills in performance driving.
URL:https://limerock.com/event/autocross-lapping-day-103/
LOCATION:FCP Euro Proving Grounds
END:VEVENT
BEGIN:VEVENT
DTSTART;TZID=America/New_York:20260716T130000
DTEND;TZID=America/New_York:20260716T170000
DTSTAMP:20260419T105543
CREATED:20260324T184427Z
LAST-MODIFIED:20260324T184427Z
UID:8425-1784206800-1784221200@limerock.com
SUMMARY:Autocross Lapping Day
DESCRIPTION:Led by professional instructors on the FCP Euro Proving Grounds\, the Autocross Lapping Days give you the chance to test your skills in performance driving.
URL:https://limerock.com/event/autocross-lapping-day-104/
LOCATION:FCP Euro Proving Grounds
END:VEVENT
BEGIN:VEVENT
DTSTART;TZID=America/New_York:20260717T130000
DTEND;TZID=America/New_York:20260717T170000
DTSTAMP:20260419T105543
CREATED:20260324T184430Z
LAST-MODIFIED:20260324T184430Z
UID:8427-1784293200-1784307600@limerock.com
SUMMARY:Autocross Lapping Day
DESCRIPTION:Led by professional instructors on the FCP Euro Proving Grounds\, the Autocross Lapping Days give you the chance to test your skills in performance driving.
URL:https://limerock.com/event/autocross-lapping-day-105/
LOCATION:FCP Euro Proving Grounds
END:VEVENT
BEGIN:VEVENT
DTSTART;TZID=America/New_York:20260717T170000
DTEND;TZID=America/New_York:20260717T190000
DTSTAMP:20260419T105543
CREATED:20260324T184523Z
LAST-MODIFIED:20260324T184523Z
UID:8428-1784307600-1784314800@limerock.com
SUMMARY:Karting
DESCRIPTION:Get in the drivers seat on the FCP Euro Proving Grounds\, a half-mile track complete with tight turns & elevation changes\, set against the picturesque backdrop here at Lime Rock Park.
URL:https://limerock.com/event/karting-29/
LOCATION:FCP Euro Proving Grounds
END:VEVENT
BEGIN:VEVENT
DTSTART;TZID=America/New_York:20260718T090000
DTEND;TZID=America/New_York:20260718T170000
DTSTAMP:20260419T105543
CREATED:20260324T184526Z
LAST-MODIFIED:20260324T184526Z
UID:8430-1784365200-1784394000@limerock.com
SUMMARY:Nutmeg Miata
DESCRIPTION:Auto Cross at Lime Rock\, taking a run through the twisty back roads\, or a day trip to a Vermont winery… We like to drive.
URL:https://limerock.com/event/nutmeg-miata-3/
LOCATION:FCP Euro Proving Grounds
END:VEVENT
BEGIN:VEVENT
DTSTART;TZID=America/New_York:20260724T130000
DTEND;TZID=America/New_York:20260724T170000
DTSTAMP:20260419T105543
CREATED:20260324T184845Z
LAST-MODIFIED:20260324T184845Z
UID:8436-1784898000-1784912400@limerock.com
SUMMARY:Autocross Lapping Day
DESCRIPTION:Led by professional instructors on the FCP Euro Proving Grounds\, the Autocross Lapping Days give you the chance to test your skills in performance driving.
URL:https://limerock.com/event/autocross-lapping-day-106/
LOCATION:FCP Euro Proving Grounds
END:VEVENT
BEGIN:VEVENT
DTSTART;TZID=America/New_York:20260724T170000
DTEND;TZID=America/New_York:20260724T190000
DTSTAMP:20260419T105543
CREATED:20260324T184846Z
LAST-MODIFIED:20260324T184846Z
UID:8437-1784912400-1784919600@limerock.com
SUMMARY:Karting
DESCRIPTION:Get in the drivers seat on the FCP Euro Proving Grounds\, a half-mile track complete with tight turns & elevation changes\, set against the picturesque backdrop here at Lime Rock Park.
URL:https://limerock.com/event/karting-30/
LOCATION:FCP Euro Proving Grounds
END:VEVENT
BEGIN:VEVENT
DTSTART;TZID=America/New_York:20260725T090000
DTEND;TZID=America/New_York:20260725T170000
DTSTAMP:20260419T105543
CREATED:20260324T185042Z
LAST-MODIFIED:20260324T185042Z
UID:8440-1784970000-1784998800@limerock.com
SUMMARY:NY/CT Viper AX
DESCRIPTION:The Viper Owners Association of NY/CT is the one-and-only\, original club for Dodge/SRT Viper owners in New York and Connecticut.
URL:https://limerock.com/event/ny-ct-viper-ax-2/
LOCATION:FCP Euro Proving Grounds
END:VEVENT
BEGIN:VEVENT
DTSTART;TZID=America/New_York:20260729T130000
DTEND;TZID=America/New_York:20260729T170000
DTSTAMP:20260419T105543
CREATED:20260324T185248Z
LAST-MODIFIED:20260324T185248Z
UID:8443-1785330000-1785344400@limerock.com
SUMMARY:Autocross Lapping Day
DESCRIPTION:Led by professional instructors on the FCP Euro Proving Grounds\, the Autocross Lapping Days give you the chance to test your skills in performance driving.
URL:https://limerock.com/event/autocross-lapping-day-107/
LOCATION:FCP Euro Proving Grounds
END:VEVENT
BEGIN:VEVENT
DTSTART;TZID=America/New_York:20260731T090000
DTEND;TZID=America/New_York:20260731T130000
DTSTAMP:20260419T105543
CREATED:20260324T185253Z
LAST-MODIFIED:20260324T185253Z
UID:8446-1785488400-1785502800@limerock.com
SUMMARY:Autocross Lapping Day
DESCRIPTION:Led by professional instructors on the FCP Euro Proving Grounds\, the Autocross Lapping Days give you the chance to test your skills in performance driving.
URL:https://limerock.com/event/autocross-lapping-day-108/
LOCATION:FCP Euro Proving Grounds
END:VEVENT
BEGIN:VEVENT
DTSTART;TZID=America/New_York:20260731T130000
DTEND;TZID=America/New_York:20260731T170000
DTSTAMP:20260419T105543
CREATED:20260324T185255Z
LAST-MODIFIED:20260324T185255Z
UID:8447-1785502800-1785517200@limerock.com
SUMMARY:Karting
DESCRIPTION:Get in the drivers seat on the FCP Euro Proving Grounds\, a half-mile track complete with tight turns & elevation changes\, set against the picturesque backdrop here at Lime Rock Park.
URL:https://limerock.com/event/karting-31/
LOCATION:FCP Euro Proving Grounds
END:VEVENT
BEGIN:VEVENT
DTSTART;TZID=America/New_York:20260801T100000
DTEND;TZID=America/New_York:20260801T160000
DTSTAMP:20260419T105543
CREATED:20260324T185445Z
LAST-MODIFIED:20260324T185445Z
UID:8449-1785578400-1785600000@limerock.com
SUMMARY:Porsches at the Rock
DESCRIPTION:From over 4\,000 local and national events including driving activities\, social gatherings\, autocross\, track days\, high performance driver education\, club racing\, tech sessions\, car shows\, insider exclusives and premieres: there’s something for everyone at PCA.
URL:https://limerock.com/event/porsches-at-the-rock/
LOCATION:FCP Euro Proving Grounds
END:VEVENT
BEGIN:VEVENT
DTSTART;TZID=America/New_York:20260801T170000
DTEND;TZID=America/New_York:20260801T190000
DTSTAMP:20260419T105543
CREATED:20260324T185443Z
LAST-MODIFIED:20260324T185443Z
UID:8448-1785603600-1785610800@limerock.com
SUMMARY:Karting
DESCRIPTION:Get in the drivers seat on the FCP Euro Proving Grounds\, a half-mile track complete with tight turns & elevation changes\, set against the picturesque backdrop here at Lime Rock Park.
URL:https://limerock.com/event/karting-32/
LOCATION:FCP Euro Proving Grounds
END:VEVENT
BEGIN:VEVENT
DTSTART;TZID=America/New_York:20260807T130000
DTEND;TZID=America/New_York:20260807T170000
DTSTAMP:20260419T105543
CREATED:20260324T185645Z
LAST-MODIFIED:20260324T185645Z
UID:8453-1786107600-1786122000@limerock.com
SUMMARY:Autocross Lapping Day
DESCRIPTION:Led by professional instructors on the FCP Euro Proving Grounds\, the Autocross Lapping Days give you the chance to test your skills in performance driving.
URL:https://limerock.com/event/autocross-lapping-day-109/
LOCATION:FCP Euro Proving Grounds
END:VEVENT
BEGIN:VEVENT
DTSTART;TZID=America/New_York:20260807T170000
DTEND;TZID=America/New_York:20260807T190000
DTSTAMP:20260419T105543
CREATED:20260324T185647Z
LAST-MODIFIED:20260324T185647Z
UID:8454-1786122000-1786129200@limerock.com
SUMMARY:Karting
DESCRIPTION:Get in the drivers seat on the FCP Euro Proving Grounds\, a half-mile track complete with tight turns & elevation changes\, set against the picturesque backdrop here at Lime Rock Park.
URL:https://limerock.com/event/karting-33/
LOCATION:FCP Euro Proving Grounds
END:VEVENT
BEGIN:VEVENT
DTSTART;TZID=America/New_York:20260808T130000
DTEND;TZID=America/New_York:20260808T170000
DTSTAMP:20260419T105543
CREATED:20260324T190338Z
LAST-MODIFIED:20260324T190338Z
UID:8458-1786194000-1786208400@limerock.com
SUMMARY:Autocross Lapping Day
DESCRIPTION:Led by professional instructors on the FCP Euro Proving Grounds\, the Autocross Lapping Days give you the chance to test your skills in performance driving.
URL:https://limerock.com/event/autocross-lapping-day-110/
LOCATION:FCP Euro Proving Grounds
END:VEVENT
BEGIN:VEVENT
DTSTART;TZID=America/New_York:20260808T170000
DTEND;TZID=America/New_York:20260808T190000
DTSTAMP:20260419T105543
CREATED:20260324T190340Z
LAST-MODIFIED:20260324T190340Z
UID:8459-1786208400-1786215600@limerock.com
SUMMARY:Karting
DESCRIPTION:Get in the drivers seat on the FCP Euro Proving Grounds\, a half-mile track complete with tight turns & elevation changes\, set against the picturesque backdrop here at Lime Rock Park.
URL:https://limerock.com/event/karting-34/
LOCATION:FCP Euro Proving Grounds
END:VEVENT
BEGIN:VEVENT
DTSTART;TZID=America/New_York:20260811T120000
DTEND;TZID=America/New_York:20260811T170000
DTSTAMP:20260419T105543
CREATED:20260324T190344Z
LAST-MODIFIED:20260324T190344Z
UID:8462-1786449600-1786467600@limerock.com
SUMMARY:Advanced Driver Coaching
DESCRIPTION:The Advanced Driver Coaching program is four and half to five hours long for experienced track drivers and enthusiasts looking to get more out of their own abilities in their own vehicle (race car or street car).
URL:https://limerock.com/event/advanced-driver-coaching-7/
LOCATION:FCP Euro Proving Grounds
END:VEVENT
BEGIN:VEVENT
DTSTART;TZID=America/New_York:20260812T130000
DTEND;TZID=America/New_York:20260812T170000
DTSTAMP:20260419T105543
CREATED:20260324T190540Z
LAST-MODIFIED:20260324T190540Z
UID:8465-1786539600-1786554000@limerock.com
SUMMARY:Autocross Lapping Day
DESCRIPTION:Led by professional instructors on the FCP Euro Proving Grounds\, the Autocross Lapping Days give you the chance to test your skills in performance driving.
URL:https://limerock.com/event/autocross-lapping-day-111/
LOCATION:FCP Euro Proving Grounds
END:VEVENT
BEGIN:VEVENT
DTSTART;TZID=America/New_York:20260814T090000
DTEND;TZID=America/New_York:20260814T130000
DTSTAMP:20260419T105543
CREATED:20260324T190739Z
LAST-MODIFIED:20260324T190739Z
UID:8468-1786698000-1786712400@limerock.com
SUMMARY:Autocross Lapping Day
DESCRIPTION:Led by professional instructors on the FCP Euro Proving Grounds\, the Autocross Lapping Days give you the chance to test your skills in performance driving.
URL:https://limerock.com/event/autocross-lapping-day-112/
LOCATION:FCP Euro Proving Grounds
END:VEVENT
BEGIN:VEVENT
DTSTART;TZID=America/New_York:20260819T130000
DTEND;TZID=America/New_York:20260819T170000
DTSTAMP:20260419T105543
CREATED:20260324T190948Z
LAST-MODIFIED:20260324T190948Z
UID:8474-1787144400-1787158800@limerock.com
SUMMARY:Autocross Lapping Day
DESCRIPTION:Led by professional instructors on the FCP Euro Proving Grounds\, the Autocross Lapping Days give you the chance to test your skills in performance driving.
URL:https://limerock.com/event/autocross-lapping-day-113/
LOCATION:FCP Euro Proving Grounds
END:VEVENT
BEGIN:VEVENT
DTSTART;TZID=America/New_York:20260828T130000
DTEND;TZID=America/New_York:20260828T170000
DTSTAMP:20260419T105543
CREATED:20260324T191144Z
LAST-MODIFIED:20260324T191144Z
UID:8482-1787922000-1787936400@limerock.com
SUMMARY:Autocross Lapping Day
DESCRIPTION:Led by professional instructors on the FCP Euro Proving Grounds\, the Autocross Lapping Days give you the chance to test your skills in performance driving.
URL:https://limerock.com/event/autocross-lapping-day-114/
LOCATION:FCP Euro Proving Grounds
END:VEVENT
BEGIN:VEVENT
DTSTART;TZID=America/New_York:20260828T170000
DTEND;TZID=America/New_York:20260828T190000
DTSTAMP:20260419T105543
CREATED:20260324T191343Z
LAST-MODIFIED:20260324T191343Z
UID:8483-1787936400-1787943600@limerock.com
SUMMARY:Karting
DESCRIPTION:Get in the drivers seat on the FCP Euro Proving Grounds\, a half-mile track complete with tight turns & elevation changes\, set against the picturesque backdrop here at Lime Rock Park.
URL:https://limerock.com/event/karting-35/
LOCATION:FCP Euro Proving Grounds
END:VEVENT
BEGIN:VEVENT
DTSTART;TZID=America/New_York:20260829T170000
DTEND;TZID=America/New_York:20260829T190000
DTSTAMP:20260419T105543
CREATED:20260324T191348Z
LAST-MODIFIED:20260324T191348Z
UID:8486-1788022800-1788030000@limerock.com
SUMMARY:Larz Anderson
DESCRIPTION:You will learn and practice the fundamentals of car control\, making you a safer driver both on the road and on the track. Three professional instructors from the Skip Barber Racing School will oversee the event\, providing feedback to help you improve and go faster!
URL:https://limerock.com/event/larz-anderson/
LOCATION:FCP Euro Proving Grounds
END:VEVENT
BEGIN:VEVENT
DTSTART;TZID=America/New_York:20260831T130000
DTEND;TZID=America/New_York:20260831T170000
DTSTAMP:20260419T105543
CREATED:20260324T191349Z
LAST-MODIFIED:20260324T191349Z
UID:8487-1788181200-1788195600@limerock.com
SUMMARY:Autocross Lapping Day
DESCRIPTION:Led by professional instructors on the FCP Euro Proving Grounds\, the Autocross Lapping Days give you the chance to test your skills in performance driving.
URL:https://limerock.com/event/autocross-lapping-day-115/
LOCATION:FCP Euro Proving Grounds
END:VEVENT
BEGIN:VEVENT
DTSTART;TZID=America/New_York:20260912T090000
DTEND;TZID=America/New_York:20260912T180000
DTSTAMP:20260419T105543
CREATED:20260324T195117Z
LAST-MODIFIED:20260324T195117Z
UID:8496-1789203600-1789236000@limerock.com
SUMMARY:Velocity Driving Events AX
DESCRIPTION:You can experience everything these cars have to offer on our custom-designed autocross agility courses at various locations across the country.
URL:https://limerock.com/event/velocity-driving-events-ax-2/
LOCATION:FCP Euro Proving Grounds
END:VEVENT
END:VCALENDAR